BEGIN:VCALENDAR
VERSION:2.0
PRODID:-//ShapeShifter Plus - ECPv6.15.20//NONSGML v1.0//EN
CALSCALE:GREGORIAN
METHOD:PUBLISH
X-ORIGINAL-URL:https://shapeshifterplus.org
X-WR-CALDESC:Events for ShapeShifter Plus
REFRESH-INTERVAL;VALUE=DURATION:PT1H
X-Robots-Tag:noindex
X-PUBLISHED-TTL:PT1H
BEGIN:VTIMEZONE
TZID:America/New_York
BEGIN:DAYLIGHT
TZOFFSETFROM:-0500
TZOFFSETTO:-0400
TZNAME:EDT
DTSTART:20240310T070000
END:DAYLIGHT
BEGIN:STANDARD
TZOFFSETFROM:-0400
TZOFFSETTO:-0500
TZNAME:EST
DTSTART:20241103T060000
END:STANDARD
BEGIN:DAYLIGHT
TZOFFSETFROM:-0500
TZOFFSETTO:-0400
TZNAME:EDT
DTSTART:20250309T070000
END:DAYLIGHT
BEGIN:STANDARD
TZOFFSETFROM:-0400
TZOFFSETTO:-0500
TZNAME:EST
DTSTART:20251102T060000
END:STANDARD
BEGIN:DAYLIGHT
TZOFFSETFROM:-0500
TZOFFSETTO:-0400
TZNAME:EDT
DTSTART:20260308T070000
END:DAYLIGHT
BEGIN:STANDARD
TZOFFSETFROM:-0400
TZOFFSETTO:-0500
TZNAME:EST
DTSTART:20261101T060000
END:STANDARD
END:VTIMEZONE
BEGIN:VEVENT
DTSTART;TZID=America/New_York:20250801T190000
DTEND;TZID=America/New_York:20250801T200000
DTSTAMP:20260423T173034
CREATED:20250702T213257Z
LAST-MODIFIED:20250719T023730Z
UID:45684-1754074800-1754078400@shapeshifterplus.org
SUMMARY:SHAKEY – An Evening with Neil Young...Almost
DESCRIPTION:“Imagine it’s 1970 and you’re watching Neil Young perform at The Bitter End in the Village\, The Cellar Door in Georgetown\, or Massey Hall in\n\n\nBriz has been performing his Neil Young tribute show\, SHAKEY\, at venues across the country. \n \n“Imagine it’s 1970 and you’re watching Neil Young perform at The Bitter End in the Village\, The Cellar Door in Georgetown\, or Massey Hall in Toronto sometime in ’71. \n \n“In addition to the music\, Briz includes narratives about the songs\, offering a Journey Through the Past of Neil’s legendary career.And of course\, there will be plenty of flannel.
URL:https://shapeshifterplus.org/event/shakey-an-evening-with-neil-young-almost/
LOCATION:ShapeShifter Lab\, 837 Union Street\, Ground Floor\, Brooklyn\, NY\, 11215\, United States
ATTACH;FMTTYPE=image/jpeg:https://shapeshifterplus.org/wp-content/uploads/2025/07/03e61c2ba94228223452fcc5477be57a-sSHoPU.tmp_.jpg
END:VEVENT
BEGIN:VEVENT
DTSTART;TZID=America/New_York:20250810T190000
DTEND;TZID=America/New_York:20250810T200000
DTSTAMP:20260423T173034
CREATED:20250721T010656Z
LAST-MODIFIED:20250721T013321Z
UID:45781-1754852400-1754856000@shapeshifterplus.org
SUMMARY:Tim Miller
DESCRIPTION:Guitarist Tim Miller playing original compositions.\n\n\n\nTim Miller – Guitar\nSantiago Bosch – Keyboard\nJoshua Davis – Bass\nCliff Almond – Drums
URL:https://shapeshifterplus.org/event/tim-miller-trio/
LOCATION:ShapeShifter Lab\, 837 Union Street\, Ground Floor\, Brooklyn\, NY\, 11215\, United States
CATEGORIES:Live Music,Open Call Program
ATTACH;FMTTYPE=image/jpeg:https://shapeshifterplus.org/wp-content/uploads/2025/07/72a15866a28a3e161dabe9a0b48bc1f6-0dhhIN.tmp_.jpg
END:VEVENT
BEGIN:VEVENT
DTSTART;TZID=America/New_York:20250813T190000
DTEND;TZID=America/New_York:20250813T210000
DTSTAMP:20260423T173034
CREATED:20250806T174145Z
LAST-MODIFIED:20250807T151145Z
UID:45851-1755111600-1755118800@shapeshifterplus.org
SUMMARY:ShapeShifter - The New JAM
DESCRIPTION:ShapeShifter Lab is where outside-the-box thinkers find their creative home – JAM with us!
URL:https://shapeshifterplus.org/event/shapeshifter-the-new-jam/
LOCATION:ShapeShifter Lab\, 837 Union Street\, Ground Floor\, Brooklyn\, NY\, 11215\, United States
END:VEVENT
BEGIN:VEVENT
DTSTART;TZID=America/New_York:20250817T190000
DTEND;TZID=America/New_York:20250817T200000
DTSTAMP:20260423T173034
CREATED:20250730T151208Z
LAST-MODIFIED:20250814T134831Z
UID:45811-1755457200-1755460800@shapeshifterplus.org
SUMMARY:Jan Sturiale Trio
DESCRIPTION:Jan Sturiale Trio – FREE COVER!\n\n\n\nJan Sturiale – guitar\nSam Minae – bass\nJerad Lippi – drums\n\nAt his upcoming concert at ShapeShifter Lab in New York\, Jan Sturiale will present his fourth solo album\, In the Life — a deeply personal and emotionally charged work born during a time of profound inner and collective transformation.
URL:https://shapeshifterplus.org/event/jan-sturiale-trio/
LOCATION:ShapeShifter Lab\, 837 Union Street\, Ground Floor\, Brooklyn\, NY\, 11215\, United States
ATTACH;FMTTYPE=image/jpeg:https://shapeshifterplus.org/wp-content/uploads/2025/07/fb1d1261ce934a9261605180589b911d-yvSF7y.tmp_.jpg
END:VEVENT
BEGIN:VEVENT
DTSTART;TZID=America/New_York:20250817T203000
DTEND;TZID=America/New_York:20250817T213000
DTSTAMP:20260423T173034
CREATED:20250805T155359Z
LAST-MODIFIED:20250805T160324Z
UID:45837-1755462600-1755466200@shapeshifterplus.org
SUMMARY:Station Seven
DESCRIPTION:Station Seven brings a vibrant night of jazz\, mixing classic standards with fresh originals.\n\n\nStation Seven’s show at ShapeShifter Lab will be an exciting night of music with tunes from the standard jazz repertoire as well as a number of their latest original compositions. The set will represent their diverse musical interests\, while also exemplifying their shared love for the music. \n\nSebastian Mesadieu – Trumpet\nSamien Mesadieu – Alto Saxophone\nShai Geballe – Tenor Saxophone\nKai Uemura – Guitar\nAidan Francia Cotter – Piano\nBenjamin Lipp – Bass\nGilberto Moretti-Hamilton – Drums
URL:https://shapeshifterplus.org/event/station-seven-shai-geballe/
LOCATION:ShapeShifter Lab\, 837 Union Street\, Ground Floor\, Brooklyn\, NY\, 11215\, United States
CATEGORIES:Live Music,Open Call Program
ATTACH;FMTTYPE=image/jpeg:https://shapeshifterplus.org/wp-content/uploads/2025/08/e9404a643db8a5e6499d954e7587fb5e-IG3NdO.tmp_.jpg
END:VEVENT
BEGIN:VEVENT
DTSTART;TZID=America/New_York:20250820T190000
DTEND;TZID=America/New_York:20250820T210000
DTSTAMP:20260423T173034
CREATED:20250806T174146Z
LAST-MODIFIED:20250807T151147Z
UID:45852-1755716400-1755723600@shapeshifterplus.org
SUMMARY:ShapeShifter - The New JAM
DESCRIPTION:ShapeShifter Lab is where outside-the-box thinkers find their creative home – JAM with us!
URL:https://shapeshifterplus.org/event/shapeshifter-the-new-jam-2/
LOCATION:ShapeShifter Lab\, 837 Union Street\, Ground Floor\, Brooklyn\, NY\, 11215\, United States
ATTACH;FMTTYPE=image/jpeg:https://shapeshifterplus.org/wp-content/uploads/2025/08/0769f7b8d8f2c55a236aedc81af6e98a-SZ3SFK.tmp_.jpg
END:VEVENT
BEGIN:VEVENT
DTSTART;TZID=America/New_York:20250827T190000
DTEND;TZID=America/New_York:20250827T210000
DTSTAMP:20260423T173034
CREATED:20250806T174147Z
LAST-MODIFIED:20250807T151148Z
UID:45855-1756321200-1756328400@shapeshifterplus.org
SUMMARY:ShapeShifter - The New JAM
DESCRIPTION:ShapeShifter Lab is where outside-the-box thinkers find their creative home – JAM with us!
URL:https://shapeshifterplus.org/event/shapeshifter-the-new-jam-3/
LOCATION:ShapeShifter Lab\, 837 Union Street\, Ground Floor\, Brooklyn\, NY\, 11215\, United States
END:VEVENT
END:VCALENDAR