BEGIN:VCALENDAR
VERSION:2.0
PRODID:-//ShapeShifter Plus - ECPv6.15.20//NONSGML v1.0//EN
CALSCALE:GREGORIAN
METHOD:PUBLISH
X-ORIGINAL-URL:https://shapeshifterplus.org
X-WR-CALDESC:Events for ShapeShifter Plus
REFRESH-INTERVAL;VALUE=DURATION:PT1H
X-Robots-Tag:noindex
X-PUBLISHED-TTL:PT1H
BEGIN:VTIMEZONE
TZID:America/Halifax
BEGIN:DAYLIGHT
TZOFFSETFROM:-0400
TZOFFSETTO:-0300
TZNAME:ADT
DTSTART:20230312T060000
END:DAYLIGHT
BEGIN:STANDARD
TZOFFSETFROM:-0300
TZOFFSETTO:-0400
TZNAME:AST
DTSTART:20231105T050000
END:STANDARD
BEGIN:DAYLIGHT
TZOFFSETFROM:-0400
TZOFFSETTO:-0300
TZNAME:ADT
DTSTART:20240310T060000
END:DAYLIGHT
BEGIN:STANDARD
TZOFFSETFROM:-0300
TZOFFSETTO:-0400
TZNAME:AST
DTSTART:20241103T050000
END:STANDARD
BEGIN:DAYLIGHT
TZOFFSETFROM:-0400
TZOFFSETTO:-0300
TZNAME:ADT
DTSTART:20250309T060000
END:DAYLIGHT
BEGIN:STANDARD
TZOFFSETFROM:-0300
TZOFFSETTO:-0400
TZNAME:AST
DTSTART:20251102T050000
END:STANDARD
END:VTIMEZONE
BEGIN:VEVENT
DTSTART;TZID=America/Halifax:20240922T140000
DTEND;TZID=America/Halifax:20240922T160000
DTSTAMP:20260422T090124
CREATED:20240918T171434Z
LAST-MODIFIED:20240918T171821Z
UID:17245-1727013600-1727020800@shapeshifterplus.org
SUMMARY:ART EXHIBITION RECEPTION : EXPLORING ABSTRACTION
DESCRIPTION:@ShapeShifterLab and the @ArtsPSWT collective have teamed up to create another beautiful showcase of local visual art. There will be a free community reception this Sunday from 2-4pm. The exhibition celebrates the long legacy of abstraction in visual art. Art’s lyrical connection to music- and of course the dynamic talent of our area artists-  will be on full display. The cafe’s regular menu will be available\, but drink specials offer another reason to celebrate. All art is on sale\, and the artists will be in attendance! \nThis event is sponsored by ShapeShifter Plus\, a 501(c)(3) Art and Cultural Organization.
URL:https://shapeshifterplus.org/event/art-exhibition-reception-exploring-abstraction/
LOCATION:ShapeShifter Lab\, 837 Union Street\, Ground Floor\, Brooklyn\, NY\, 11215\, United States
CATEGORIES:Visual Art
ATTACH;FMTTYPE=image/jpeg:https://shapeshifterplus.org/wp-content/uploads/2024/09/PSWT-Openijng-Event20240922.jpg
END:VEVENT
END:VCALENDAR