BEGIN:VCALENDAR
VERSION:2.0
PRODID:-//ShapeShifter Plus - ECPv6.15.20//NONSGML v1.0//EN
CALSCALE:GREGORIAN
METHOD:PUBLISH
X-ORIGINAL-URL:https://shapeshifterplus.org
X-WR-CALDESC:Events for ShapeShifter Plus
REFRESH-INTERVAL;VALUE=DURATION:PT1H
X-Robots-Tag:noindex
X-PUBLISHED-TTL:PT1H
BEGIN:VTIMEZONE
TZID:America/New_York
BEGIN:DAYLIGHT
TZOFFSETFROM:-0500
TZOFFSETTO:-0400
TZNAME:EDT
DTSTART:20250309T070000
END:DAYLIGHT
BEGIN:STANDARD
TZOFFSETFROM:-0400
TZOFFSETTO:-0500
TZNAME:EST
DTSTART:20251102T060000
END:STANDARD
BEGIN:DAYLIGHT
TZOFFSETFROM:-0500
TZOFFSETTO:-0400
TZNAME:EDT
DTSTART:20260308T070000
END:DAYLIGHT
BEGIN:STANDARD
TZOFFSETFROM:-0400
TZOFFSETTO:-0500
TZNAME:EST
DTSTART:20261101T060000
END:STANDARD
BEGIN:DAYLIGHT
TZOFFSETFROM:-0500
TZOFFSETTO:-0400
TZNAME:EDT
DTSTART:20270314T070000
END:DAYLIGHT
BEGIN:STANDARD
TZOFFSETFROM:-0400
TZOFFSETTO:-0500
TZNAME:EST
DTSTART:20271107T060000
END:STANDARD
END:VTIMEZONE
BEGIN:VEVENT
DTSTART;TZID=America/New_York:20260327T190000
DTEND;TZID=America/New_York:20260327T210000
DTSTAMP:20260421T064244
CREATED:20260316T073623Z
LAST-MODIFIED:20260316T073737Z
UID:46955-1774638000-1774645200@shapeshifterplus.org
SUMMARY:Jazz and Draw
DESCRIPTION:Hosted by\n\n\n$25 per person\n\n\n🎶 ✏️ Jazz + Draw Shapeshifter Brooklyn \n\n✏️ 🎶 Join us for an evening of live jazz and drawing in an intimate\, creative setting. You’ll be surrounded by great music\, inspiring energy\, and a welcoming community of fellow artists. \n\n✨ What’s included: • A selection of art materials (paper\, pencils\, charcoal\, etc.) • Guidance and instruction to help you get started \n🎨 Bring Your Own: While some supplies will be provided\, we encourage guests to bring their favorite sketchbooks\, pens\, brushes\, or any materials they love working with. \n📍 Where: Shapeshifter Lab\n\n 📅 When: Friday\, March 27 | Doors open 6:45 PM | Music + drawing begins at 7:00 PM\n\n💵 Tickets: $25 per person – drinks available for purchase Come sip\, sketch\, and let the live jazz carry your creativity. Whether you’re a seasoned artist or just curious to try\, all are welcome.\n\nLineup for March 27: Lookout for announcement on insta 🙂 \n\npls include Venmo w/ rsvp $25 earlybird entry $30 week of
URL:https://shapeshifterplus.org/event/jazz-and-draw-2/
CATEGORIES:Collaboration Programs,Live Music,Visual Art
ATTACH;FMTTYPE=image/png:https://shapeshifterplus.org/wp-content/uploads/2026/03/Screenshot-2026-03-16-at-3.32.05-AM.png
END:VEVENT
END:VCALENDAR