BEGIN:VCALENDAR
VERSION:2.0
PRODID:-//ShapeShifter Plus - ECPv6.15.20//NONSGML v1.0//EN
CALSCALE:GREGORIAN
METHOD:PUBLISH
X-WR-CALNAME:ShapeShifter Plus
X-ORIGINAL-URL:https://shapeshifterplus.org
X-WR-CALDESC:Events for ShapeShifter Plus
REFRESH-INTERVAL;VALUE=DURATION:PT1H
X-Robots-Tag:noindex
X-PUBLISHED-TTL:PT1H
BEGIN:VTIMEZONE
TZID:America/Halifax
BEGIN:DAYLIGHT
TZOFFSETFROM:-0400
TZOFFSETTO:-0300
TZNAME:ADT
DTSTART:20230312T060000
END:DAYLIGHT
BEGIN:STANDARD
TZOFFSETFROM:-0300
TZOFFSETTO:-0400
TZNAME:AST
DTSTART:20231105T050000
END:STANDARD
BEGIN:DAYLIGHT
TZOFFSETFROM:-0400
TZOFFSETTO:-0300
TZNAME:ADT
DTSTART:20240310T060000
END:DAYLIGHT
BEGIN:STANDARD
TZOFFSETFROM:-0300
TZOFFSETTO:-0400
TZNAME:AST
DTSTART:20241103T050000
END:STANDARD
BEGIN:DAYLIGHT
TZOFFSETFROM:-0400
TZOFFSETTO:-0300
TZNAME:ADT
DTSTART:20250309T060000
END:DAYLIGHT
BEGIN:STANDARD
TZOFFSETFROM:-0300
TZOFFSETTO:-0400
TZNAME:AST
DTSTART:20251102T050000
END:STANDARD
BEGIN:DAYLIGHT
TZOFFSETFROM:-0400
TZOFFSETTO:-0300
TZNAME:ADT
DTSTART:20260308T060000
END:DAYLIGHT
BEGIN:STANDARD
TZOFFSETFROM:-0300
TZOFFSETTO:-0400
TZNAME:AST
DTSTART:20261101T050000
END:STANDARD
END:VTIMEZONE
BEGIN:VTIMEZONE
TZID:America/New_York
BEGIN:DAYLIGHT
TZOFFSETFROM:-0500
TZOFFSETTO:-0400
TZNAME:EDT
DTSTART:20240310T070000
END:DAYLIGHT
BEGIN:STANDARD
TZOFFSETFROM:-0400
TZOFFSETTO:-0500
TZNAME:EST
DTSTART:20241103T060000
END:STANDARD
BEGIN:DAYLIGHT
TZOFFSETFROM:-0500
TZOFFSETTO:-0400
TZNAME:EDT
DTSTART:20250309T070000
END:DAYLIGHT
BEGIN:STANDARD
TZOFFSETFROM:-0400
TZOFFSETTO:-0500
TZNAME:EST
DTSTART:20251102T060000
END:STANDARD
BEGIN:DAYLIGHT
TZOFFSETFROM:-0500
TZOFFSETTO:-0400
TZNAME:EDT
DTSTART:20260308T070000
END:DAYLIGHT
BEGIN:STANDARD
TZOFFSETFROM:-0400
TZOFFSETTO:-0500
TZNAME:EST
DTSTART:20261101T060000
END:STANDARD
BEGIN:DAYLIGHT
TZOFFSETFROM:-0500
TZOFFSETTO:-0400
TZNAME:EDT
DTSTART:20270314T070000
END:DAYLIGHT
BEGIN:STANDARD
TZOFFSETFROM:-0400
TZOFFSETTO:-0500
TZNAME:EST
DTSTART:20271107T060000
END:STANDARD
END:VTIMEZONE
BEGIN:VEVENT
DTSTART;TZID=America/Halifax:20240904T120000
DTEND;TZID=America/Halifax:20240904T150000
DTSTAMP:20260422T182436
CREATED:20240902T191318Z
LAST-MODIFIED:20240902T192908Z
UID:16634-1725451200-1725462000@shapeshifterplus.org
SUMMARY:Workshops & Jam Sessions Hosted by Matt Garrison
DESCRIPTION:Wednesdays. 12pm-12:45pm \nWorkshop\, 1pm-3pm \n  \nWorkshops & Jam Sessions Hosted by Matt Garrison @ShapeShifterLab \nEvery Wednesday in Sept\, 2024 \n\n\n12pm-12:45 pm Workshop: Jam Session Ideas/Approaches \n\n\n\nMatt will discuss how the Jam Sessions he hosts can and will be approached.\nHe will discuss: Songs\, Forms\, Improvisation\, Dynamics\, Tempos\, Feel\, Genres\, Technique\, Emotional State and other important topics that will set the stage for the actual ShapeShifter Lab Jam Session.\nHe feels that doing so will give a strong basis for all jammers to get a sense of what’s possible.\nThe further idea of the workshop is to trigger a conversation\, spark ideas and open the floor for clear dialogue about a possible set of Jam Session frameworks.\nAll Experience levels welcome! FREE!\n\n\n\n1pm-3pm Jam Session
URL:https://shapeshifterplus.org/event/workshop-jam-matt-garrison/
LOCATION:ShapeShifter Lab\, 837 Union Street\, Ground Floor\, Brooklyn\, NY\, 11215\, United States
CATEGORIES:Live Music,Open Jam
ATTACH;FMTTYPE=image/png:https://shapeshifterplus.org/wp-content/uploads/2024/09/Matt-Garrison-Workshop-and-Jam.png
END:VEVENT
BEGIN:VEVENT
DTSTART;TZID=America/Halifax:20241004T190000
DTEND;TZID=America/Halifax:20241004T220000
DTSTAMP:20260422T182436
CREATED:20240822T053133Z
LAST-MODIFIED:20241001T185050Z
UID:16365-1728068400-1728079200@shapeshifterplus.org
SUMMARY:Jam Session Hosted by Matt Garrison and ShapeShifter Lab in Collaboration with Princess Cruise Lines.
DESCRIPTION:The Princess Cruises Musician Casting team has contacted us and asked to sponsor the space for a jam session October 4th. If you’re interested in a jam session\, come by! If you are also interested in learning about working on a ship as a musician or the audition process\, a Princess representative will be on-site (and jamming!) to help with any questions. There will also be a limited-space-available opportunity to have a tour of a ship on October 5th in Red Hook. Contact gshackelford@princesscruises.com with the subject “ShapeShifter // Ship Visit” by September 12th if you’re interested. Use the link or QR code below if you want to find out more about the job and application process.\n\nApplication Entry:
URL:https://shapeshifterplus.org/event/jam-princess/
LOCATION:ShapeShifter Lab\, 837 Union Street\, Ground Floor\, Brooklyn\, NY\, 11215\, United States
CATEGORIES:Collaboration Programs,Featured Artist Program,Live Music,Open Jam
ATTACH;FMTTYPE=image/png:https://shapeshifterplus.org/wp-content/uploads/2024/08/Princess-Cruises-Audition-Jam-Session-3.png
END:VEVENT
BEGIN:VEVENT
DTSTART;TZID=America/Halifax:20241009T120000
DTEND;TZID=America/Halifax:20241009T150000
DTSTAMP:20260422T182436
CREATED:20240927T200201Z
LAST-MODIFIED:20241001T022027Z
UID:17504-1728475200-1728486000@shapeshifterplus.org
SUMMARY:Workshops & Jam Sessions Hosted by Matt Garrison
DESCRIPTION:Wednesdays. 12pm-12:45pm \nWorkshop\, 1pm-3pm \n  \nWorkshops & Jam Sessions Hosted by Matt Garrison @ShapeShifterLab \nEvery Wednesday in Oct\, 2024 \n\n\n12pm-12:45 pm Workshop: Jam Session Ideas/Approaches \n\n\n\nMatt will discuss how the Jam Sessions he hosts can and will be approached.\nHe will discuss: Songs\, Forms\, Improvisation\, Dynamics\, Tempos\, Feel\, Genres\, Technique\, Emotional State and other important topics that will set the stage for the actual ShapeShifter Lab Jam Session.\nHe feels that doing so will give a strong basis for all jammers to get a sense of what’s possible.\nThe further idea of the workshop is to trigger a conversation\, spark ideas and open the floor for clear dialogue about a possible set of Jam Session frameworks.\nAll Experience levels welcome! FREE!\n\n\n\n1pm-3pm Jam Session
URL:https://shapeshifterplus.org/event/mg-jam/
LOCATION:ShapeShifter Lab\, 837 Union Street\, Ground Floor\, Brooklyn\, NY\, 11215\, United States
CATEGORIES:Live Music,Open Jam
ATTACH;FMTTYPE=image/png:https://shapeshifterplus.org/wp-content/uploads/2024/09/Matt-Garrison-Workshop-and-Jam-3.png
END:VEVENT
BEGIN:VEVENT
DTSTART;TZID=America/Halifax:20241009T193000
DTEND;TZID=America/Halifax:20241009T203000
DTSTAMP:20260422T182436
CREATED:20240923T180628Z
LAST-MODIFIED:20240923T181012Z
UID:17337-1728502200-1728505800@shapeshifterplus.org
SUMMARY:Parable Dust\, Obscure Geographies
DESCRIPTION:Paul Steven Ray – guitars/digital\, electronic sounds/voice/visuals . \nTriniti Ernest -dance/performance . \nJosh Scott-Bass Guitar . \nYuko Togami – percussion \n\n\n\n\n\n\nA Live Multimedia Installation for Sound\, movement\, visuals navigating themes of cryptic communication\, social negotiations\, and sanctuary (personal and communal).\n\nPaul Steven Ray’s work has been heard in a wide range of venues including Issue Project Room\, The Stone\, ShapeShifterLab\, Trans Pecos\, and KnockdownCenter. He has composed work for WHITENOISE V\, the International Electro-Acoustic Festival\, Cosmoson-Paris\, CERF Festival\, North River Music Series\, and Composers Now. He has collaborated with Bora Yoon\, Vernon Reid\, Nate Wooley\, Oblaat\, Pheeroan Ak Laff\, Brandon Ross\, Yuko Fujiyama\, Cyro Baptista\, and Val Jeanty. He is the leader/composer of BlueBlackDream\, NineNine\, and partner with Theresa Rosas in the Ray-Rosas Project. He has composed four operas: Sally Distance(premiered by Bora Yoon at Galapagos Art Space)\, Sleeperhold( Issue Project Room)\, SplitRock( ShapeShifterlab)\, and the Good Narrow Night( The Church of the Intercession Crypt. His poetic soundscape multimedia piece I Wish You Were There When I Was There\, was performed at The GreenKill Gallery Kingston NY. Recent releases: The Ticking and Some People Float\, Conjure Steps and 5 Days in February available on bandcamp.. The first part of his DECELERATION TRILOGY was performed at Super Secret Arts in May of 2022. Deceleration 2 premiered at The Center for Performance Research on February 3rd\, 2023.\n\nTriniti Ernest is a recent arrival to NYC helping to restore the edge to its artistic community with her sensuous and probing dances. Her eclectic choreography draws on Flex\, Krump\, Modern dance and whatever expressive movement genres serve her imagination.\n\nJosh Scott is a fixture of the NYC’s noise rock/ grindcore scene having created\, performed \, and recorded with Anodyne\, Defeatists\, and Radiation Blackbody. He is a quiet and LOUD\, calm and Deadly keeper of the lower flames.\n\n\nYuko Togami is a drummer and composer currently based in New York City\, originally from Saitama\, Japan. She received a scholarship from The Kaye Scholars Program\, and studied privately with Adam Cruz\, Nasheet Waits\, and Ben Street. She graduated with her BFA degree in jazz performance and The Pro Musica Award from City College. She has performed with Daniel Carter\, David First\, Ayumi Ishito\, Rema Hasumi\, and Steve Wilson. Her debut album “Dawn” was released in April 2018\, and has won a Silver Medal at the 2018 Global Music Awards for Outstanding Achievement.
URL:https://shapeshifterplus.org/event/paul-s-ray-parable-dust/
LOCATION:ShapeShifter Lab\, 837 Union Street\, Ground Floor\, Brooklyn\, NY\, 11215\, United States
CATEGORIES:Live Music,Open Jam
ATTACH;FMTTYPE=image/png:https://shapeshifterplus.org/wp-content/uploads/2024/09/Screenshot-2024-09-23-at-2.07.24 PM.png
END:VEVENT
BEGIN:VEVENT
DTSTART;TZID=America/Halifax:20241009T120000
DTEND;TZID=America/Halifax:20241009T150000
DTSTAMP:20260422T182436
CREATED:20240927T200201Z
LAST-MODIFIED:20241001T022027Z
UID:17504-1728475200-1728486000@shapeshifterplus.org
SUMMARY:Workshops & Jam Sessions Hosted by Matt Garrison
DESCRIPTION:Wednesdays. 12pm-12:45pm \nWorkshop\, 1pm-3pm \n  \nWorkshops & Jam Sessions Hosted by Matt Garrison @ShapeShifterLab \nEvery Wednesday in Oct\, 2024 \n\n\n12pm-12:45 pm Workshop: Jam Session Ideas/Approaches \n\n\n\nMatt will discuss how the Jam Sessions he hosts can and will be approached.\nHe will discuss: Songs\, Forms\, Improvisation\, Dynamics\, Tempos\, Feel\, Genres\, Technique\, Emotional State and other important topics that will set the stage for the actual ShapeShifter Lab Jam Session.\nHe feels that doing so will give a strong basis for all jammers to get a sense of what’s possible.\nThe further idea of the workshop is to trigger a conversation\, spark ideas and open the floor for clear dialogue about a possible set of Jam Session frameworks.\nAll Experience levels welcome! FREE!\n\n\n\n1pm-3pm Jam Session
URL:https://shapeshifterplus.org/event/mg-jam/
LOCATION:ShapeShifter Lab\, 837 Union Street\, Ground Floor\, Brooklyn\, NY\, 11215\, United States
CATEGORIES:Live Music,Open Jam
ATTACH;FMTTYPE=image/png:https://shapeshifterplus.org/wp-content/uploads/2024/09/Matt-Garrison-Workshop-and-Jam-3.png
END:VEVENT
BEGIN:VEVENT
DTSTART;TZID=America/Halifax:20241009T120000
DTEND;TZID=America/Halifax:20241009T150000
DTSTAMP:20260422T182436
CREATED:20240927T200201Z
LAST-MODIFIED:20241001T022027Z
UID:17504-1728475200-1728486000@shapeshifterplus.org
SUMMARY:Workshops & Jam Sessions Hosted by Matt Garrison
DESCRIPTION:Wednesdays. 12pm-12:45pm \nWorkshop\, 1pm-3pm \n  \nWorkshops & Jam Sessions Hosted by Matt Garrison @ShapeShifterLab \nEvery Wednesday in Oct\, 2024 \n\n\n12pm-12:45 pm Workshop: Jam Session Ideas/Approaches \n\n\n\nMatt will discuss how the Jam Sessions he hosts can and will be approached.\nHe will discuss: Songs\, Forms\, Improvisation\, Dynamics\, Tempos\, Feel\, Genres\, Technique\, Emotional State and other important topics that will set the stage for the actual ShapeShifter Lab Jam Session.\nHe feels that doing so will give a strong basis for all jammers to get a sense of what’s possible.\nThe further idea of the workshop is to trigger a conversation\, spark ideas and open the floor for clear dialogue about a possible set of Jam Session frameworks.\nAll Experience levels welcome! FREE!\n\n\n\n1pm-3pm Jam Session
URL:https://shapeshifterplus.org/event/mg-jam/
LOCATION:ShapeShifter Lab\, 837 Union Street\, Ground Floor\, Brooklyn\, NY\, 11215\, United States
CATEGORIES:Live Music,Open Jam
ATTACH;FMTTYPE=image/png:https://shapeshifterplus.org/wp-content/uploads/2024/09/Matt-Garrison-Workshop-and-Jam-3.png
END:VEVENT
BEGIN:VEVENT
DTSTART;TZID=America/Halifax:20241030T120000
DTEND;TZID=America/Halifax:20241030T150000
DTSTAMP:20260422T182436
CREATED:20241030T142115Z
LAST-MODIFIED:20241030T142759Z
UID:41851-1730289600-1730300400@shapeshifterplus.org
SUMMARY:POSTPONED! Workshops & Jam Sessions Hosted by Matt Garrison
DESCRIPTION:TODAY’S EVENT IS POSTPONED! \nWednesdays. 12pm-12:45pm \nWorkshop\, 1pm-3pm \n  \nWorkshops & Jam Sessions Hosted by Matt Garrison @ShapeShifterLab \nEvery Wednesday in Oct\, 2024 \n\n\n12pm-12:45 pm Workshop: Jam Session Ideas/Approaches \n\n\n\nMatt will discuss how the Jam Sessions he hosts can and will be approached.\nHe will discuss: Songs\, Forms\, Improvisation\, Dynamics\, Tempos\, Feel\, Genres\, Technique\, Emotional State and other important topics that will set the stage for the actual ShapeShifter Lab Jam Session.\nHe feels that doing so will give a strong basis for all jammers to get a sense of what’s possible.\nThe further idea of the workshop is to trigger a conversation\, spark ideas and open the floor for clear dialogue about a possible set of Jam Session frameworks.\nAll Experience levels welcome! FREE!\n\n\n\n1pm-3pm Jam Session
URL:https://shapeshifterplus.org/event/mg-jam-2/
LOCATION:ShapeShifter Lab\, 837 Union Street\, Ground Floor\, Brooklyn\, NY\, 11215\, United States
CATEGORIES:Live Music,Open Jam
ATTACH;FMTTYPE=image/png:https://shapeshifterplus.org/wp-content/uploads/2024/09/Matt-Garrison-Workshop-and-Jam-3.png
END:VEVENT
BEGIN:VEVENT
DTSTART;TZID=America/Halifax:20241106T120000
DTEND;TZID=America/Halifax:20241106T150000
DTSTAMP:20260422T182436
CREATED:20241103T001324Z
LAST-MODIFIED:20241103T002209Z
UID:42009-1730894400-1730905200@shapeshifterplus.org
SUMMARY:Workshops & Jam Sessions Hosted by Matt Garrison
DESCRIPTION:Wednesdays. 12pm-12:45pm \nWorkshop\, 1pm-3pm \n  \nWorkshops & Jam Sessions Hosted by Matt Garrison @ShapeShifterLab \nWednesdays November 6 and 13\, 2024 \n\n\n12pm-12:45 pm Workshop: Jam Session Ideas/Approaches \n\n\n\nMatt will discuss how the Jam Sessions he hosts can and will be approached.\nHe will discuss: Songs\, Forms\, Improvisation\, Dynamics\, Tempos\, Feel\, Genres\, Technique\, Emotional State and other important topics that will set the stage for the actual ShapeShifter Lab Jam Session.\nHe feels that doing so will give a strong basis for all jammers to get a sense of what’s possible.\nThe further idea of the workshop is to trigger a conversation\, spark ideas and open the floor for clear dialogue about a possible set of Jam Session frameworks.\nAll Experience levels welcome! FREE!\n\n\n\n1pm-3pm Jam Session
URL:https://shapeshifterplus.org/event/workshops-jam-sessions-hosted-by-matt-garrison-11/
LOCATION:ShapeShifter Lab\, 837 Union Street\, Ground Floor\, Brooklyn\, NY\, 11215\, United States
CATEGORIES:Live Music,Open Jam
ATTACH;FMTTYPE=image/png:https://shapeshifterplus.org/wp-content/uploads/2024/11/Matt-Garrison-Workshop-and-Jam-4.png
END:VEVENT
BEGIN:VEVENT
DTSTART;TZID=America/Halifax:20241113T120000
DTEND;TZID=America/Halifax:20241113T150000
DTSTAMP:20260422T182436
CREATED:20241103T002349Z
LAST-MODIFIED:20241103T002349Z
UID:42012-1731499200-1731510000@shapeshifterplus.org
SUMMARY:Workshops & Jam Sessions Hosted by Matt Garrison
DESCRIPTION:Wednesdays. 12pm-12:45pm \nWorkshop\, 1pm-3pm \n  \nWorkshops & Jam Sessions Hosted by Matt Garrison @ShapeShifterLab \nWednesdays November 6 and 13\, 2024 \n\n\n12pm-12:45 pm Workshop: Jam Session Ideas/Approaches \n\n\n\nMatt will discuss how the Jam Sessions he hosts can and will be approached.\nHe will discuss: Songs\, Forms\, Improvisation\, Dynamics\, Tempos\, Feel\, Genres\, Technique\, Emotional State and other important topics that will set the stage for the actual ShapeShifter Lab Jam Session.\nHe feels that doing so will give a strong basis for all jammers to get a sense of what’s possible.\nThe further idea of the workshop is to trigger a conversation\, spark ideas and open the floor for clear dialogue about a possible set of Jam Session frameworks.\nAll Experience levels welcome! FREE!\n\n\n\n1pm-3pm Jam Session
URL:https://shapeshifterplus.org/event/workshops-jam-sessions-hosted-by-matt-garrison-12/
LOCATION:ShapeShifter Lab\, 837 Union Street\, Ground Floor\, Brooklyn\, NY\, 11215\, United States
CATEGORIES:Live Music,Open Jam
ATTACH;FMTTYPE=image/png:https://shapeshifterplus.org/wp-content/uploads/2024/11/Matt-Garrison-Workshop-and-Jam-4.png
END:VEVENT
BEGIN:VEVENT
DTSTART;TZID=America/Halifax:20250108T190000
DTEND;TZID=America/Halifax:20250108T230000
DTSTAMP:20260422T182436
CREATED:20250103T213308Z
LAST-MODIFIED:20250107T213740Z
UID:43222-1736362800-1736377200@shapeshifterplus.org
SUMMARY:Speakeasy Open Mic Jam feat. "Dulie Noted" & Friends
DESCRIPTION:January 8th Featured Artist; Mike Davis is A New York City Based RB singerand recording artist!! He will blow you away with his Amazing Voice!! Youwill not be disappointed!!! Doors open @7pm Showtime Starts @8pm \n$20 online \n$25 at door \nplus fees \nGet tickets in link below.
URL:https://shapeshifterplus.org/event/speakeasy-jan8/
LOCATION:ShapeShifter Lab\, 837 Union Street\, Ground Floor\, Brooklyn\, NY\, 11215\, United States
CATEGORIES:Live Music,Open Jam
ATTACH;FMTTYPE=application/pdf:https://shapeshifterplus.org/wp-content/uploads/2025/01/final-speakeasy-open-mic-jam-1.pdf-2.pdf
END:VEVENT
BEGIN:VEVENT
DTSTART;TZID=America/New_York:20250625T190000
DTEND;TZID=America/New_York:20250625T220000
DTSTAMP:20260422T182436
CREATED:20250418T234604Z
LAST-MODIFIED:20250527T024654Z
UID:45191-1750878000-1750888800@shapeshifterplus.org
SUMMARY:JAM Session: The Princess Cruises Musician Casting
DESCRIPTION:To enquire about the June 24th ship visit\, contact musiciancasting@princesscruises.com with the subject “ShapeShifter // Ship Visit”. \nSpots are limited\, and require you to provide personal ID information. \nSign Up HERE
URL:https://shapeshifterplus.org/event/princess-jam-2/
LOCATION:ShapeShifter Lab\, 837 Union Street\, Ground Floor\, Brooklyn\, NY\, 11215\, United States
CATEGORIES:Collaboration Programs,Open Jam
ATTACH;FMTTYPE=image/png:https://shapeshifterplus.org/wp-content/uploads/2025/04/Blue-And-White-Modern-Cruise-Party-Poster-2-scaled.png
END:VEVENT
BEGIN:VEVENT
DTSTART;TZID=America/New_York:20251119T190000
DTEND;TZID=America/New_York:20251119T210000
DTSTAMP:20260422T182436
CREATED:20251104T180812Z
LAST-MODIFIED:20251119T172311Z
UID:46436-1763578800-1763586000@shapeshifterplus.org
SUMMARY:ShapeShifter Plus JAM SESSIONS
DESCRIPTION:Where Creative Rebels JAM – ShapeShifter Awaits
URL:https://shapeshifterplus.org/event/shapeshifter-plus-jam-sessions-7/
LOCATION:ShapeShifter Lab\, 837 Union Street\, Ground Floor\, Brooklyn\, NY\, 11215\, United States
CATEGORIES:Live Music,Open Jam
ATTACH;FMTTYPE=image/png:https://shapeshifterplus.org/wp-content/uploads/2025/11/Screenshot-2025-11-19-at-12.00.52-PM.png
END:VEVENT
BEGIN:VEVENT
DTSTART;TZID=America/New_York:20251203T190000
DTEND;TZID=America/New_York:20251203T210000
DTSTAMP:20260422T182436
CREATED:20251124T203451Z
LAST-MODIFIED:20251124T203451Z
UID:46515-1764788400-1764795600@shapeshifterplus.org
SUMMARY:ShapeShifter Plus JAM SESSIONS
DESCRIPTION:Where Creative Rebels JAM – ShapeShifter Awaits
URL:https://shapeshifterplus.org/event/shapeshifter-plus-jam-sessions-9/
LOCATION:ShapeShifter Lab\, 837 Union Street\, Ground Floor\, Brooklyn\, NY\, 11215\, United States
CATEGORIES:Live Music,Open Jam
ATTACH;FMTTYPE=image/png:https://shapeshifterplus.org/wp-content/uploads/2025/11/Screenshot-2025-11-19-at-12.00.52-PM.png
END:VEVENT
BEGIN:VEVENT
DTSTART;TZID=America/New_York:20251210T190000
DTEND;TZID=America/New_York:20251210T203000
DTSTAMP:20260422T182436
CREATED:20251208T021158Z
LAST-MODIFIED:20251210T184348Z
UID:46521-1765393200-1765398600@shapeshifterplus.org
SUMMARY:ShapeShifter Plus JAM SESSIONS
DESCRIPTION:Where Creative Rebels JAM – ShapeShifter Awaits \nThis Jam Session is 7-8:30 pm.
URL:https://shapeshifterplus.org/event/shapeshifter-plus-jam-sessions-10/
LOCATION:ShapeShifter Lab\, 837 Union Street\, Ground Floor\, Brooklyn\, NY\, 11215\, United States
CATEGORIES:Live Music,Open Jam
ATTACH;FMTTYPE=image/png:https://shapeshifterplus.org/wp-content/uploads/2025/12/Screenshot-2025-12-10-at-1.41.37-PM.png
END:VEVENT
BEGIN:VEVENT
DTSTART;TZID=America/New_York:20251217T190000
DTEND;TZID=America/New_York:20251217T210000
DTSTAMP:20260422T182436
CREATED:20251208T021338Z
LAST-MODIFIED:20251208T021338Z
UID:46600-1765998000-1766005200@shapeshifterplus.org
SUMMARY:ShapeShifter Plus JAM SESSIONS
DESCRIPTION:Where Creative Rebels JAM – ShapeShifter Awaits
URL:https://shapeshifterplus.org/event/shapeshifter-plus-jam-sessions-11/
LOCATION:ShapeShifter Lab\, 837 Union Street\, Ground Floor\, Brooklyn\, NY\, 11215\, United States
CATEGORIES:Live Music,Open Jam
ATTACH;FMTTYPE=image/png:https://shapeshifterplus.org/wp-content/uploads/2025/11/Screenshot-2025-11-19-at-12.00.52-PM.png
END:VEVENT
BEGIN:VEVENT
DTSTART;TZID=America/New_York:20260110T140000
DTEND;TZID=America/New_York:20260110T154500
DTSTAMP:20260422T182436
CREATED:20251223T043350Z
LAST-MODIFIED:20251223T044703Z
UID:46651-1768053600-1768059900@shapeshifterplus.org
SUMMARY:Funk Slope
DESCRIPTION:Park Slope’s funkiest dads and moms playing classic funk\, soul\, hip-hop\, and rock hits\n\n\nPutting the funk back in Park Slope\, Funk Slope is a local nine-piece collective of Park Slope’s funkiest dads and moms playing classic funk\, soul\, hip-hop\, and rock hits. Get ready to groove to smash hits and deep cuts while Funk Slope puts you into a funky trance. \nLine up: \nAJ Mesiti — congas \nBen Kummer — guitar \nBrian Cantrell — guitar \nJimmy Najjar — guitar / keys / vocals \nJosh Berger — drums \nJosh Stillman — bass / vocals \nMatt Rigsdale — trumpet \nRoni Noyman — saxophone / vocals \nShawn Clarke — keys / vocals \n 
URL:https://shapeshifterplus.org/event/funk-slope-2/
LOCATION:ShapeShifter Lab\, 837 Union Street\, Ground Floor\, Brooklyn\, NY\, 11215\, United States
CATEGORIES:Open Call Program,Open Jam
ATTACH;FMTTYPE=image/png:https://shapeshifterplus.org/wp-content/uploads/2025/12/Screenshot-2025-12-22-at-11.05.20-PM.png
END:VEVENT
BEGIN:VEVENT
DTSTART;TZID=America/New_York:20260401T190000
DTEND;TZID=America/New_York:20260401T220000
DTSTAMP:20260422T182436
CREATED:20260308T075223Z
LAST-MODIFIED:20260308T075909Z
UID:46923-1775070000-1775080800@shapeshifterplus.org
SUMMARY:Jam Session Co-Hosted by Princess Cruises Musician Casting
DESCRIPTION:Set a course for opportunity! Join us at a hiring event near you in Brooklyn! Hiring: House Band Musicians\, Bands\, and Soloists\n\n\nPrincess Cruises Musician Casting is returning to sponsor the space for a jam session. Come by and learn about working on a cruise ship as a musician – a Princess representative will be on-site (and jamming!) to help with any questions and scout talent! \nMore info and register HERE.
URL:https://shapeshifterplus.org/event/princess_cruises_casting/
LOCATION:ShapeShifter Lab\, 837 Union Street\, Ground Floor\, Brooklyn\, NY\, 11215\, United States
CATEGORIES:Collaboration Programs,Live Music,Open Jam
ATTACH;FMTTYPE=image/jpeg:https://shapeshifterplus.org/wp-content/uploads/2026/03/979ae735ac8fa254fe72e5df5ae0bcdf-2Offvf.tmp_.jpg
END:VEVENT
END:VCALENDAR