BEGIN:VCALENDAR
VERSION:2.0
PRODID:-//ShapeShifter Plus - ECPv6.15.20//NONSGML v1.0//EN
CALSCALE:GREGORIAN
METHOD:PUBLISH
X-WR-CALNAME:ShapeShifter Plus
X-ORIGINAL-URL:https://shapeshifterplus.org
X-WR-CALDESC:Events for ShapeShifter Plus
REFRESH-INTERVAL;VALUE=DURATION:PT1H
X-Robots-Tag:noindex
X-PUBLISHED-TTL:PT1H
BEGIN:VTIMEZONE
TZID:America/Halifax
BEGIN:DAYLIGHT
TZOFFSETFROM:-0400
TZOFFSETTO:-0300
TZNAME:ADT
DTSTART:20230312T060000
END:DAYLIGHT
BEGIN:STANDARD
TZOFFSETFROM:-0300
TZOFFSETTO:-0400
TZNAME:AST
DTSTART:20231105T050000
END:STANDARD
BEGIN:DAYLIGHT
TZOFFSETFROM:-0400
TZOFFSETTO:-0300
TZNAME:ADT
DTSTART:20240310T060000
END:DAYLIGHT
BEGIN:STANDARD
TZOFFSETFROM:-0300
TZOFFSETTO:-0400
TZNAME:AST
DTSTART:20241103T050000
END:STANDARD
BEGIN:DAYLIGHT
TZOFFSETFROM:-0400
TZOFFSETTO:-0300
TZNAME:ADT
DTSTART:20250309T060000
END:DAYLIGHT
BEGIN:STANDARD
TZOFFSETFROM:-0300
TZOFFSETTO:-0400
TZNAME:AST
DTSTART:20251102T050000
END:STANDARD
END:VTIMEZONE
BEGIN:VEVENT
DTSTART;TZID=America/Halifax:20240430T200000
DTEND;TZID=America/Halifax:20240430T220000
DTSTAMP:20260422T141143
CREATED:20240429T183011Z
LAST-MODIFIED:20240429T183011Z
UID:13688-1714507200-1714514400@shapeshifterplus.org
SUMMARY:International Jazz Day - Jam Session
DESCRIPTION:8pm-10pm. Free Entry\n\nInternational Jazz Day is an International Day declared by the United Nations Educational\, Scientific and Cultural Organization in 2011 “to highlight jazz and its diplomatic role of uniting people in all corners of the globe.” It is celebrated annually on April 30.\n\nInternational Jazz Day brings together communities\, schools\, artists\, historians\, academics\, and jazz enthusiasts all over the world to celebrate and learn about jazz and its roots\, future and impact; raise awareness of the need for intercultural dialogue and mutual understanding; and reinforce international cooperation and communication. Each year on April 30\, this international art form is recognized for promoting peace\, dialogue among cultures\, diversity\, and respect for human rights and human dignity; eradicating discrimination; fostering gender equality; and promoting freedom of expression.\n\nCome join us at our very own International Jazz Day Jam Session at ShapeShifter Lab\, hosted by Matt Garrison!
URL:https://shapeshifterplus.org/event/international-jazz-day-jam-session/
LOCATION:ShapeShifter Lab\, 837 Union Street\, Ground Floor\, Brooklyn\, NY\, 11215\, United States
CATEGORIES:Live Music,Open Jam
ATTACH;FMTTYPE=image/png:https://shapeshifterplus.org/wp-content/uploads/2024/04/April-30.png
END:VEVENT
END:VCALENDAR