BEGIN:VCALENDAR
VERSION:2.0
PRODID:-//ShapeShifter Plus - ECPv6.15.20//NONSGML v1.0//EN
CALSCALE:GREGORIAN
METHOD:PUBLISH
X-ORIGINAL-URL:https://shapeshifterplus.org
X-WR-CALDESC:Events for ShapeShifter Plus
REFRESH-INTERVAL;VALUE=DURATION:PT1H
X-Robots-Tag:noindex
X-PUBLISHED-TTL:PT1H
BEGIN:VTIMEZONE
TZID:America/Halifax
BEGIN:DAYLIGHT
TZOFFSETFROM:-0400
TZOFFSETTO:-0300
TZNAME:ADT
DTSTART:20230312T060000
END:DAYLIGHT
BEGIN:STANDARD
TZOFFSETFROM:-0300
TZOFFSETTO:-0400
TZNAME:AST
DTSTART:20231105T050000
END:STANDARD
BEGIN:DAYLIGHT
TZOFFSETFROM:-0400
TZOFFSETTO:-0300
TZNAME:ADT
DTSTART:20240310T060000
END:DAYLIGHT
BEGIN:STANDARD
TZOFFSETFROM:-0300
TZOFFSETTO:-0400
TZNAME:AST
DTSTART:20241103T050000
END:STANDARD
BEGIN:DAYLIGHT
TZOFFSETFROM:-0400
TZOFFSETTO:-0300
TZNAME:ADT
DTSTART:20250309T060000
END:DAYLIGHT
BEGIN:STANDARD
TZOFFSETFROM:-0300
TZOFFSETTO:-0400
TZNAME:AST
DTSTART:20251102T050000
END:STANDARD
END:VTIMEZONE
BEGIN:VEVENT
DTSTART;TZID=America/Halifax:20240313T120000
DTEND;TZID=America/Halifax:20240313T150000
DTSTAMP:20260422T153610
CREATED:20240313T070534Z
LAST-MODIFIED:20240313T070534Z
UID:12696-1710331200-1710342000@shapeshifterplus.org
SUMMARY:Workshop & Jam Sessions Hosted by Andrew Cheng
DESCRIPTION:Wednesday. 12-12:45pm \nWorkshop\, 1-3pm \n  \nWorkshop & Jam Session Hosted by Andrew Cheng @ShapeShifterLab\nWednesday\, March 13\, 2024\n\n\n12-12:45 pm Workshop: Jam Session Ideas/Approaches\n\n\n\nAll Experience levels welcome! FREE!\n\n\n\n1-3pm Jam Session\n\nbio:\nAndrew Cheng is a versatile guitarist and composer\, hailing from the island of Borneo in Malaysia. A graduate of Berklee College of Music\, where he studied with great educators such as Mick Goodrick\, he moved shortly to New York City and has since toured with several diverse projects. These include Rini\, a Carnatic Electronica violinist with whom he has toured India\, and Julian Moreen\, a songwriter with whom he has toured Asia and Europe.
URL:https://shapeshifterplus.org/event/workshops-jam-sessions-hosted-by-matt-garrison-5-2/
LOCATION:ShapeShifter Lab\, 837 Union Street\, Ground Floor\, Brooklyn\, NY\, 11215\, United States
CATEGORIES:Education,Live Music,Open Jam
ATTACH;FMTTYPE=image/jpeg:https://shapeshifterplus.org/wp-content/uploads/2024/03/Image.jpeg
END:VEVENT
BEGIN:VEVENT
DTSTART;TZID=America/Halifax:20240320T120000
DTEND;TZID=America/Halifax:20240320T150000
DTSTAMP:20260422T153610
CREATED:20240301T204346Z
LAST-MODIFIED:20240401T235055Z
UID:12350-1710936000-1710946800@shapeshifterplus.org
SUMMARY:Workshops & Jam Sessions Hosted by Matt Garrison
DESCRIPTION:Wednesdays. 12-12:45pm \nWorkshop\, 1-3pm \n  \nWorkshops & Jam Sessions Hosted by Matt Garrison @ShapeShifterLab\nEvery Wednesday in April\, 2024\n\n\n12-12:45 pm Workshop: Jam Session Ideas/Approaches\n\n\n\nMatt will discuss how the Jam Sessions he hosts can and will be approached.\nHe will discuss: Songs\, Forms\, Improvisation\, Dynamics\, Tempos\, Feel\, Genres\, Technique\, Emotional State and other important topics that will set the stage for the actual ShapeShifter Lab Jam Session.\nHe feels that doing so will give a strong basis for all jammers to get a sense of what’s possible.\nThe further idea of the workshop is to trigger a conversation\, spark ideas and open the floor for clear dialogue about a possible set of Jam Session frameworks.\nAll Experience levels welcome! FREE!\n\n\n\n1-3pm Jam Session
URL:https://shapeshifterplus.org/event/workshops-jam-sessions-hosted-by-matt-garrison-5/
LOCATION:ShapeShifter Lab\, 837 Union Street\, Ground Floor\, Brooklyn\, NY\, 11215\, United States
CATEGORIES:Education,Live Music,Open Jam
ATTACH;FMTTYPE=image/png:https://shapeshifterplus.org/wp-content/uploads/2024/03/Switch.png
END:VEVENT
BEGIN:VEVENT
DTSTART;TZID=America/Halifax:20240320T120000
DTEND;TZID=America/Halifax:20240320T150000
DTSTAMP:20260422T153610
CREATED:20240301T204346Z
LAST-MODIFIED:20240401T235055Z
UID:12350-1710936000-1710946800@shapeshifterplus.org
SUMMARY:Workshops & Jam Sessions Hosted by Matt Garrison
DESCRIPTION:Wednesdays. 12-12:45pm \nWorkshop\, 1-3pm \n  \nWorkshops & Jam Sessions Hosted by Matt Garrison @ShapeShifterLab\nEvery Wednesday in April\, 2024\n\n\n12-12:45 pm Workshop: Jam Session Ideas/Approaches\n\n\n\nMatt will discuss how the Jam Sessions he hosts can and will be approached.\nHe will discuss: Songs\, Forms\, Improvisation\, Dynamics\, Tempos\, Feel\, Genres\, Technique\, Emotional State and other important topics that will set the stage for the actual ShapeShifter Lab Jam Session.\nHe feels that doing so will give a strong basis for all jammers to get a sense of what’s possible.\nThe further idea of the workshop is to trigger a conversation\, spark ideas and open the floor for clear dialogue about a possible set of Jam Session frameworks.\nAll Experience levels welcome! FREE!\n\n\n\n1-3pm Jam Session
URL:https://shapeshifterplus.org/event/workshops-jam-sessions-hosted-by-matt-garrison-5/
LOCATION:ShapeShifter Lab\, 837 Union Street\, Ground Floor\, Brooklyn\, NY\, 11215\, United States
CATEGORIES:Education,Live Music,Open Jam
ATTACH;FMTTYPE=image/png:https://shapeshifterplus.org/wp-content/uploads/2024/03/Switch.png
END:VEVENT
END:VCALENDAR