BEGIN:VCALENDAR
VERSION:2.0
PRODID:-//ShapeShifter Plus - ECPv6.15.20//NONSGML v1.0//EN
CALSCALE:GREGORIAN
METHOD:PUBLISH
X-ORIGINAL-URL:https://shapeshifterplus.org
X-WR-CALDESC:Events for ShapeShifter Plus
REFRESH-INTERVAL;VALUE=DURATION:PT1H
X-Robots-Tag:noindex
X-PUBLISHED-TTL:PT1H
BEGIN:VTIMEZONE
TZID:America/New_York
BEGIN:DAYLIGHT
TZOFFSETFROM:-0500
TZOFFSETTO:-0400
TZNAME:EDT
DTSTART:20240310T070000
END:DAYLIGHT
BEGIN:STANDARD
TZOFFSETFROM:-0400
TZOFFSETTO:-0500
TZNAME:EST
DTSTART:20241103T060000
END:STANDARD
BEGIN:DAYLIGHT
TZOFFSETFROM:-0500
TZOFFSETTO:-0400
TZNAME:EDT
DTSTART:20250309T070000
END:DAYLIGHT
BEGIN:STANDARD
TZOFFSETFROM:-0400
TZOFFSETTO:-0500
TZNAME:EST
DTSTART:20251102T060000
END:STANDARD
BEGIN:DAYLIGHT
TZOFFSETFROM:-0500
TZOFFSETTO:-0400
TZNAME:EDT
DTSTART:20260308T070000
END:DAYLIGHT
BEGIN:STANDARD
TZOFFSETFROM:-0400
TZOFFSETTO:-0500
TZNAME:EST
DTSTART:20261101T060000
END:STANDARD
END:VTIMEZONE
BEGIN:VEVENT
DTSTART;TZID=America/New_York:20250531T203000
DTEND;TZID=America/New_York:20250531T213000
DTSTAMP:20260424T113305
CREATED:20250501T034810Z
LAST-MODIFIED:20250528T163856Z
UID:45255-1748723400-1748727000@shapeshifterplus.org
SUMMARY:"The All Seeing Eye" – music of Wayne Shorter\, Chick Corea & Dave Liebman
DESCRIPTION:The premiere of Scott’s big band arrangement of Wayne Shorter’s seminal 1966 recording The All Seeing Eye\, and works by Corea and Liebman.\n\n\nThe premiere of Scott’s big band arrangement of Wayne Shorter’s seminal 1966 recording The All Seeing Eye\, as well as works by Corea and Liebman. \n\nScott Reeves – arranger\, conductor\nSaxophones: Matt Hong\, Jay Brandford\, Rob Middleton\, John Lowry\, Carl Maraghi\nTrumpets: Nathan Eklund\, Chris Persad\, Eddie Allen\, Andy Gravish\nTrombones: Mark Patterson\, Jason Jackson\, Matt McDonald\, Max Seigel\nRhythm Section: Jim Ridl (piano)\, Todd Coolman (bass)\, Andy Watson (drums)
URL:https://shapeshifterplus.org/event/scott-reeves-2025/
LOCATION:ShapeShifter Lab\, 837 Union Street\, Ground Floor\, Brooklyn\, NY\, 11215\, United States
CATEGORIES:Live Music,Open Call Program
ATTACH;FMTTYPE=image/jpeg:https://shapeshifterplus.org/wp-content/uploads/2025/05/fe850676013c5d148019f52192a5bee1-JqDf3f.tmp_.jpg
END:VEVENT
END:VCALENDAR