BEGIN:VCALENDAR
VERSION:2.0
PRODID:-//ShapeShifter Plus - ECPv6.15.20//NONSGML v1.0//EN
CALSCALE:GREGORIAN
METHOD:PUBLISH
X-WR-CALNAME:ShapeShifter Plus
X-ORIGINAL-URL:https://shapeshifterplus.org
X-WR-CALDESC:Events for ShapeShifter Plus
REFRESH-INTERVAL;VALUE=DURATION:PT1H
X-Robots-Tag:noindex
X-PUBLISHED-TTL:PT1H
BEGIN:VTIMEZONE
TZID:America/New_York
BEGIN:DAYLIGHT
TZOFFSETFROM:-0500
TZOFFSETTO:-0400
TZNAME:EDT
DTSTART:20240310T070000
END:DAYLIGHT
BEGIN:STANDARD
TZOFFSETFROM:-0400
TZOFFSETTO:-0500
TZNAME:EST
DTSTART:20241103T060000
END:STANDARD
BEGIN:DAYLIGHT
TZOFFSETFROM:-0500
TZOFFSETTO:-0400
TZNAME:EDT
DTSTART:20250309T070000
END:DAYLIGHT
BEGIN:STANDARD
TZOFFSETFROM:-0400
TZOFFSETTO:-0500
TZNAME:EST
DTSTART:20251102T060000
END:STANDARD
BEGIN:DAYLIGHT
TZOFFSETFROM:-0500
TZOFFSETTO:-0400
TZNAME:EDT
DTSTART:20260308T070000
END:DAYLIGHT
BEGIN:STANDARD
TZOFFSETFROM:-0400
TZOFFSETTO:-0500
TZNAME:EST
DTSTART:20261101T060000
END:STANDARD
END:VTIMEZONE
BEGIN:VEVENT
DTSTART;TZID=America/New_York:20250330T180000
DTEND;TZID=America/New_York:20250330T190000
DTSTAMP:20260424T153107
CREATED:20250220T202443Z
LAST-MODIFIED:20250226T022022Z
UID:44199-1743357600-1743361200@shapeshifterplus.org
SUMMARY:Unspeakable Garbage
DESCRIPTION:Kelly Roberge (ts)\, \nNick Millevoi (g)\, \nRon Stabinsky (p)\, \nMoppa Elliott (b)\, \nDan Monaghan (d) \n\nMoppa Elliott’s Quintet performing new music from their forthcoming album “Disasters Vol. 3”. All of the compositions are based on and named after towns in Pennsylvania where disasters have occurred.
URL:https://shapeshifterplus.org/event/unspeakable-garbage/
LOCATION:ShapeShifter Lab\, 837 Union Street\, Ground Floor\, Brooklyn\, NY\, 11215\, United States
CATEGORIES:Live Music,Open Call Program
ATTACH;FMTTYPE=image/jpeg:https://shapeshifterplus.org/wp-content/uploads/2025/02/GetAttachmentThumbnail-1-Matthew-Elliott.jpg
END:VEVENT
BEGIN:VEVENT
DTSTART;TZID=America/New_York:20250330T203000
DTEND;TZID=America/New_York:20250330T213000
DTSTAMP:20260424T153107
CREATED:20250305T061904Z
LAST-MODIFIED:20250305T063421Z
UID:44580-1743366600-1743370200@shapeshifterplus.org
SUMMARY:Arnie Sainz-Michael Dudley Jazz Orchestra
DESCRIPTION:Tom Kelley – Alto Saxophone\nLangston Hughes II – Alto Saxophone\nJade Elliott – Tenor Saxophone\nAnthony Bolden – Tenor Saxophone\nCourtney Wright – Baritone Saxophone\nMichael Dudley – Trumpet\, Bandleader\nChloe Rowlands – Trumpet\nCamilo Molina – Trumpet\nDavid Snider – Trumpet\nEvan Amoroso – Trombone\nJoe Giordano – Trombone\nMarty Scott – Trombone\nGina Benalcazar-Lopez – Bass Trombone\nRobert Papacica – Guitar\nArnie Sainz – Piano\, Bandleader\nJared Beckstead-Craan – Bass\nJohn Sturino – Drums\n\n\nLed by Arnie Sainz and Michael Dudley\, this new large ensemble presents a dynamic set of original music featuring a lineup of rising NYC musicians.
URL:https://shapeshifterplus.org/event/arnie-sainz-michael-dudley/
LOCATION:ShapeShifter Lab\, 837 Union Street\, Ground Floor\, Brooklyn\, NY\, 11215\, United States
CATEGORIES:Live Music,Open Call Program
ATTACH;FMTTYPE=image/jpeg:https://shapeshifterplus.org/wp-content/uploads/2025/03/Arnie-Mike-Headshot-Arnie-Sainz.jpg
END:VEVENT
END:VCALENDAR