BEGIN:VCALENDAR
VERSION:2.0
PRODID:-//ShapeShifter Plus - ECPv6.15.20//NONSGML v1.0//EN
CALSCALE:GREGORIAN
METHOD:PUBLISH
X-ORIGINAL-URL:https://shapeshifterplus.org
X-WR-CALDESC:Events for ShapeShifter Plus
REFRESH-INTERVAL;VALUE=DURATION:PT1H
X-Robots-Tag:noindex
X-PUBLISHED-TTL:PT1H
BEGIN:VTIMEZONE
TZID:America/New_York
BEGIN:DAYLIGHT
TZOFFSETFROM:-0500
TZOFFSETTO:-0400
TZNAME:EDT
DTSTART:20240310T070000
END:DAYLIGHT
BEGIN:STANDARD
TZOFFSETFROM:-0400
TZOFFSETTO:-0500
TZNAME:EST
DTSTART:20241103T060000
END:STANDARD
BEGIN:DAYLIGHT
TZOFFSETFROM:-0500
TZOFFSETTO:-0400
TZNAME:EDT
DTSTART:20250309T070000
END:DAYLIGHT
BEGIN:STANDARD
TZOFFSETFROM:-0400
TZOFFSETTO:-0500
TZNAME:EST
DTSTART:20251102T060000
END:STANDARD
BEGIN:DAYLIGHT
TZOFFSETFROM:-0500
TZOFFSETTO:-0400
TZNAME:EDT
DTSTART:20260308T070000
END:DAYLIGHT
BEGIN:STANDARD
TZOFFSETFROM:-0400
TZOFFSETTO:-0500
TZNAME:EST
DTSTART:20261101T060000
END:STANDARD
END:VTIMEZONE
BEGIN:VEVENT
DTSTART;TZID=America/New_York:20250323T190000
DTEND;TZID=America/New_York:20250323T200000
DTSTAMP:20260424T153443
CREATED:20250312T205834Z
LAST-MODIFIED:20250312T210139Z
UID:44728-1742756400-1742760000@shapeshifterplus.org
SUMMARY:J A Granelli and Mr. Lucky
DESCRIPTION:J A Granelli – electric bass\nNate Shaw – piano\nMichael Sarin – drums\n\n\nAn evening of new original compositions for his beloved Mr. Lucky trio by J A Granelli. \nSongs of depth\, beauty\, simplicity\, and dynamic trio playing! \n\nTickets are non-refundable.\nIf your purchase appears unsuccessful\, please check your email for a confirmation before attempting again. A successful purchase will include a confirmation email and a QR code\, which serves as your ticket. \n 
URL:https://shapeshifterplus.org/event/j-a-granelli-and-mr-lucky/
LOCATION:ShapeShifter Lab\, 837 Union Street\, Ground Floor\, Brooklyn\, NY\, 11215\, United States
CATEGORIES:Live Music,Open Call Program
ATTACH;FMTTYPE=image/jpeg:https://shapeshifterplus.org/wp-content/uploads/2025/03/MRL-Shapeshifter-32325-J-Granelli.jpg
END:VEVENT
END:VCALENDAR