BEGIN:VCALENDAR
VERSION:2.0
PRODID:-//ShapeShifter Plus - ECPv6.15.20//NONSGML v1.0//EN
CALSCALE:GREGORIAN
METHOD:PUBLISH
X-WR-CALNAME:ShapeShifter Plus
X-ORIGINAL-URL:https://shapeshifterplus.org
X-WR-CALDESC:Events for ShapeShifter Plus
REFRESH-INTERVAL;VALUE=DURATION:PT1H
X-Robots-Tag:noindex
X-PUBLISHED-TTL:PT1H
BEGIN:VTIMEZONE
TZID:America/Halifax
BEGIN:DAYLIGHT
TZOFFSETFROM:-0400
TZOFFSETTO:-0300
TZNAME:ADT
DTSTART:20240310T060000
END:DAYLIGHT
BEGIN:STANDARD
TZOFFSETFROM:-0300
TZOFFSETTO:-0400
TZNAME:AST
DTSTART:20241103T050000
END:STANDARD
BEGIN:DAYLIGHT
TZOFFSETFROM:-0400
TZOFFSETTO:-0300
TZNAME:ADT
DTSTART:20250309T060000
END:DAYLIGHT
BEGIN:STANDARD
TZOFFSETFROM:-0300
TZOFFSETTO:-0400
TZNAME:AST
DTSTART:20251102T050000
END:STANDARD
BEGIN:DAYLIGHT
TZOFFSETFROM:-0400
TZOFFSETTO:-0300
TZNAME:ADT
DTSTART:20260308T060000
END:DAYLIGHT
BEGIN:STANDARD
TZOFFSETFROM:-0300
TZOFFSETTO:-0400
TZNAME:AST
DTSTART:20261101T050000
END:STANDARD
END:VTIMEZONE
BEGIN:VTIMEZONE
TZID:America/New_York
BEGIN:DAYLIGHT
TZOFFSETFROM:-0500
TZOFFSETTO:-0400
TZNAME:EDT
DTSTART:20240310T070000
END:DAYLIGHT
BEGIN:STANDARD
TZOFFSETFROM:-0400
TZOFFSETTO:-0500
TZNAME:EST
DTSTART:20241103T060000
END:STANDARD
BEGIN:DAYLIGHT
TZOFFSETFROM:-0500
TZOFFSETTO:-0400
TZNAME:EDT
DTSTART:20250309T070000
END:DAYLIGHT
BEGIN:STANDARD
TZOFFSETFROM:-0400
TZOFFSETTO:-0500
TZNAME:EST
DTSTART:20251102T060000
END:STANDARD
BEGIN:DAYLIGHT
TZOFFSETFROM:-0500
TZOFFSETTO:-0400
TZNAME:EDT
DTSTART:20260308T070000
END:DAYLIGHT
BEGIN:STANDARD
TZOFFSETFROM:-0400
TZOFFSETTO:-0500
TZNAME:EST
DTSTART:20261101T060000
END:STANDARD
END:VTIMEZONE
BEGIN:VEVENT
DTSTART;TZID=America/Halifax:20250223T101500
DTEND;TZID=America/Halifax:20250223T111500
DTSTAMP:20260424T164111
CREATED:20250103T215922Z
LAST-MODIFIED:20250210T185008Z
UID:43243-1740305700-1740309300@shapeshifterplus.org
SUMMARY:Family Jam with Debbie Brukman #2
DESCRIPTION:Family Jam with Debbie Brukman \n\n\nMore info coming soon!\n\nwww.debbiebrukman.com\n\nKids under 1 year FREE!
URL:https://shapeshifterplus.org/event/family-jam-debbie2/
LOCATION:ShapeShifter Lab\, 837 Union Street\, Ground Floor\, Brooklyn\, NY\, 11215\, United States
CATEGORIES:Live Music,Open Call Program
END:VEVENT
BEGIN:VEVENT
DTSTART;TZID=America/New_York:20250223T160000
DTEND;TZID=America/New_York:20250223T160000
DTSTAMP:20260424T164111
CREATED:20250123T024716Z
LAST-MODIFIED:20250123T025050Z
UID:43579-1740326400-1740326400@shapeshifterplus.org
SUMMARY:Funk Slope
DESCRIPTION:AJ Mesiti\, Congas\nBen Kummer\, Guitar\nBrian Cantrell\, Guitar\nJimmy Najjar\, Guitar / Keys / Vocals\nJosh Stillman\, Bass / Vocals\nMatt Rigsdale\, Trumpet\nPasha Davidson\, drums\nRoni Noyman\, Saxophone / Vocals\nShawn Clarke\, Keys / Vocals\n\n\n\n\n\nPutting the funk back in Park Slope\, Funk Slope is a local nine piece collective of Park Slope’s funkiest dads and moms playing classic funk\, soul\, hip hop and rock hits. Get ready to groove to smash hits and deep cuts while funk slope puts you into a funky trance.
URL:https://shapeshifterplus.org/event/funk-slope/
LOCATION:ShapeShifter Lab\, 837 Union Street\, Ground Floor\, Brooklyn\, NY\, 11215\, United States
CATEGORIES:Live Music,Open Call Program
ATTACH;FMTTYPE=image/jpeg:https://shapeshifterplus.org/wp-content/uploads/2025/01/2D6F40CC-A9CF-43FE-B068-44E4FBD0AC61-Brian-Cantrell.jpg
END:VEVENT
END:VCALENDAR