BEGIN:VCALENDAR
VERSION:2.0
PRODID:-//ShapeShifter Plus - ECPv6.15.20//NONSGML v1.0//EN
CALSCALE:GREGORIAN
METHOD:PUBLISH
X-WR-CALNAME:ShapeShifter Plus
X-ORIGINAL-URL:https://shapeshifterplus.org
X-WR-CALDESC:Events for ShapeShifter Plus
REFRESH-INTERVAL;VALUE=DURATION:PT1H
X-Robots-Tag:noindex
X-PUBLISHED-TTL:PT1H
BEGIN:VTIMEZONE
TZID:America/Halifax
BEGIN:DAYLIGHT
TZOFFSETFROM:-0400
TZOFFSETTO:-0300
TZNAME:ADT
DTSTART:20240310T060000
END:DAYLIGHT
BEGIN:STANDARD
TZOFFSETFROM:-0300
TZOFFSETTO:-0400
TZNAME:AST
DTSTART:20241103T050000
END:STANDARD
BEGIN:DAYLIGHT
TZOFFSETFROM:-0400
TZOFFSETTO:-0300
TZNAME:ADT
DTSTART:20250309T060000
END:DAYLIGHT
BEGIN:STANDARD
TZOFFSETFROM:-0300
TZOFFSETTO:-0400
TZNAME:AST
DTSTART:20251102T050000
END:STANDARD
BEGIN:DAYLIGHT
TZOFFSETFROM:-0400
TZOFFSETTO:-0300
TZNAME:ADT
DTSTART:20260308T060000
END:DAYLIGHT
BEGIN:STANDARD
TZOFFSETFROM:-0300
TZOFFSETTO:-0400
TZNAME:AST
DTSTART:20261101T050000
END:STANDARD
END:VTIMEZONE
BEGIN:VEVENT
DTSTART;TZID=America/Halifax:20250222T190000
DTEND;TZID=America/Halifax:20250222T213000
DTSTAMP:20260424T164109
CREATED:20241205T051714Z
LAST-MODIFIED:20250219T203942Z
UID:42770-1740250800-1740259800@shapeshifterplus.org
SUMMARY:Lost & Found The Live Experience with Pyeng Threadgill and Alexis Cuadrado
DESCRIPTION:A live presentation of Pyeng’s audiobook Lost & Found: Finding The Power In Your Voice\, as an immersive experience\, blending spoken word\, and music. Alexis Cuadrado brings this soundscape to life with live samples and instrumental performances\, creating an atmospheric backdrop. Pyeng will bring the voice reading excerpts from her book\, singing and live looping. Together\, these two composer/artists merge storytelling and music into a dynamic\, interactive journey\, offering a captivating experience that blurs the lines between literature\, sound\, and live performance. \n\nBIOS:\n\nPyeng Threadgill is an American vocalist\, composer\, author\, video artist and voice and movement teacher. As a vocalist/performer she creates what she calls New Porch Music based on the traditions of Black American Folk\, Soul\, Jazz and improvisational music. Pyeng uses these Porch Sessions to create connected conversations whereby audiences may reflect on their own life stories and identities for healing and empowerment.\n\nAlexis Cuadrado \nBarcelona-born and Brooklyn-based Alexis Cuadrado is a prolific composer\, producer\, and musician whose work bridges jazz\, world music\, and innovative storytelling. He has released six critically acclaimed albums as a bandleader\, written scores for silent films\, dance companies\, and chamber ensembles\, and performed globally with icons like Angélique Kidjo\, Youssou N’Dour\, and Jon Batiste.\nIn 2021\, Alexis founded The Plaza Roja studio\, creating music for film and media while exploring new artistic collaborations. Known for his cultural fusion and narrative depth\, Alexis brings a distinct voice to every project. He lives in Brooklyn with his wife and twin children.\n\n\n\n7 pm doors\n7:30 pm – 8:45 pm show\n8:45 – 9:30 pm reception
URL:https://shapeshifterplus.org/event/pyeng-threadgill-alexis-cuadrado/
LOCATION:ShapeShifter Lab\, 837 Union Street\, Ground Floor\, Brooklyn\, NY\, 11215\, United States
CATEGORIES:Live Music,Open Call Program
ATTACH;FMTTYPE=image/jpeg:https://shapeshifterplus.org/wp-content/uploads/2024/12/image.jpeg
END:VEVENT
END:VCALENDAR