BEGIN:VCALENDAR
VERSION:2.0
PRODID:-//ShapeShifter Plus - ECPv6.15.20//NONSGML v1.0//EN
CALSCALE:GREGORIAN
METHOD:PUBLISH
X-ORIGINAL-URL:https://shapeshifterplus.org
X-WR-CALDESC:Events for ShapeShifter Plus
REFRESH-INTERVAL;VALUE=DURATION:PT1H
X-Robots-Tag:noindex
X-PUBLISHED-TTL:PT1H
BEGIN:VTIMEZONE
TZID:America/Halifax
BEGIN:DAYLIGHT
TZOFFSETFROM:-0400
TZOFFSETTO:-0300
TZNAME:ADT
DTSTART:20240310T060000
END:DAYLIGHT
BEGIN:STANDARD
TZOFFSETFROM:-0300
TZOFFSETTO:-0400
TZNAME:AST
DTSTART:20241103T050000
END:STANDARD
BEGIN:DAYLIGHT
TZOFFSETFROM:-0400
TZOFFSETTO:-0300
TZNAME:ADT
DTSTART:20250309T060000
END:DAYLIGHT
BEGIN:STANDARD
TZOFFSETFROM:-0300
TZOFFSETTO:-0400
TZNAME:AST
DTSTART:20251102T050000
END:STANDARD
BEGIN:DAYLIGHT
TZOFFSETFROM:-0400
TZOFFSETTO:-0300
TZNAME:ADT
DTSTART:20260308T060000
END:DAYLIGHT
BEGIN:STANDARD
TZOFFSETFROM:-0300
TZOFFSETTO:-0400
TZNAME:AST
DTSTART:20261101T050000
END:STANDARD
END:VTIMEZONE
BEGIN:VEVENT
DTSTART;TZID=America/Halifax:20250207T190000
DTEND;TZID=America/Halifax:20250207T200000
DTSTAMP:20260424T164127
CREATED:20250117T055140Z
LAST-MODIFIED:20250117T055328Z
UID:43434-1738954800-1738958400@shapeshifterplus.org
SUMMARY:Ravel Meets Jazz
DESCRIPTION:Eric Stern – piano\nJoey Curreri – trumpet\nChris Ferrari – tenor sax\nCookie Stephenson – bass\nPeru Egizarre – drums\n\nRavel Meets Jazz incorporates Ravel’s harmonic virtuosity with the intensity and excitement of the Eric Stern Quintet
URL:https://shapeshifterplus.org/event/eric-stern/
LOCATION:ShapeShifter Lab\, 837 Union Street\, Ground Floor\, Brooklyn\, NY\, 11215\, United States
CATEGORIES:Live Music,Open Call Program
ATTACH;FMTTYPE=image/jpeg:https://shapeshifterplus.org/wp-content/uploads/2025/01/AC201789_orig-2-Eric-Stern-Jazz-scaled.jpeg
END:VEVENT
BEGIN:VEVENT
DTSTART;TZID=America/Halifax:20250207T203000
DTEND;TZID=America/Halifax:20250207T213000
DTSTAMP:20260424T164127
CREATED:20250117T062924Z
LAST-MODIFIED:20250117T063933Z
UID:43439-1738960200-1738963800@shapeshifterplus.org
SUMMARY:Visions
DESCRIPTION:Ourida – voice\, piano\, fender rhodes\, ukulele\nJeff Miles – guitar (and pedal effects)\n\n\n\n\n\n\nAfter the tragic events of this past years\, the name of the project was inspired by a Stevie Wonder song that gave the direction of the whole set\, the ‘vision in our minds’ being a vision of peace.\n\n‘Visions’ played several livestream shows during the pandemic as in this times of divisiveness and tension\, this songs of love and freedom are more needed than ever to soothe people’s pain. The duet is inviting us to a musical ritual full of unanswered questions\, where learning to be a human being is the purpose of the journey.\n\nOurida is a french-algerian songwriter\, singer\, pianist and ukulele player with multiple uprootings – www.ourida.com – and Jeff Miles is an innovative composer and an impressive guitarist\, with a wide musical palette.\n\n\n\n\n\n\n\n\n 
URL:https://shapeshifterplus.org/event/ourida/
LOCATION:ShapeShifter Lab\, 837 Union Street\, Ground Floor\, Brooklyn\, NY\, 11215\, United States
CATEGORIES:Live Music,Open Call Program
ATTACH;FMTTYPE=image/jpeg:https://shapeshifterplus.org/wp-content/uploads/2025/01/Visions@ShapeShifterLab2_7-Ourida-Songs-scaled.jpeg
END:VEVENT
END:VCALENDAR