BEGIN:VCALENDAR
VERSION:2.0
PRODID:-//ShapeShifter Plus - ECPv6.15.20//NONSGML v1.0//EN
CALSCALE:GREGORIAN
METHOD:PUBLISH
X-WR-CALNAME:ShapeShifter Plus
X-ORIGINAL-URL:https://shapeshifterplus.org
X-WR-CALDESC:Events for ShapeShifter Plus
REFRESH-INTERVAL;VALUE=DURATION:PT1H
X-Robots-Tag:noindex
X-PUBLISHED-TTL:PT1H
BEGIN:VTIMEZONE
TZID:America/Halifax
BEGIN:DAYLIGHT
TZOFFSETFROM:-0400
TZOFFSETTO:-0300
TZNAME:ADT
DTSTART:20240310T060000
END:DAYLIGHT
BEGIN:STANDARD
TZOFFSETFROM:-0300
TZOFFSETTO:-0400
TZNAME:AST
DTSTART:20241103T050000
END:STANDARD
BEGIN:DAYLIGHT
TZOFFSETFROM:-0400
TZOFFSETTO:-0300
TZNAME:ADT
DTSTART:20250309T060000
END:DAYLIGHT
BEGIN:STANDARD
TZOFFSETFROM:-0300
TZOFFSETTO:-0400
TZNAME:AST
DTSTART:20251102T050000
END:STANDARD
BEGIN:DAYLIGHT
TZOFFSETFROM:-0400
TZOFFSETTO:-0300
TZNAME:ADT
DTSTART:20260308T060000
END:DAYLIGHT
BEGIN:STANDARD
TZOFFSETFROM:-0300
TZOFFSETTO:-0400
TZNAME:AST
DTSTART:20261101T050000
END:STANDARD
END:VTIMEZONE
BEGIN:VEVENT
DTSTART;TZID=America/Halifax:20250121T190000
DTEND;TZID=America/Halifax:20250121T200000
DTSTAMP:20260424T174739
CREATED:20250117T065807Z
LAST-MODIFIED:20250117T070213Z
UID:43444-1737486000-1737489600@shapeshifterplus.org
SUMMARY:Holman Alvarez’s Hidden Objects
DESCRIPTION:Satoshi Takeishi (drums)\,\nJohn Hébert (bass)\,\nRachel Therrien (trumpet)\,\nHolman Alvarez (piano and composition)\n\nPianist/composer Holman Alvarez sees the world through a compositional lens. On his newest release\, Hidden Objects\, he leads an all-star band through nine expressive\, serpentine compositions that reveal a unique musical worldview. In his playing\, there is a touching lyricism and forward-thinking harmony\, mixing warmth with the cerebral. And there are references to the Latin American rhythms and modern classical figures that are an innate part of Alvarez’s compositional and improvisational vocabulary. Beyond musical touchstones\, though\, it’s evident that there is a much more grand\, big-picture artistic vision at work.
URL:https://shapeshifterplus.org/event/holman-alvarezs/
LOCATION:ShapeShifter Lab\, 837 Union Street\, Ground Floor\, Brooklyn\, NY\, 11215\, United States
CATEGORIES:Live Music,Open Call Program
ATTACH;FMTTYPE=image/jpeg:https://shapeshifterplus.org/wp-content/uploads/2025/01/2O8A8983-holman-alvarez-scaled.jpeg
END:VEVENT
BEGIN:VEVENT
DTSTART;TZID=America/Halifax:20250121T203000
DTEND;TZID=America/Halifax:20250121T213000
DTSTAMP:20260424T174739
CREATED:20241221T000205Z
LAST-MODIFIED:20241221T002052Z
UID:43138-1737491400-1737495000@shapeshifterplus.org
SUMMARY:RedEye: One
DESCRIPTION:RedEye: One is the first concert of guitarist and composer Celine Kang’s band RedEye sextet. RedEye performs music inspired by diverse genres; each member interpreting the compositions in a very personal way from their own background and inspirations\, creating the musical world of the composer but not only limited to it. \n\n\n\n\n\nCeline Kang: Guitar\nNathan Nakadegawa-Lee: Tenor Saxophone\nBen Rosenbaum: Piano\nKaizan Connor: Bass\nDhruv Jain: Drums\nLiam Summers: Drums
URL:https://shapeshifterplus.org/event/redeye-one/
LOCATION:ShapeShifter Lab\, 837 Union Street\, Ground Floor\, Brooklyn\, NY\, 11215\, United States
CATEGORIES:Live Music,Open Call Program
ATTACH;FMTTYPE=image/jpeg:https://shapeshifterplus.org/wp-content/uploads/2024/12/EDECC35E-01BD-4C7F-AEBA-E7443DF288CB_1_102_a-Celine-Kang.jpeg
END:VEVENT
END:VCALENDAR