BEGIN:VCALENDAR
VERSION:2.0
PRODID:-//ShapeShifter Plus - ECPv6.15.20//NONSGML v1.0//EN
CALSCALE:GREGORIAN
METHOD:PUBLISH
X-ORIGINAL-URL:https://shapeshifterplus.org
X-WR-CALDESC:Events for ShapeShifter Plus
REFRESH-INTERVAL;VALUE=DURATION:PT1H
X-Robots-Tag:noindex
X-PUBLISHED-TTL:PT1H
BEGIN:VTIMEZONE
TZID:America/Halifax
BEGIN:DAYLIGHT
TZOFFSETFROM:-0400
TZOFFSETTO:-0300
TZNAME:ADT
DTSTART:20230312T060000
END:DAYLIGHT
BEGIN:STANDARD
TZOFFSETFROM:-0300
TZOFFSETTO:-0400
TZNAME:AST
DTSTART:20231105T050000
END:STANDARD
BEGIN:DAYLIGHT
TZOFFSETFROM:-0400
TZOFFSETTO:-0300
TZNAME:ADT
DTSTART:20240310T060000
END:DAYLIGHT
BEGIN:STANDARD
TZOFFSETFROM:-0300
TZOFFSETTO:-0400
TZNAME:AST
DTSTART:20241103T050000
END:STANDARD
BEGIN:DAYLIGHT
TZOFFSETFROM:-0400
TZOFFSETTO:-0300
TZNAME:ADT
DTSTART:20250309T060000
END:DAYLIGHT
BEGIN:STANDARD
TZOFFSETFROM:-0300
TZOFFSETTO:-0400
TZNAME:AST
DTSTART:20251102T050000
END:STANDARD
END:VTIMEZONE
BEGIN:VEVENT
DTSTART;TZID=America/Halifax:20241209T210000
DTEND;TZID=America/Halifax:20241209T220000
DTSTAMP:20260424T185956
CREATED:20241115T213929Z
LAST-MODIFIED:20241115T214125Z
UID:42432-1733778000-1733781600@shapeshifterplus.org
SUMMARY:George Crotty Trio
DESCRIPTION:George Crotty\, cello \nJohn Murchison\, bass \nJeremy Smith – percussion \n\n\n\n\n\n\nKnown for their expressive fluidity and modal orientation\, The George Crotty Trio makes music that is cinematic\, collaborative\, and conversational. They draw on influences within Indian raga\, Arabic maqam\, and modal jazz; using the language of other cultures to speak new things. “I’m not at home in any one culture\,” muses Crotty\, “so the trio became my home.”\n\nGeorge Crotty has forged his own unique vocabulary on the cello. A member of the Brooklyn Raga Massive\, and Detroit-based National Arab Orchestra\, he has also worked with esteemed musicians such as Bob Ezrin\, Adam Rudolph\, Simon Shaheen\, and Paquito D’Rivera. Crotty has performed as a soloist and bandleader in North America and Europe including at the Vancouver Jazz Festival\, Small World Music Festival\, Copenhagen Vinterjazz Festival\, and New Directions Cello Festival.\n\nPowered by John Murchison (bass) and Jeremy Smith (percussion)\, the George Crotty Trio’s sound deviates from a trio’s typical hierarchy.The three players intertwine on their own spontaneous terms in an exploration of groove and colour\, lending Crotty’s tunes an exciting three-dimensional quality.\n\n\n\n\n\nInsta: \n\n\n\n\n\n@georgecrottycello\n@johnmurchis\n@jeremysmithpercussion\n\n\n\n\n\nDoors at 8:30 pm;\nonline ticket sales closes 30 mins prior to showtime.\nGet your tickets early!
URL:https://shapeshifterplus.org/event/george-crotty-trio/
LOCATION:ShapeShifter Lab\, 837 Union Street\, Ground Floor\, Brooklyn\, NY\, 11215\, United States
CATEGORIES:Live Music,Open Call Program
ATTACH;FMTTYPE=image/jpeg:https://shapeshifterplus.org/wp-content/uploads/2024/11/GCTrio-NY-Band-1-George-Crotty-scaled.jpg
END:VEVENT
END:VCALENDAR