BEGIN:VCALENDAR
VERSION:2.0
PRODID:-//ShapeShifter Plus - ECPv6.15.20//NONSGML v1.0//EN
CALSCALE:GREGORIAN
METHOD:PUBLISH
X-ORIGINAL-URL:https://shapeshifterplus.org
X-WR-CALDESC:Events for ShapeShifter Plus
REFRESH-INTERVAL;VALUE=DURATION:PT1H
X-Robots-Tag:noindex
X-PUBLISHED-TTL:PT1H
BEGIN:VTIMEZONE
TZID:America/Halifax
BEGIN:DAYLIGHT
TZOFFSETFROM:-0400
TZOFFSETTO:-0300
TZNAME:ADT
DTSTART:20230312T060000
END:DAYLIGHT
BEGIN:STANDARD
TZOFFSETFROM:-0300
TZOFFSETTO:-0400
TZNAME:AST
DTSTART:20231105T050000
END:STANDARD
BEGIN:DAYLIGHT
TZOFFSETFROM:-0400
TZOFFSETTO:-0300
TZNAME:ADT
DTSTART:20240310T060000
END:DAYLIGHT
BEGIN:STANDARD
TZOFFSETFROM:-0300
TZOFFSETTO:-0400
TZNAME:AST
DTSTART:20241103T050000
END:STANDARD
BEGIN:DAYLIGHT
TZOFFSETFROM:-0400
TZOFFSETTO:-0300
TZNAME:ADT
DTSTART:20250309T060000
END:DAYLIGHT
BEGIN:STANDARD
TZOFFSETFROM:-0300
TZOFFSETTO:-0400
TZNAME:AST
DTSTART:20251102T050000
END:STANDARD
END:VTIMEZONE
BEGIN:VEVENT
DTSTART;TZID=America/Halifax:20241121T190000
DTEND;TZID=America/Halifax:20241121T200000
DTSTAMP:20260424T202151
CREATED:20241103T205324Z
LAST-MODIFIED:20241121T202311Z
UID:42041-1732215600-1732219200@shapeshifterplus.org
SUMMARY:Andrew Van Tassel Duo
DESCRIPTION:Andrew Van Tassel – Saxophones and Effects\nLucas Hahn – Piano and Keyboards\n\n\nAndrew Van Tassel is an award-winning musician who draws inspiration from several musical styles\, including bebop\, hard bop\, fusion\, indie rock\, R&B\, and classical music. His latest album\, Shape-Shifter\, showcases his unique sound and experiments with electronic elements in a contemporary jazz setting. Andrew’s albums have received praise from jazz critics worldwide\, and he has performed at renowned venues such as the Cornelia Street Cafe and Rockwood Music Hall. He has also played with bands of various genres\, including the GRAMMY-nominated Terraza Big Band. As a composer\, Andrew has been recognized with awards including the ASCAP Herb Alpert Young Jazz Composer Award. He has also been invited to teach and perform at prestigious schools\, most recently at the University of North Carolina at Chapel Hill. \n\nIn-person ticktets are available at the door on day of.
URL:https://shapeshifterplus.org/event/andrew-van-tassel-quartet/
LOCATION:ShapeShifter Lab\, 837 Union Street\, Ground Floor\, Brooklyn\, NY\, 11215\, United States
CATEGORIES:Live Music,Open Call Program
END:VEVENT
BEGIN:VEVENT
DTSTART;TZID=America/Halifax:20241121T203000
DTEND;TZID=America/Halifax:20241121T213000
DTSTAMP:20260424T202151
CREATED:20241029T021855Z
LAST-MODIFIED:20241029T021950Z
UID:41822-1732221000-1732224600@shapeshifterplus.org
SUMMARY:WHIMS
DESCRIPTION:WHIMS\, formed by guitarist Ryan Nicholls and drummer Brad Morrison is the culmination of their ongoing musical collaborations since college. As a duo\, the two push to create immersive\, dynamic transfixing and hypnotic soundscapes that could be styled as cinematic rock. \n\nRyan Nicholls – Guitar \nBrad Morrison – Drums \n 
URL:https://shapeshifterplus.org/event/morrison-nicholls/
LOCATION:ShapeShifter Lab\, 837 Union Street\, Ground Floor\, Brooklyn\, NY\, 11215\, United States
CATEGORIES:Live Music,Open Call Program
ATTACH;FMTTYPE=image/jpeg:https://shapeshifterplus.org/wp-content/uploads/2024/10/WHIMS_1-Brad-Morrison-1.jpeg
END:VEVENT
END:VCALENDAR