BEGIN:VCALENDAR
VERSION:2.0
PRODID:-//ShapeShifter Plus - ECPv6.15.20//NONSGML v1.0//EN
CALSCALE:GREGORIAN
METHOD:PUBLISH
X-WR-CALNAME:ShapeShifter Plus
X-ORIGINAL-URL:https://shapeshifterplus.org
X-WR-CALDESC:Events for ShapeShifter Plus
REFRESH-INTERVAL;VALUE=DURATION:PT1H
X-Robots-Tag:noindex
X-PUBLISHED-TTL:PT1H
BEGIN:VTIMEZONE
TZID:America/Halifax
BEGIN:DAYLIGHT
TZOFFSETFROM:-0400
TZOFFSETTO:-0300
TZNAME:ADT
DTSTART:20230312T060000
END:DAYLIGHT
BEGIN:STANDARD
TZOFFSETFROM:-0300
TZOFFSETTO:-0400
TZNAME:AST
DTSTART:20231105T050000
END:STANDARD
BEGIN:DAYLIGHT
TZOFFSETFROM:-0400
TZOFFSETTO:-0300
TZNAME:ADT
DTSTART:20240310T060000
END:DAYLIGHT
BEGIN:STANDARD
TZOFFSETFROM:-0300
TZOFFSETTO:-0400
TZNAME:AST
DTSTART:20241103T050000
END:STANDARD
BEGIN:DAYLIGHT
TZOFFSETFROM:-0400
TZOFFSETTO:-0300
TZNAME:ADT
DTSTART:20250309T060000
END:DAYLIGHT
BEGIN:STANDARD
TZOFFSETFROM:-0300
TZOFFSETTO:-0400
TZNAME:AST
DTSTART:20251102T050000
END:STANDARD
END:VTIMEZONE
BEGIN:VEVENT
DTSTART;TZID=America/Halifax:20241114T210000
DTEND;TZID=America/Halifax:20241114T220000
DTSTAMP:20260424T202158
CREATED:20241021T183628Z
LAST-MODIFIED:20241022T235057Z
UID:41690-1731618000-1731621600@shapeshifterplus.org
SUMMARY:the shape of a child
DESCRIPTION:  \nMy debut concept album THE SHAPE OF A CHILD is a sprawling\, theatrical exploration of identity and isolation through many styles\, from intimate chamber music to aggressive minimalism. Celebrate its release on Cantaloupe Music with a live band performing the piece in full. \nFeaturing Sebastian Zel\, David Mayers\, Lara Lewison\, Megan Rayl\, and Kyle Brenn \n\n\n\n\n\n\nKyle Brenn is a New York-based multi-disciplinary music and theater artist. He’s had work performed at Carnegie Hall\, the Bang on a Can Marathon\, MASS MoCA\, Dallas Contemporary\, and Ars Nova\, and his debut chamber opera TATI will premiere at The Kennedy Center in January 2025.\n\n\n\n\n\n  \ndoors: 30 mins before showtime;\nonline ticket sales ends: 30 mins before showtime;\ntickets at door = $25
URL:https://shapeshifterplus.org/event/kyle-brenn/
LOCATION:ShapeShifter Lab\, 837 Union Street\, Ground Floor\, Brooklyn\, NY\, 11215\, United States
CATEGORIES:Live Music,Open Call Program
ATTACH;FMTTYPE=image/jpeg:https://shapeshifterplus.org/wp-content/uploads/2024/10/TSOAC_cover_art_final-Kyle-Brenn-scaled.jpg
END:VEVENT
END:VCALENDAR