BEGIN:VCALENDAR
VERSION:2.0
PRODID:-//ShapeShifter Plus - ECPv6.15.20//NONSGML v1.0//EN
CALSCALE:GREGORIAN
METHOD:PUBLISH
X-ORIGINAL-URL:https://shapeshifterplus.org
X-WR-CALDESC:Events for ShapeShifter Plus
REFRESH-INTERVAL;VALUE=DURATION:PT1H
X-Robots-Tag:noindex
X-PUBLISHED-TTL:PT1H
BEGIN:VTIMEZONE
TZID:America/Halifax
BEGIN:DAYLIGHT
TZOFFSETFROM:-0400
TZOFFSETTO:-0300
TZNAME:ADT
DTSTART:20230312T060000
END:DAYLIGHT
BEGIN:STANDARD
TZOFFSETFROM:-0300
TZOFFSETTO:-0400
TZNAME:AST
DTSTART:20231105T050000
END:STANDARD
BEGIN:DAYLIGHT
TZOFFSETFROM:-0400
TZOFFSETTO:-0300
TZNAME:ADT
DTSTART:20240310T060000
END:DAYLIGHT
BEGIN:STANDARD
TZOFFSETFROM:-0300
TZOFFSETTO:-0400
TZNAME:AST
DTSTART:20241103T050000
END:STANDARD
BEGIN:DAYLIGHT
TZOFFSETFROM:-0400
TZOFFSETTO:-0300
TZNAME:ADT
DTSTART:20250309T060000
END:DAYLIGHT
BEGIN:STANDARD
TZOFFSETFROM:-0300
TZOFFSETTO:-0400
TZNAME:AST
DTSTART:20251102T050000
END:STANDARD
END:VTIMEZONE
BEGIN:VEVENT
DTSTART;TZID=America/Halifax:20241112T183000
DTEND;TZID=America/Halifax:20241112T193000
DTSTAMP:20260424T202227
CREATED:20241016T005133Z
LAST-MODIFIED:20241016T005540Z
UID:18138-1731436200-1731439800@shapeshifterplus.org
SUMMARY:Sam Jones Centennial
DESCRIPTION:Bobby Spellman (trumpet)\, \nHashem Assadullahi (alto sax)\, \nGeorge Burton (piano)\, \nMoppa Elliott (bass)\, \nVinnie Sperrazza (drums) \n\nTo celebrate the 100th birthday of the great bassist\, Sam Jones\, we will play a set of his compositions. \n  \n\ndoors at 6pm;\nonline ticket sales closes 30 mins before showtime.\nin-person tickets also available at the door
URL:https://shapeshifterplus.org/event/sam-jones-centennial-moppa/
LOCATION:ShapeShifter Lab\, 837 Union Street\, Ground Floor\, Brooklyn\, NY\, 11215\, United States
CATEGORIES:Live Music,Open Call Program
ATTACH;FMTTYPE=image/jpeg:https://shapeshifterplus.org/wp-content/uploads/2024/10/sam-Matthew-Elliott.jpg
END:VEVENT
BEGIN:VEVENT
DTSTART;TZID=America/Halifax:20241112T200000
DTEND;TZID=America/Halifax:20241112T230000
DTSTAMP:20260424T202227
CREATED:20241016T003525Z
LAST-MODIFIED:20241016T003525Z
UID:18133-1731441600-1731452400@shapeshifterplus.org
SUMMARY:Debbie Deane's Birthday Party Gig!
DESCRIPTION:Debbie Deane–Piano & Vocals\, \nJim Whitney–Bass\, \nAdrian Harpham–Drums plus SPECIAL GUESTS! \n\n\n\n\n\n\nBrooklyn born and raised singer/songstress/pianist Debbie Deane brings her jazz-tinged songs to Shapeshifter Lab in celebration of her birthday. Come hear Debbie with her awesome band (plus special guests!). Then hang out to celebrate 🙂\nOne long set at 8 PM followed by a party/hang until 11 PM.
URL:https://shapeshifterplus.org/event/debbie-deane-bday/
LOCATION:ShapeShifter Lab\, 837 Union Street\, Ground Floor\, Brooklyn\, NY\, 11215\, United States
CATEGORIES:Live Music,Open Call Program
ATTACH;FMTTYPE=image/jpeg:https://shapeshifterplus.org/wp-content/uploads/2024/10/Debbie-Deane-web-pic-Debbie-Deane.jpg
END:VEVENT
END:VCALENDAR