BEGIN:VCALENDAR
VERSION:2.0
PRODID:-//ShapeShifter Plus - ECPv6.15.20//NONSGML v1.0//EN
CALSCALE:GREGORIAN
METHOD:PUBLISH
X-WR-CALNAME:ShapeShifter Plus
X-ORIGINAL-URL:https://shapeshifterplus.org
X-WR-CALDESC:Events for ShapeShifter Plus
REFRESH-INTERVAL;VALUE=DURATION:PT1H
X-Robots-Tag:noindex
X-PUBLISHED-TTL:PT1H
BEGIN:VTIMEZONE
TZID:America/Halifax
BEGIN:DAYLIGHT
TZOFFSETFROM:-0400
TZOFFSETTO:-0300
TZNAME:ADT
DTSTART:20230312T060000
END:DAYLIGHT
BEGIN:STANDARD
TZOFFSETFROM:-0300
TZOFFSETTO:-0400
TZNAME:AST
DTSTART:20231105T050000
END:STANDARD
BEGIN:DAYLIGHT
TZOFFSETFROM:-0400
TZOFFSETTO:-0300
TZNAME:ADT
DTSTART:20240310T060000
END:DAYLIGHT
BEGIN:STANDARD
TZOFFSETFROM:-0300
TZOFFSETTO:-0400
TZNAME:AST
DTSTART:20241103T050000
END:STANDARD
BEGIN:DAYLIGHT
TZOFFSETFROM:-0400
TZOFFSETTO:-0300
TZNAME:ADT
DTSTART:20250309T060000
END:DAYLIGHT
BEGIN:STANDARD
TZOFFSETFROM:-0300
TZOFFSETTO:-0400
TZNAME:AST
DTSTART:20251102T050000
END:STANDARD
END:VTIMEZONE
BEGIN:VEVENT
DTSTART;TZID=America/Halifax:20241108T210000
DTEND;TZID=America/Halifax:20241108T223000
DTSTAMP:20260424T202737
CREATED:20240913T020904Z
LAST-MODIFIED:20241109T020808Z
UID:17028-1731099600-1731105000@shapeshifterplus.org
SUMMARY:Dave Bryant/Wire and Bone with Jamaaladeen Tacuma and George Garzone
DESCRIPTION:Dave Bryant (keyboards)\,\nJamaaladeen Tacuma (bass)\,\nGeorge Garzone (tenor saxophone)\,\nKenny Wessel (guitar)\,\nEric Hofbauer (guitar)\,\nChris Bowman (drums)\n\n\n\nKeyboardist and composer Dave Bryant brings the band from his recent Wire and Bone CD\, featuring his fellow members of Ornette Coleman’s Prime Time\, bassist Jamaaladeen Tacuma and guitarist Kenny Wessel\, as well as saxophonist George Garzone\, guitarist Eric Hofbauer\, and percussionist Chris Bowman. Electric and acoustic\, funky and serene\, melodic and cacophonous\, this is music with a broad palette and a multifaceted shared sensibility.\nwww.dbryantmusic.com\n@tacumasong @saxello
URL:https://shapeshifterplus.org/event/bryant-jamaaladeen-tacuma-garzone/
LOCATION:ShapeShifter Lab\, 837 Union Street\, Ground Floor\, Brooklyn\, NY\, 11215\, United States
CATEGORIES:Live Music,Open Call Program
ATTACH;FMTTYPE=image/jpeg:https://shapeshifterplus.org/wp-content/uploads/2024/09/Wire-and-Bone-CD-band-photo-Dave-Bryant.jpg
END:VEVENT
END:VCALENDAR