BEGIN:VCALENDAR
VERSION:2.0
PRODID:-//ShapeShifter Plus - ECPv6.15.20//NONSGML v1.0//EN
CALSCALE:GREGORIAN
METHOD:PUBLISH
X-WR-CALNAME:ShapeShifter Plus
X-ORIGINAL-URL:https://shapeshifterplus.org
X-WR-CALDESC:Events for ShapeShifter Plus
REFRESH-INTERVAL;VALUE=DURATION:PT1H
X-Robots-Tag:noindex
X-PUBLISHED-TTL:PT1H
BEGIN:VTIMEZONE
TZID:America/Halifax
BEGIN:DAYLIGHT
TZOFFSETFROM:-0400
TZOFFSETTO:-0300
TZNAME:ADT
DTSTART:20230312T060000
END:DAYLIGHT
BEGIN:STANDARD
TZOFFSETFROM:-0300
TZOFFSETTO:-0400
TZNAME:AST
DTSTART:20231105T050000
END:STANDARD
BEGIN:DAYLIGHT
TZOFFSETFROM:-0400
TZOFFSETTO:-0300
TZNAME:ADT
DTSTART:20240310T060000
END:DAYLIGHT
BEGIN:STANDARD
TZOFFSETFROM:-0300
TZOFFSETTO:-0400
TZNAME:AST
DTSTART:20241103T050000
END:STANDARD
BEGIN:DAYLIGHT
TZOFFSETFROM:-0400
TZOFFSETTO:-0300
TZNAME:ADT
DTSTART:20250309T060000
END:DAYLIGHT
BEGIN:STANDARD
TZOFFSETFROM:-0300
TZOFFSETTO:-0400
TZNAME:AST
DTSTART:20251102T050000
END:STANDARD
END:VTIMEZONE
BEGIN:VEVENT
DTSTART;TZID=America/Halifax:20241102T193000
DTEND;TZID=America/Halifax:20241102T203000
DTSTAMP:20260424T202739
CREATED:20241015T235349Z
LAST-MODIFIED:20241016T004217Z
UID:18123-1730575800-1730579400@shapeshifterplus.org
SUMMARY:Los ALiENs
DESCRIPTION:Sebastián Cruz: guitar\nStomu Takeishi: bass\nAndrés Jiménez: drums\nRicardo Gallo: synthesizers (and Rhodes)\n\n\n\n\n\nhttps://losaliens.bandcamp.com \n\nLos ALiENs come from a land where their star radiates directly into their atmosphere while hot grooves reproduce like viruses permeating their daily aural landscape. Los ALiENs create sonic explorations energized by rhythms sprouted in the tropics of this third planet\, especially around northern South America and the Caribbean. In November 2022 they released their Long Play “Odd Subjects” On Planet Earth with the label JUGA Music. This funky-electric band is led by composer Ricardo Gallo\, playing synths and keyboards. The group features Andrés Jiménez (a.k.a. Dilemastronauta) on drums\, Stomu Takeishi on bass\, and Sebastián Cruz on guitar. Los ALiENs take refuge in New York City where they have performed across the boroughs. \n\ndoors @7 pm;\nonline ticket sales ends at 6:30 pm. \ntickets are also available in-person at door.
URL:https://shapeshifterplus.org/event/los-aliens-ricardo-gallo/
LOCATION:ShapeShifter Lab\, 837 Union Street\, Ground Floor\, Brooklyn\, NY\, 11215\, United States
CATEGORIES:Live Music,Open Call Program
ATTACH;FMTTYPE=image/jpeg:https://shapeshifterplus.org/wp-content/uploads/2024/10/LosAliens_b_n_w_wsq-Ricardo-Gallo-scaled.jpg
END:VEVENT
BEGIN:VEVENT
DTSTART;TZID=America/Halifax:20241102T210000
DTEND;TZID=America/Halifax:20241102T220000
DTSTAMP:20260424T202739
CREATED:20241022T025219Z
LAST-MODIFIED:20241022T025442Z
UID:41701-1730581200-1730584800@shapeshifterplus.org
SUMMARY:Elektrik Market
DESCRIPTION:ELEKTRIK MARKET\n\n\nSteve Hunt – Keyboards\, Synths\nErvin Dhimo – Bass\, Fretless Bass\nJovol-Bam Bam-Bell – Drums\, Percussion\n​\nInternationally acclaimed keyboardist Steve Hunt (Allan Holdsworth\, Stanley Clarke\, Virgil Donati) has teamed up with Albanian born powerhouse bassist Ervin Dhimo and virtuoso drummer Jovol Bell to create a new energetic and exciting power-trio called “Elektrik Market”.\n​\nThese highly proficient and talented musicians have been electrifying their audiences with high-energy captivating performances blending creative expressions of soundscaping and grooves with mesmerizing improvisational interplay. This group brings the listener with them on a thrilling psychedelic musical journey with their harmonious arrangements full of soaring dynamic textures and colors all laid upon a foundation of funk and groove. The show without a doubt leaves the spectators craving for more.\n​\n“As a band and individual artist\, we draw on the influences and inspiration from the past 50 years of contemporary jazz\, funk and fusion music and blend that with our own original concepts” – Elektrik Market\n\n\n\n\n\n  \nDoors @8:30 pm;\nonline ticket sales closes 30 mins before showtime;\ntickets are available also at door;\ntickets at door = $25
URL:https://shapeshifterplus.org/event/ervin-dhimo-2/
LOCATION:ShapeShifter Lab\, 837 Union Street\, Ground Floor\, Brooklyn\, NY\, 11215\, United States
CATEGORIES:Live Music,Open Call Program
ATTACH;FMTTYPE=image/jpeg:https://shapeshifterplus.org/wp-content/uploads/2024/10/IMG_3303-Ervin-Dhimo-scaled.jpg
END:VEVENT
END:VCALENDAR