BEGIN:VCALENDAR
VERSION:2.0
PRODID:-//ShapeShifter Plus - ECPv6.15.20//NONSGML v1.0//EN
CALSCALE:GREGORIAN
METHOD:PUBLISH
X-WR-CALNAME:ShapeShifter Plus
X-ORIGINAL-URL:https://shapeshifterplus.org
X-WR-CALDESC:Events for ShapeShifter Plus
REFRESH-INTERVAL;VALUE=DURATION:PT1H
X-Robots-Tag:noindex
X-PUBLISHED-TTL:PT1H
BEGIN:VTIMEZONE
TZID:America/Halifax
BEGIN:DAYLIGHT
TZOFFSETFROM:-0400
TZOFFSETTO:-0300
TZNAME:ADT
DTSTART:20230312T060000
END:DAYLIGHT
BEGIN:STANDARD
TZOFFSETFROM:-0300
TZOFFSETTO:-0400
TZNAME:AST
DTSTART:20231105T050000
END:STANDARD
BEGIN:DAYLIGHT
TZOFFSETFROM:-0400
TZOFFSETTO:-0300
TZNAME:ADT
DTSTART:20240310T060000
END:DAYLIGHT
BEGIN:STANDARD
TZOFFSETFROM:-0300
TZOFFSETTO:-0400
TZNAME:AST
DTSTART:20241103T050000
END:STANDARD
BEGIN:DAYLIGHT
TZOFFSETFROM:-0400
TZOFFSETTO:-0300
TZNAME:ADT
DTSTART:20250309T060000
END:DAYLIGHT
BEGIN:STANDARD
TZOFFSETFROM:-0300
TZOFFSETTO:-0400
TZNAME:AST
DTSTART:20251102T050000
END:STANDARD
END:VTIMEZONE
BEGIN:VEVENT
DTSTART;TZID=America/Halifax:20241101T190000
DTEND;TZID=America/Halifax:20241101T200000
DTSTAMP:20260424T202737
CREATED:20241016T001950Z
LAST-MODIFIED:20241101T222036Z
UID:18128-1730487600-1730491200@shapeshifterplus.org
SUMMARY:Evergreen
DESCRIPTION:Jihee Heo (piano)\nRafael Enciso (bass)\nLeo Yucht (drums)\nRavi Sharma (guitar)\n\n\n\n\n\n\nTrumpeter\, composer\, educator\, and recording artist Jun Iida has quickly established himself as a highly sought after musician. A recording and performing artist\, Iida has performed extensively throughout the U.S. and Japan at notable jazz clubs\, theaters\, and festivals with his sextet and as a sideman.\n\nOriginally from St. Louis\, MO\, Iida has lived in Seattle\, Pittsburgh\, Cleveland\, and Los Angeles\, and now New York City. Iida has internalized the different styles of music from each region\, making his approach to composing and arranging appealing and unexpected with his subtle amalgamation of contemporary jazz\, blues\, pop\, hip-hop\, soul\, and classical music.\n\nIida’s debut album as leader\, Evergreen\, was released January 19\, 2024 on Origin Records. “Iida has a mellow tone and a relaxed style… his wide interests in music and versatility are on display.” – DownBeat\n\n\n\n\n\n\n\nTickets are available at door in-person.
URL:https://shapeshifterplus.org/event/evergreen-jun-iida/
LOCATION:ShapeShifter Lab\, 837 Union Street\, Ground Floor\, Brooklyn\, NY\, 11215\, United States
CATEGORIES:Live Music,Open Call Program
ATTACH;FMTTYPE=image/jpeg:https://shapeshifterplus.org/wp-content/uploads/2024/10/2023-04-08-Jun-Iida22165-Large-Jun-Iida.jpeg
END:VEVENT
BEGIN:VEVENT
DTSTART;TZID=America/Halifax:20241101T203000
DTEND;TZID=America/Halifax:20241101T213000
DTSTAMP:20260424T202737
CREATED:20241016T172042Z
LAST-MODIFIED:20241016T172215Z
UID:18157-1730493000-1730496600@shapeshifterplus.org
SUMMARY:Toolik
DESCRIPTION:Arad Evans–vocals/acoustic guitar; \nJennifer Coates–vocals/violin; \nMoppa Elliott–stand up bass; \nRohin Kehmani–percussion \n\nHeroes of Toolik is an long established\, New York\, avant-folk inflected\, new music group: violin\, guitar\, strange drums and stand-up bass. Guitarist Arad Evans (Glenn Branca\, Rhys Chatham) and old-time fiddle specialist Jennifer Coates anchor\, composing and sharing vocals. Moppa Elliott (Mostly Other People Do The Killing) joins on stand-up bass and avant-garde stalwart Rohin Khemani appears on diverse and experimental percussion. References range from Steve Reich to Captain Beefheart\, “deceptively catchy\, hypnotically growling\, post-Velvets grooves.” (NY Music Daily). “Remarkable players at the height of their mastery.” (Jersey Beat) \nhttps://www.facebook.com/HeroesOfToolik \n\nDoors: 30 mins before showtime\,\nonline ticket sales closes 1 hour before showtime\,\nin-person available at doors but please get your tickets early!
URL:https://shapeshifterplus.org/event/toolik-evans-wohlforth/
LOCATION:ShapeShifter Lab\, 837 Union Street\, Ground Floor\, Brooklyn\, NY\, 11215\, United States
CATEGORIES:Live Music,Open Call Program
ATTACH;FMTTYPE=image/jpeg:https://shapeshifterplus.org/wp-content/uploads/2024/10/Toolik-Antlers-Eric-Larkin-1.jpg
END:VEVENT
BEGIN:VEVENT
DTSTART;TZID=America/Halifax:20241101T220000
DTEND;TZID=America/Halifax:20241101T230000
DTSTAMP:20260424T202737
CREATED:20240816T043324Z
LAST-MODIFIED:20240816T043324Z
UID:16237-1730498400-1730502000@shapeshifterplus.org
SUMMARY:Old Friends Beckoned / New Sounds Reckoned
DESCRIPTION:Matt Steckler – sax/winds \nYayoi Ikawa – piano \nLonnie Plaxico – bass \nTony Lewis – drums \n  \nThe names Ikawa / Lewis / Plaxico / Steckler suggests four musicians who have intersected at different points on a jazz timeline. With the project Old Friends Beckoned / New Sounds Reckoned\, their shared histories converge as singular new ideas emerge. Using original scores as a canvas\, the quartet strives for a deeper vibe that comes with shared sacrifice of individual prowess. The result is music that draws on collective inspiration\, touching the heart with one cohesive brushstroke.
URL:https://shapeshifterplus.org/event/m-steckler/
LOCATION:ShapeShifter Lab\, 837 Union Street\, Ground Floor\, Brooklyn\, NY\, 11215\, United States
CATEGORIES:Live Music,Open Call Program
ATTACH;FMTTYPE=image/jpeg:https://shapeshifterplus.org/wp-content/uploads/2024/08/IMG_2147-1-Matthew-Steckler.jpg
END:VEVENT
END:VCALENDAR