BEGIN:VCALENDAR
VERSION:2.0
PRODID:-//ShapeShifter Plus - ECPv6.15.20//NONSGML v1.0//EN
CALSCALE:GREGORIAN
METHOD:PUBLISH
X-WR-CALNAME:ShapeShifter Plus
X-ORIGINAL-URL:https://shapeshifterplus.org
X-WR-CALDESC:Events for ShapeShifter Plus
REFRESH-INTERVAL;VALUE=DURATION:PT1H
X-Robots-Tag:noindex
X-PUBLISHED-TTL:PT1H
BEGIN:VTIMEZONE
TZID:America/Halifax
BEGIN:DAYLIGHT
TZOFFSETFROM:-0400
TZOFFSETTO:-0300
TZNAME:ADT
DTSTART:20230312T060000
END:DAYLIGHT
BEGIN:STANDARD
TZOFFSETFROM:-0300
TZOFFSETTO:-0400
TZNAME:AST
DTSTART:20231105T050000
END:STANDARD
BEGIN:DAYLIGHT
TZOFFSETFROM:-0400
TZOFFSETTO:-0300
TZNAME:ADT
DTSTART:20240310T060000
END:DAYLIGHT
BEGIN:STANDARD
TZOFFSETFROM:-0300
TZOFFSETTO:-0400
TZNAME:AST
DTSTART:20241103T050000
END:STANDARD
BEGIN:DAYLIGHT
TZOFFSETFROM:-0400
TZOFFSETTO:-0300
TZNAME:ADT
DTSTART:20250309T060000
END:DAYLIGHT
BEGIN:STANDARD
TZOFFSETFROM:-0300
TZOFFSETTO:-0400
TZNAME:AST
DTSTART:20251102T050000
END:STANDARD
END:VTIMEZONE
BEGIN:VEVENT
DTSTART;TZID=America/Halifax:20241013T200000
DTEND;TZID=America/Halifax:20241013T210000
DTSTAMP:20260424T224745
CREATED:20240930T211705Z
LAST-MODIFIED:20240930T213526Z
UID:17580-1728849600-1728853200@shapeshifterplus.org
SUMMARY:Vardan Ovsepian & Roni Eytan
DESCRIPTION:Vardan Ovsepian\, piano\nRoni Eytan\, harmonica\nJoshua Davis\, bass\nJay Sawyer\, drums\n\n\n\n\n\nWestern classical music with contemporary groove-based jazz From the early years Vardan was fascinated by the blend of western classical music with jazz\, and has been in perpetual search for unique ways of incorporating the hybrid formation in his composing and improvising. Throughout the years Vardan has also developed a remarkable angular geometric world\, connected to his background in chess\, and his attraction to minimalism and modern architecture\, resulting in the formation of this extraordinary band of thinkers and feelers! \n 
URL:https://shapeshifterplus.org/event/vardan-ovsepian-roni-eytan/
LOCATION:ShapeShifter Lab\, 837 Union Street\, Ground Floor\, Brooklyn\, NY\, 11215\, United States
CATEGORIES:Live Music,Open Call Program
ATTACH;FMTTYPE=image/jpeg:https://shapeshifterplus.org/wp-content/uploads/2024/09/Hadley-1047-Joshua-Davis.jpg
END:VEVENT
END:VCALENDAR