BEGIN:VCALENDAR
VERSION:2.0
PRODID:-//ShapeShifter Plus - ECPv6.15.20//NONSGML v1.0//EN
CALSCALE:GREGORIAN
METHOD:PUBLISH
X-WR-CALNAME:ShapeShifter Plus
X-ORIGINAL-URL:https://shapeshifterplus.org
X-WR-CALDESC:Events for ShapeShifter Plus
REFRESH-INTERVAL;VALUE=DURATION:PT1H
X-Robots-Tag:noindex
X-PUBLISHED-TTL:PT1H
BEGIN:VTIMEZONE
TZID:America/Halifax
BEGIN:DAYLIGHT
TZOFFSETFROM:-0400
TZOFFSETTO:-0300
TZNAME:ADT
DTSTART:20230312T060000
END:DAYLIGHT
BEGIN:STANDARD
TZOFFSETFROM:-0300
TZOFFSETTO:-0400
TZNAME:AST
DTSTART:20231105T050000
END:STANDARD
BEGIN:DAYLIGHT
TZOFFSETFROM:-0400
TZOFFSETTO:-0300
TZNAME:ADT
DTSTART:20240310T060000
END:DAYLIGHT
BEGIN:STANDARD
TZOFFSETFROM:-0300
TZOFFSETTO:-0400
TZNAME:AST
DTSTART:20241103T050000
END:STANDARD
BEGIN:DAYLIGHT
TZOFFSETFROM:-0400
TZOFFSETTO:-0300
TZNAME:ADT
DTSTART:20250309T060000
END:DAYLIGHT
BEGIN:STANDARD
TZOFFSETFROM:-0300
TZOFFSETTO:-0400
TZNAME:AST
DTSTART:20251102T050000
END:STANDARD
END:VTIMEZONE
BEGIN:VEVENT
DTSTART;TZID=America/Halifax:20241009T210000
DTEND;TZID=America/Halifax:20241009T230000
DTSTAMP:20260424T224744
CREATED:20240923T061115Z
LAST-MODIFIED:20241009T222725Z
UID:17320-1728507600-1728514800@shapeshifterplus.org
SUMMARY:Thursday Music Krewe Double Bill with (L)os Rítmicos 
DESCRIPTION:Thursday Music Krewe (10 pm)\nPhillip Goedicke (Tenor Sax); \nJustin Wang (Trombone); \nJosh Rosenblatt (Guitar); \nChris Dyess (Bass); \nRenan Teuman (Drums) \n\nThursday Music Krewe began as a group of like-minded musicians with diverse artistic influences who came together for weekly jazz workshops as a way to express their musical identity and collaborate with each other. The Krewe’s weekly jazz workshops evolved to encompass a steady and ever growing repertoire of jazz across the cannon of American jazz music from bebop to hardbop and beyond. \n  \nhttps://www.instagram.com/ThursdayMusicKrewe/ \n\n(L)os Rítmicos (9 pm)\n\n\n\n\n\nPhilipp Goedicke – Tenor sax\nJosh Rosenblatt – Guitar\nEyal Kotick – Piano\nTiago Fauth – Bass\nRob Duncan – Drums\n\n\n\n\n\n(L)os Rítmicos are a quintet from New York City that improvises on Brazilian and Afro-Cuban standards. The name roughly translates to “the rhythmists” in both Spanish and Portuguese. They incorporates various rhythms and styles from South America and the Caribbean including samba\, bossa nova\, MPB\, calango\, mambo\, songo\, cha-cha-cha\, bolero\, and more. \nhttps://www.instagram.com/losritmicos_nyc
URL:https://shapeshifterplus.org/event/chris-dyess/
LOCATION:ShapeShifter Lab\, 837 Union Street\, Ground Floor\, Brooklyn\, NY\, 11215\, United States
CATEGORIES:Live Music,Open Call Program
ATTACH;FMTTYPE=image/png:https://shapeshifterplus.org/wp-content/uploads/2024/09/Screenshot-2024-09-23-at-2.13.03 AM.png
END:VEVENT
END:VCALENDAR