BEGIN:VCALENDAR
VERSION:2.0
PRODID:-//ShapeShifter Plus - ECPv6.15.20//NONSGML v1.0//EN
CALSCALE:GREGORIAN
METHOD:PUBLISH
X-WR-CALNAME:ShapeShifter Plus
X-ORIGINAL-URL:https://shapeshifterplus.org
X-WR-CALDESC:Events for ShapeShifter Plus
REFRESH-INTERVAL;VALUE=DURATION:PT1H
X-Robots-Tag:noindex
X-PUBLISHED-TTL:PT1H
BEGIN:VTIMEZONE
TZID:America/Halifax
BEGIN:DAYLIGHT
TZOFFSETFROM:-0400
TZOFFSETTO:-0300
TZNAME:ADT
DTSTART:20230312T060000
END:DAYLIGHT
BEGIN:STANDARD
TZOFFSETFROM:-0300
TZOFFSETTO:-0400
TZNAME:AST
DTSTART:20231105T050000
END:STANDARD
BEGIN:DAYLIGHT
TZOFFSETFROM:-0400
TZOFFSETTO:-0300
TZNAME:ADT
DTSTART:20240310T060000
END:DAYLIGHT
BEGIN:STANDARD
TZOFFSETFROM:-0300
TZOFFSETTO:-0400
TZNAME:AST
DTSTART:20241103T050000
END:STANDARD
BEGIN:DAYLIGHT
TZOFFSETFROM:-0400
TZOFFSETTO:-0300
TZNAME:ADT
DTSTART:20250309T060000
END:DAYLIGHT
BEGIN:STANDARD
TZOFFSETFROM:-0300
TZOFFSETTO:-0400
TZNAME:AST
DTSTART:20251102T050000
END:STANDARD
END:VTIMEZONE
BEGIN:VEVENT
DTSTART;TZID=America/Halifax:20241005T160000
DTEND;TZID=America/Halifax:20241005T173000
DTSTAMP:20260424T224751
CREATED:20240910T184855Z
LAST-MODIFIED:20241005T170523Z
UID:16971-1728144000-1728149400@shapeshifterplus.org
SUMMARY:MAKBET
DESCRIPTION:Matt Mitler\, Megan Bones\, Yvonne Brechbuhler \n  \nMAKBET\, Dzieci Theatre’s visceral take on Macbeth\, begins when a riotous clan from the “Old Country” greets you with song\, dance\, and divination\, then embarks on a riotous whirlwind of spine-tingling theatrical invention. With feats of astonishing physicality and otherworldly choral chanting\, this ageless tale of greed\, corruption\, and foul deeds\, comes alive through the unflinching performances of a handful of actors who take turns spontaneously trading off parts at the drop of a hat (literally!)\, exploding the very essence of theatre and storytelling. \n  \nhttp://dziecitheatre.org/ \nPreview
URL:https://shapeshifterplus.org/event/makbet-matt-mitler/
LOCATION:ShapeShifter Lab\, 837 Union Street\, Ground Floor\, Brooklyn\, NY\, 11215\, United States
CATEGORIES:Open Call Program,Theater
ATTACH;FMTTYPE=image/jpeg:https://shapeshifterplus.org/wp-content/uploads/2024/09/Cauldron-Sq-Dzieci-Theatre.jpg
END:VEVENT
END:VCALENDAR