BEGIN:VCALENDAR
VERSION:2.0
PRODID:-//ShapeShifter Plus - ECPv6.15.20//NONSGML v1.0//EN
CALSCALE:GREGORIAN
METHOD:PUBLISH
X-ORIGINAL-URL:https://shapeshifterplus.org
X-WR-CALDESC:Events for ShapeShifter Plus
REFRESH-INTERVAL;VALUE=DURATION:PT1H
X-Robots-Tag:noindex
X-PUBLISHED-TTL:PT1H
BEGIN:VTIMEZONE
TZID:America/Halifax
BEGIN:DAYLIGHT
TZOFFSETFROM:-0400
TZOFFSETTO:-0300
TZNAME:ADT
DTSTART:20230312T060000
END:DAYLIGHT
BEGIN:STANDARD
TZOFFSETFROM:-0300
TZOFFSETTO:-0400
TZNAME:AST
DTSTART:20231105T050000
END:STANDARD
BEGIN:DAYLIGHT
TZOFFSETFROM:-0400
TZOFFSETTO:-0300
TZNAME:ADT
DTSTART:20240310T060000
END:DAYLIGHT
BEGIN:STANDARD
TZOFFSETFROM:-0300
TZOFFSETTO:-0400
TZNAME:AST
DTSTART:20241103T050000
END:STANDARD
BEGIN:DAYLIGHT
TZOFFSETFROM:-0400
TZOFFSETTO:-0300
TZNAME:ADT
DTSTART:20250309T060000
END:DAYLIGHT
BEGIN:STANDARD
TZOFFSETFROM:-0300
TZOFFSETTO:-0400
TZNAME:AST
DTSTART:20251102T050000
END:STANDARD
END:VTIMEZONE
BEGIN:VEVENT
DTSTART;TZID=America/Halifax:20240830T190000
DTEND;TZID=America/Halifax:20240830T200000
DTSTAMP:20260425T000330
CREATED:20240810T021312Z
LAST-MODIFIED:20240810T021312Z
UID:16144-1725044400-1725048000@shapeshifterplus.org
SUMMARY:Derek Lewis Sextet
DESCRIPTION:Derek Lewis – Piano\nZwelakhe-Duma Belle le Pere – Upright Bass\nRyan Sands – Drums\nKal Ferretti – Trumpet\nSean Hong Wei – Tenor Sax\nWes Lewis – Alto Sax \n  \nDerek Lewis is a New York City based Pianist\, Composer\, and Educator\, originally from Buffalo\, New York. in 2021\, Lewis moved to New York City to complete his undergraduate degree at the prestigious New School for Jazz and Contemporary Music. Derek has performed at established venues such as the 2022 Bern International Jazz Festival in Switzerland\, the 2023 Yale Jazz Collective Jazz Festival\, the 2024 Northwest Jazz Festival\, Smalls Jazz Club\, Zinc Bar\, the Buffalo Colored Musicians Club\, The National Jazz Museum in Harlem\, Wally’s Jazz Cafe\, The Treelawn\, Pausa Art House\, and with Harlem Jazz Boxx for their Harlem Jazz Series. In addition to leading his own trio\, he has played with Philip Harper\, Sabu Adeyola\, Eugenie Jones\, and Kahlil Kwame Bell.
URL:https://shapeshifterplus.org/event/derek-lewis/
LOCATION:ShapeShifter Lab\, 837 Union Street\, Ground Floor\, Brooklyn\, NY\, 11215\, United States
CATEGORIES:Live Music,Open Call Program
ATTACH;FMTTYPE=image/jpeg:https://shapeshifterplus.org/wp-content/uploads/2024/08/Derek-Lewis-photo.jpg
END:VEVENT
END:VCALENDAR