BEGIN:VCALENDAR
VERSION:2.0
PRODID:-//ShapeShifter Plus - ECPv6.15.20//NONSGML v1.0//EN
CALSCALE:GREGORIAN
METHOD:PUBLISH
X-ORIGINAL-URL:https://shapeshifterplus.org
X-WR-CALDESC:Events for ShapeShifter Plus
REFRESH-INTERVAL;VALUE=DURATION:PT1H
X-Robots-Tag:noindex
X-PUBLISHED-TTL:PT1H
BEGIN:VTIMEZONE
TZID:America/New_York
BEGIN:DAYLIGHT
TZOFFSETFROM:-0500
TZOFFSETTO:-0400
TZNAME:EDT
DTSTART:20250309T070000
END:DAYLIGHT
BEGIN:STANDARD
TZOFFSETFROM:-0400
TZOFFSETTO:-0500
TZNAME:EST
DTSTART:20251102T060000
END:STANDARD
BEGIN:DAYLIGHT
TZOFFSETFROM:-0500
TZOFFSETTO:-0400
TZNAME:EDT
DTSTART:20260308T070000
END:DAYLIGHT
BEGIN:STANDARD
TZOFFSETFROM:-0400
TZOFFSETTO:-0500
TZNAME:EST
DTSTART:20261101T060000
END:STANDARD
BEGIN:DAYLIGHT
TZOFFSETFROM:-0500
TZOFFSETTO:-0400
TZNAME:EDT
DTSTART:20270314T070000
END:DAYLIGHT
BEGIN:STANDARD
TZOFFSETFROM:-0400
TZOFFSETTO:-0500
TZNAME:EST
DTSTART:20271107T060000
END:STANDARD
END:VTIMEZONE
BEGIN:VEVENT
DTSTART;TZID=America/New_York:20260206T190000
DTEND;TZID=America/New_York:20260206T200000
DTSTAMP:20260423T195118
CREATED:20260107T042140Z
LAST-MODIFIED:20260107T042450Z
UID:46685-1770404400-1770408000@shapeshifterplus.org
SUMMARY:Senya
DESCRIPTION:This is a six-piece ensemble performing all original music — energetic\, exploratory\, and designed to make you happy.\n\n\nSenya is a guitarist\, bandleader\, and composer based in Chicago and New York who has been headlining venues across Chicago for half a decade. His group pushes the boundaries of jazz\, drawing inspiration from punk to classical musics. As a sideman\, Senya has worked with artists such as Big Chief Donald Harrison and Marquis Hill and studied under Mike Moreno\, Mark Whitfield\, Bobby Broom\, and Gilad Hekselman.Artist/Project  \n\nSenya — guitar\nMiriam Gorof-Behel — alto saxophone\nDylan Smith — vibraphone\nJude Peterson — piano\nSteven Bowman (tentative) — double bass\nRehaan Rouege — drums\n\n  \nhttps://www.instagram.com/senya.music/ \nhttps://www.instagram.com/_jude_peterson_/ \nhttps://www.instagram.com/mg.behel/ \nhttps://www.instagram.com/dylankesmith/ \nhttps://www.instagram.com/chosenstixx/
URL:https://shapeshifterplus.org/event/senya/
LOCATION:ShapeShifter Lab\, 837 Union Street\, Ground Floor\, Brooklyn\, NY\, 11215\, United States
CATEGORIES:Live Music,Open Call Program
ATTACH;FMTTYPE=image/jpeg:https://shapeshifterplus.org/wp-content/uploads/2026/01/9fdcf76ffdd0aa09998c8a18eb5a4e72-WjDsPh.tmp_.jpg
END:VEVENT
BEGIN:VEVENT
DTSTART;TZID=America/New_York:20260207T140000
DTEND;TZID=America/New_York:20260207T150000
DTSTAMP:20260423T195118
CREATED:20251201T044928Z
LAST-MODIFIED:20260123T020035Z
UID:46556-1770472800-1770476400@shapeshifterplus.org
SUMMARY:Show Up\, Kids!
DESCRIPTION:Interactive comic storytelling kids show! \n  \nThe main attraction didn’t show up! So Bebe gets the kids (and their grownups) to help her create a comedic storytelling show on the spot. This outrageous\, critically acclaimed\, interactive comedy for kids 3–10 returns to Brooklyn following raves from NYC to Hollywood to the UK. \nBebe Tabickman \nPeter Michael Marino \nhttps://www.facebook.com/showupkids \nhttps://www.instagram.com/showupkids \nwww.showup-theshow.com \nWatchhttps://www.youtube.com/watch?v=qJqtYiZg_i4
URL:https://shapeshifterplus.org/event/show-up-kids/
LOCATION:ShapeShifter Lab\, 837 Union Street\, Ground Floor\, Brooklyn\, NY\, 11215\, United States
CATEGORIES:Comedy,Kids Concert,Live Music,Open Call Program
ATTACH;FMTTYPE=image/jpeg:https://shapeshifterplus.org/wp-content/uploads/2025/11/5536d1e73788bac04c6f1ec53d6f95ba-8znxJ1.tmp_.jpg
END:VEVENT
BEGIN:VEVENT
DTSTART;TZID=America/New_York:20260213T183000
DTEND;TZID=America/New_York:20260213T203000
DTSTAMP:20260423T195118
CREATED:20251227T233603Z
LAST-MODIFIED:20260206T212457Z
UID:46664-1771007400-1771014600@shapeshifterplus.org
SUMMARY:The Park Slope Food Coop Concert Series #14
DESCRIPTION:A concert by and for the community—celebrating music and art produced by the Food Coop Concert Series Committee of the Park Slope Food Coop.\n\n\nSet 1 \nTime: 6:30 PM – 6:50 PM \nPorterfield — ft. Or Bareket and Ines Velasco \nLineup: \n\nJacob Aviner — vocals\, electric guitar\nOr Bareket — upright bass\nInes Velasco — drumset\nJered Yee – guest on saxophone\n\nAbout:\nJoined by Or Bareket and Ines Velasco\, Jacob Aviner leads this trio in a new batch of never-before-heard songs\, reimagining his band Porterfield. \n———————————————————————————————- \nSet 2 \nTime: 7:00 PM – 7:20 PM \nTheresa Rosas – Alan Grubner – Sam Weber Trio \nLineup: \n\nTheresa Rosas — piano\, vocals\nAlan Grubner — violin\nSam Weber — bass\n\nAbout:\nTrio project focused on songs\, compositions\, and improvisations. \n———————————————————————————————- \nSet 3 \nTime: 7:30 PM – 7:50 PM \nNoa Fort \nLineup: \n\nNoa Fort — voice\, piano\n\nAbout:\nSolo set featuring Noa Fort’s original songs. \n———————————————————————————————- \nSet 4 \nTime: 8:00 PM – 8:20 PM \nZosha Warpeha & Jonathan Kaiser \nLineup: \n\nZosha Warpeha — Hardanger d’amore\nJonathan Kaiser — cello\n\nAbout:\nNew atmospheric duo exploring textural\, drone-based\, and improvised spaces for Hardanger d’amore and cello. \n———————————————————————————————- \nThe Park Slope Food Coop Concert Series is one of the most exciting initiatives we undertake as a community. With so many gifted and talented members\, creating this series was a natural decision and a no-brainer. The baton of music and performance curation was passed on to Ludovica and Alexis by Beverly Grant—a great artist and long-time member since the inception of the Food Coop. Beverly is an artist\, photographer\, singer-songwriter\, composer\, and activist who has greatly contributed to our community. \nJason Weiner and the membership staff have played a key role in bringing this event to life. We thank them for sharing the same joy and respect for the arts\, which enriches all walks of life. Before the shutdown\, this concert series was a crucial and pinnacle way of bringing us closer together as a community that truly cares about the world around us. Art\, in every aspect of our human experience\, is a life-healing force. Alexis Cuadrado and Ludovica Burtone are both professional musicians\, composers\, producers\, and educators. They have expanded the vision of the curation to create a platform for freedom of expression for all. ShapeShifter Lab visionaries Fortuna Sung and Matthew Garrison have also become vital to our mission\, generously providing us with their performance space across the street from the Food Coop. Annie Keating does the magic with social media and Ave Carrillo is helping the group to the production side of things the concert series. \nInstagram
URL:https://shapeshifterplus.org/event/psfc-14/
LOCATION:ShapeShifter Lab\, 837 Union Street\, Ground Floor\, Brooklyn\, NY\, 11215\, United States
CATEGORIES:Live Music,Open Call Program
ATTACH;FMTTYPE=image/png:https://shapeshifterplus.org/wp-content/uploads/2025/12/Feb-2026.png
END:VEVENT
BEGIN:VEVENT
DTSTART;TZID=America/New_York:20260214T140000
DTEND;TZID=America/New_York:20260214T150000
DTSTAMP:20260423T195118
CREATED:20251201T044929Z
LAST-MODIFIED:20260123T020200Z
UID:46557-1771077600-1771081200@shapeshifterplus.org
SUMMARY:Show Up\, Kids!
DESCRIPTION:Interactive comic storytelling kids show! \n  \n  \nThe main attraction didn’t show up! So Bebe gets the kids (and their grownups) to help her create a comedic storytelling show on the spot. This outrageous\, critically acclaimed\, interactive comedy for kids 3–10 returns to Brooklyn following raves from NYC to Hollywood to the UK. \nBebe Tabickman \nPeter Michael Marino \nhttps://www.facebook.com/showupkids \nhttps://www.instagram.com/showupkids \nwww.showup-theshow.com \nWatchhttps://www.youtube.com/watch?v=qJqtYiZg_i4
URL:https://shapeshifterplus.org/event/show-up-kids-2/
LOCATION:ShapeShifter Lab\, 837 Union Street\, Ground Floor\, Brooklyn\, NY\, 11215\, United States
CATEGORIES:Comedy,Kids Concert,Live Music,Open Call Program
ATTACH;FMTTYPE=image/jpeg:https://shapeshifterplus.org/wp-content/uploads/2025/11/5536d1e73788bac04c6f1ec53d6f95ba-8znxJ1.tmp_.jpg
END:VEVENT
BEGIN:VEVENT
DTSTART;TZID=America/New_York:20260214T200000
DTEND;TZID=America/New_York:20260214T220000
DTSTAMP:20260423T195118
CREATED:20260129T014827Z
LAST-MODIFIED:20260129T213444Z
UID:46760-1771099200-1771106400@shapeshifterplus.org
SUMMARY:Love Ain’t Dead.
DESCRIPTION:Paper Anniversary hosts their 5th Annual Valentine’s Day Show: Love Ain’t Dead. Join us for a night of comedy\, music\, and comedy music.\n\n\nPaper Anniversary hosts their 5th Annual Valentine’s Day Show: Love Ain’t Dead. \nJoin us for a night of comedy\, music\, and comedy music. This year’s lineup features Cory Cavin\, Jordan Carlos\, The Quinns\, and Paper Anniversary (family band and regular band). \n  \nPaper Anniversary is led by husband-and-wife songwriting duo Katherine Slingluff and Andy Stuckey. Their music blends Country\, Bluegrass\, and Americana\, spotlighting the highs and lows of relationships. Their debut album Signature Confessions was released in 2014. Both artists are originally from Dothan\, Alabama and currently based in Brooklyn\, NY. \n  \n\nAndy Stuckey — guitar\, vocals\nKatherine Slingluff — mandolin\, vocals\nMaggie Stuckey — piano\, guitar\, vocals\nMo Stuckey — bass\, cajon\, vocals\nCole Rotante — dobro\nDiane Stockwell — fiddle\nSam Dallas — bass\n\n 
URL:https://shapeshifterplus.org/event/love-aint-dead/
LOCATION:ShapeShifter Lab\, 837 Union Street\, Ground Floor\, Brooklyn\, NY\, 11215\, United States
CATEGORIES:Live Music,Open Call Program
ATTACH;FMTTYPE=image/jpeg:https://shapeshifterplus.org/wp-content/uploads/2026/01/VDay_2026_SQUARE.jpeg
END:VEVENT
BEGIN:VEVENT
DTSTART;TZID=America/New_York:20260221T140000
DTEND;TZID=America/New_York:20260221T150000
DTSTAMP:20260423T195118
CREATED:20251201T044930Z
LAST-MODIFIED:20260123T020332Z
UID:46559-1771682400-1771686000@shapeshifterplus.org
SUMMARY:Show Up\, Kids!
DESCRIPTION:Interactive comic storytelling kids show! \n  \nThe main attraction didn’t show up! So Bebe gets the kids (and their grownups) to help her create a comedic storytelling show on the spot. This outrageous\, critically acclaimed\, interactive comedy for kids 3–10 returns to Brooklyn following raves from NYC to Hollywood to the UK. \nBebe Tabickman \nPeter Michael Marino \nhttps://www.facebook.com/showupkids \nhttps://www.instagram.com/showupkids \nwww.showup-theshow.com \nWatchhttps://www.youtube.com/watch?v=qJqtYiZg_i4
URL:https://shapeshifterplus.org/event/show-up-kids-3/
LOCATION:ShapeShifter Lab\, 837 Union Street\, Ground Floor\, Brooklyn\, NY\, 11215\, United States
CATEGORIES:Comedy,Kids Concert,Live Music,Open Call Program
ATTACH;FMTTYPE=image/jpeg:https://shapeshifterplus.org/wp-content/uploads/2025/11/5536d1e73788bac04c6f1ec53d6f95ba-8znxJ1.tmp_.jpg
END:VEVENT
BEGIN:VEVENT
DTSTART;TZID=America/New_York:20260227T190000
DTEND;TZID=America/New_York:20260227T200000
DTSTAMP:20260423T195118
CREATED:20260221T061936Z
LAST-MODIFIED:20260221T062103Z
UID:46848-1772218800-1772222400@shapeshifterplus.org
SUMMARY:Verde Floresta
DESCRIPTION:Verde Floresta: A fusion of original compositions blending Brazilian rhythms with jazz influences and improvisation.\n\n\nVerde Floresta: A fusion of original compositions blending Brazilian rhythms with jazz influences and improvisation. \n\nFernando Augusto – Cavaco\nAnthony Ferrara – Saxophone\nSteven Holzer – Sousaphone\nThiago Trad – Drums
URL:https://shapeshifterplus.org/event/verde-floresta/
LOCATION:ShapeShifter Lab\, 837 Union Street\, Ground Floor\, Brooklyn\, NY\, 11215\, United States
CATEGORIES:Live Music,Open Call Program
ATTACH;FMTTYPE=image/jpeg:https://shapeshifterplus.org/wp-content/uploads/2026/02/f539f216576ccccf4787f9330a5b48ed-1VsWmO.tmp_.jpg
END:VEVENT
BEGIN:VEVENT
DTSTART;TZID=America/New_York:20260228T140000
DTEND;TZID=America/New_York:20260228T150000
DTSTAMP:20260423T195118
CREATED:20251201T044932Z
LAST-MODIFIED:20260123T020424Z
UID:46561-1772287200-1772290800@shapeshifterplus.org
SUMMARY:Show Up\, Kids!
DESCRIPTION:Interactive comic storytelling kids show! \n  \nThe main attraction didn’t show up! So Bebe gets the kids (and their grownups) to help her create a comedic storytelling show on the spot. This outrageous\, critically acclaimed\, interactive comedy for kids 3–10 returns to Brooklyn following raves from NYC to Hollywood to the UK. \nBebe Tabickman \nPeter Michael Marino \nhttps://www.facebook.com/showupkids \nhttps://www.instagram.com/showupkids \nwww.showup-theshow.com \nWatchhttps://www.youtube.com/watch?v=qJqtYiZg_i4
URL:https://shapeshifterplus.org/event/show-up-kids-4/
LOCATION:ShapeShifter Lab\, 837 Union Street\, Ground Floor\, Brooklyn\, NY\, 11215\, United States
CATEGORIES:Comedy,Kids Concert,Live Music,Open Call Program
ATTACH;FMTTYPE=image/jpeg:https://shapeshifterplus.org/wp-content/uploads/2025/11/5536d1e73788bac04c6f1ec53d6f95ba-8znxJ1.tmp_.jpg
END:VEVENT
END:VCALENDAR