BEGIN:VCALENDAR
VERSION:2.0
PRODID:-//ShapeShifter Plus - ECPv6.15.20//NONSGML v1.0//EN
CALSCALE:GREGORIAN
METHOD:PUBLISH
X-ORIGINAL-URL:https://shapeshifterplus.org
X-WR-CALDESC:Events for ShapeShifter Plus
REFRESH-INTERVAL;VALUE=DURATION:PT1H
X-Robots-Tag:noindex
X-PUBLISHED-TTL:PT1H
BEGIN:VTIMEZONE
TZID:America/New_York
BEGIN:DAYLIGHT
TZOFFSETFROM:-0500
TZOFFSETTO:-0400
TZNAME:EDT
DTSTART:20240310T070000
END:DAYLIGHT
BEGIN:STANDARD
TZOFFSETFROM:-0400
TZOFFSETTO:-0500
TZNAME:EST
DTSTART:20241103T060000
END:STANDARD
BEGIN:DAYLIGHT
TZOFFSETFROM:-0500
TZOFFSETTO:-0400
TZNAME:EDT
DTSTART:20250309T070000
END:DAYLIGHT
BEGIN:STANDARD
TZOFFSETFROM:-0400
TZOFFSETTO:-0500
TZNAME:EST
DTSTART:20251102T060000
END:STANDARD
BEGIN:DAYLIGHT
TZOFFSETFROM:-0500
TZOFFSETTO:-0400
TZNAME:EDT
DTSTART:20260308T070000
END:DAYLIGHT
BEGIN:STANDARD
TZOFFSETFROM:-0400
TZOFFSETTO:-0500
TZNAME:EST
DTSTART:20261101T060000
END:STANDARD
END:VTIMEZONE
BEGIN:VEVENT
DTSTART;TZID=America/New_York:20250702T190000
DTEND;TZID=America/New_York:20250702T200000
DTSTAMP:20260424T083220
CREATED:20250611T162328Z
LAST-MODIFIED:20250613T163146Z
UID:45604-1751482800-1751486400@shapeshifterplus.org
SUMMARY:The Ben Singer Band
DESCRIPTION:Hiruy Tirfe – Saxophone\nMatt Kahn – Guitar\nJonill – Keys\nTim Ragsdale – Bass\nBen Singer – Drums\n\nSince 9\, Ben has been obsessed with the emotional language of music\, knowing it as a high form to express God’s power\, grace\, truth. \n“I find music to be storytelling based on feelings. I don’t believe in genres per se. The music is deeper.” \nThe group is excited to bring their signature sound\, polished on the streets of Philadelphia to Shapeshifter Lab: sharing their philosophy of motion and emotion with New York audiences.
URL:https://shapeshifterplus.org/event/the-ben-singer-band/
LOCATION:ShapeShifter Lab\, 837 Union Street\, Ground Floor\, Brooklyn\, NY\, 11215\, United States
CATEGORIES:Live Music,Open Call Program
END:VEVENT
BEGIN:VEVENT
DTSTART;TZID=America/New_York:20250713T190000
DTEND;TZID=America/New_York:20250713T200000
DTSTAMP:20260424T083220
CREATED:20250611T194747Z
LAST-MODIFIED:20250612T004537Z
UID:45612-1752433200-1752436800@shapeshifterplus.org
SUMMARY:Nathan Nakadegawa-Lee Quartet
DESCRIPTION:Nathan is deeply inspired by the history of the saxophone and innovators of the instrument. For his quartet\, he composes based on his current inspirations\, which have included Chinese and Turkish music\, and the music of Carla Bley and David S. Ware. \n  \n\nNathan Nakadegawa-Lee – saxophone\, clarinet\, composition\nMarc Edwards – drums\nHans Young Binter – piano\nMichael Gilbert – bass
URL:https://shapeshifterplus.org/event/nathan-nakadegawa-lee-quartet/
LOCATION:ShapeShifter Lab\, 837 Union Street\, Ground Floor\, Brooklyn\, NY\, 11215\, United States
CATEGORIES:Live Music,Open Call Program
ATTACH;FMTTYPE=image/jpeg:https://shapeshifterplus.org/wp-content/uploads/2025/06/Headshot-5-Nathan-Nakadegawa-Lee.jpg
END:VEVENT
BEGIN:VEVENT
DTSTART;TZID=America/New_York:20250716T190000
DTEND;TZID=America/New_York:20250716T200000
DTSTAMP:20260424T083220
CREATED:20250523T043809Z
LAST-MODIFIED:20250523T051045Z
UID:45522-1752692400-1752696000@shapeshifterplus.org
SUMMARY:Jake Rosenkalt Quartet
DESCRIPTION:The band features two of the most exciting young jazz musicians performing with two legendary jazz musicians\, Paul Bollenback and Harvie S. \n  \n\nPaul Bollenback – Guitar\nBen Solomon – Saxophone\nHarvie S – Bass\nJake Rosenkalt – Drums
URL:https://shapeshifterplus.org/event/jake-rosenkalt-quartet/
LOCATION:ShapeShifter Lab\, 837 Union Street\, Ground Floor\, Brooklyn\, NY\, 11215\, United States
CATEGORIES:Live Music,Open Call Program
ATTACH;FMTTYPE=image/jpeg:https://shapeshifterplus.org/wp-content/uploads/2025/05/IMG_2402-Jacob-Rosenkalt-scaled.jpg
END:VEVENT
BEGIN:VEVENT
DTSTART;TZID=America/New_York:20250716T203000
DTEND;TZID=America/New_York:20250716T213000
DTSTAMP:20260424T083220
CREATED:20250523T051006Z
LAST-MODIFIED:20250523T200746Z
UID:45529-1752697800-1752701400@shapeshifterplus.org
SUMMARY:Joseph Foglia\, From The River Quintet
DESCRIPTION:Joseph Foglia and his quintet celebrate the release of their debut album “From The River To The Heart.” \n\nMisha Mendelenko – Guitar\nTBA – Drums\nLeighton Harrell – Bass\nLass Corson – Keys\nJoseph Foglia – Saxophone
URL:https://shapeshifterplus.org/event/joe-foglia/
LOCATION:ShapeShifter Lab\, 837 Union Street\, Ground Floor\, Brooklyn\, NY\, 11215\, United States
CATEGORIES:Live Music,Open Call Program
ATTACH;FMTTYPE=image/heic:https://shapeshifterplus.org/wp-content/uploads/2025/05/Studio-Photo-Joseph-Foglia-scaled.jpg
END:VEVENT
END:VCALENDAR