BEGIN:VCALENDAR
VERSION:2.0
PRODID:-//ShapeShifter Plus - ECPv6.15.20//NONSGML v1.0//EN
CALSCALE:GREGORIAN
METHOD:PUBLISH
X-WR-CALNAME:ShapeShifter Plus
X-ORIGINAL-URL:https://shapeshifterplus.org
X-WR-CALDESC:Events for ShapeShifter Plus
REFRESH-INTERVAL;VALUE=DURATION:PT1H
X-Robots-Tag:noindex
X-PUBLISHED-TTL:PT1H
BEGIN:VTIMEZONE
TZID:America/New_York
BEGIN:DAYLIGHT
TZOFFSETFROM:-0500
TZOFFSETTO:-0400
TZNAME:EDT
DTSTART:20240310T070000
END:DAYLIGHT
BEGIN:STANDARD
TZOFFSETFROM:-0400
TZOFFSETTO:-0500
TZNAME:EST
DTSTART:20241103T060000
END:STANDARD
BEGIN:DAYLIGHT
TZOFFSETFROM:-0500
TZOFFSETTO:-0400
TZNAME:EDT
DTSTART:20250309T070000
END:DAYLIGHT
BEGIN:STANDARD
TZOFFSETFROM:-0400
TZOFFSETTO:-0500
TZNAME:EST
DTSTART:20251102T060000
END:STANDARD
BEGIN:DAYLIGHT
TZOFFSETFROM:-0500
TZOFFSETTO:-0400
TZNAME:EDT
DTSTART:20260308T070000
END:DAYLIGHT
BEGIN:STANDARD
TZOFFSETFROM:-0400
TZOFFSETTO:-0500
TZNAME:EST
DTSTART:20261101T060000
END:STANDARD
END:VTIMEZONE
BEGIN:VEVENT
DTSTART;TZID=America/New_York:20250601T203000
DTEND;TZID=America/New_York:20250601T213000
DTSTAMP:20260424T095941
CREATED:20250422T184846Z
LAST-MODIFIED:20250528T163540Z
UID:45201-1748809800-1748813400@shapeshifterplus.org
SUMMARY:Ruby Farmer Quartet
DESCRIPTION:Bassist Ruby Farmer debuts her jazz quartet at ShapeShifter\, featuring original compositions and more. \n\n\n\nRuby Farmer – Bass\nSkylar Tang – Trumpet\nBen Schwartz – Drums\nWilliam Schwartzman – Piano
URL:https://shapeshifterplus.org/event/ruby-farmer-quartet/
LOCATION:ShapeShifter Lab\, 837 Union Street\, Ground Floor\, Brooklyn\, NY\, 11215\, United States
CATEGORIES:Live Music,Open Call Program
ATTACH;FMTTYPE=image/jpeg:https://shapeshifterplus.org/wp-content/uploads/2025/05/6a86efcb1b6d030e2903080c7d07f049-D45Nx1.tmp_.jpg
END:VEVENT
BEGIN:VEVENT
DTSTART;TZID=America/New_York:20250604T190000
DTEND;TZID=America/New_York:20250604T200000
DTSTAMP:20260424T095941
CREATED:20250422T211940Z
LAST-MODIFIED:20250518T225114Z
UID:45211-1749063600-1749067200@shapeshifterplus.org
SUMMARY:Dave Anderson “In Lieu of Flowers” Album Release
DESCRIPTION:Dave Anderson – Tenor & Soprano Saxophones\nGrant Richards – Piano\nLorin Cohen – Bass\nJimmy Macbride – Drums\n\nDave Anderson’s quartet plays a collection of original songs inspired by jazz luminaries. \n 
URL:https://shapeshifterplus.org/event/dave-anderson-in-lieu-of-flowers-album-release/
LOCATION:ShapeShifter Lab\, 837 Union Street\, Ground Floor\, Brooklyn\, NY\, 11215\, United States
CATEGORIES:Live Music,Open Call Program
ATTACH;FMTTYPE=image/jpeg:https://shapeshifterplus.org/wp-content/uploads/2025/04/Dave_Anderson_Quartet_square-Dave-Anderson-scaled.jpeg
END:VEVENT
BEGIN:VEVENT
DTSTART;TZID=America/New_York:20250618T203000
DTEND;TZID=America/New_York:20250618T213000
DTSTAMP:20260424T095941
CREATED:20250610T050109Z
LAST-MODIFIED:20250611T162350Z
UID:45594-1750278600-1750282200@shapeshifterplus.org
SUMMARY:Joshua Quddus Quintet
DESCRIPTION:Existence: a 5-Movement Suite by Joshua Quddus \n\nJoshua Quddus – Saxophone\nZev Vestel – drums\,\nLucas Giordano – bass\nGibson McAssey – piano\n\nAll original compositions by mainly Joshua Quddus and the rest of the band.\nJoshua Quddus is a 17-year-old alto saxophonist presenting original music he has composed based on some of his life experiences. The quartet features Zev Vestel on drums\, Lucas Giordano on bass\, and Gibson McAssey on piano. \n 
URL:https://shapeshifterplus.org/event/joshua-quddus-2/
LOCATION:ShapeShifter Lab\, 837 Union Street\, Ground Floor\, Brooklyn\, NY\, 11215\, United States
CATEGORIES:Live Music,Open Call Program
ATTACH;FMTTYPE=image/jpeg:https://shapeshifterplus.org/wp-content/uploads/2025/06/ef3c60b1-7ad1-41b3-816e-c7b173a1c7a1-Joshua-Quddus.jpeg
END:VEVENT
BEGIN:VEVENT
DTSTART;TZID=America/New_York:20250620T190000
DTEND;TZID=America/New_York:20250620T200000
DTSTAMP:20260424T095941
CREATED:20250521T031957Z
LAST-MODIFIED:20250521T032812Z
UID:45472-1750446000-1750449600@shapeshifterplus.org
SUMMARY:Imer Devolsi
DESCRIPTION:“Imer Devolsi” is an immersive live concert blending modern jazz\, folk\, and storytelling\, led by pianist/vocalist Jemina Brechoire. \n\nJemina Brechoire – Piano/Voice\nSam Friedman – Trumpet/Acting/Props\nGideon Forbes – Nai / Saxophone\nSarah Mueller – Violin\nNoemie Chemali – Viola\nPanagiotis Andreou – Electric Bass\nJulian Miltenberg – Drums\n\nAbout Jenina
URL:https://shapeshifterplus.org/event/imer-devolsi/
LOCATION:ShapeShifter Lab\, 837 Union Street\, Ground Floor\, Brooklyn\, NY\, 11215\, United States
CATEGORIES:Live Music,Open Call Program
ATTACH;FMTTYPE=image/jpeg:https://shapeshifterplus.org/wp-content/uploads/2025/05/Jemina_Ticket_Image_Square-jemina-music.jpg
END:VEVENT
BEGIN:VEVENT
DTSTART;TZID=America/New_York:20250624T190000
DTEND;TZID=America/New_York:20250624T210000
DTSTAMP:20260424T095941
CREATED:20250522T061034Z
LAST-MODIFIED:20250624T222406Z
UID:45497-1750791600-1750798800@shapeshifterplus.org
SUMMARY:Afro Latin Jazz Orchestra & Wagner Highschool Jazz Band Collaborative Concert
DESCRIPTION:7pm – Wagner Highschool Jazz Band\n8:15pm – Arturo O’Farrill & the Afro Latin Jazz Orchestra\n\n\nThe Afro Latin Jazz Orchestra returns to the stage with the talented young musicians of Susan E. Wagner High School’s award-winning jazz program for a powerful concert celebrating their ongoing collaboration. After a year’s break\, this renewed partnership highlights the vitality of youth jazz education and the shared joy of making music across generations.\nAbout Arturo O’Farrill and the Afro Latin Jazz Orchestra\nGRAMMY Award-winning pianist\, composer\, and educator Arturo O’Farrill—leader of the “first family of Afro-Cuban Jazz” (New York Times)—was born in Mexico and grew up in New York City. Son of the late\, great composer Chico O’Farrill\, Arturo played piano in Carla Bley’s Big Band from 1979 through 1983 and earned a reputation as a soloist in groups led by Dizzy Gillespie\, Lester Bowie\, Wynton Marsalis\, and Harry Belafonte. In 2002\, he established the GRAMMY Award-winning Afro Latin Jazz Orchestra (ALJO) to bring the vital musical traditions of Afro Latin jazz to a wider general audience\, and to greatly expand the contemporary Latin jazz big band repertoire through commissions to artists across a wide stylistic and geographic range. In March 2021\, O’Farrill and the ALJO won their 7th GRAMMY for Four Questions\, with Cornel West as guest orator. In September 2018\, O’Farrill released his album\, Fandango at the Wall: A Soundtrack for the United States\, Mexico\, and Beyond\, which was also released as a documentary for HBO MAX. In 2019\, O’Farrill was appointed Professor at The UCLA Herb Alpert School of Music in the Global Jazz Studies department and is currently the Associate Dean for Equity\, Diversity\, and Inclusion. O’Farrill’s debut recording with Blue Note Records …dreaming in lions… was nominated for a 2022 GRAMMY Award in the “Best Instrumental Composition” category\, and his album\, Virtual Birdland (ZOHO)\, was nominated for “Best Latin Jazz Album.” In 2023\, O’Farrill won a GRAMMY Award for Fandango at the Wall in New York in the “Best Latin Jazz Album” category. O’Farrill is a Steinway Artist and records for Blue Note Records.\nAbout Susan Wagner High School Jazz Band\nThe Susan Wagner High School Jazz Band has been a premier performance ensemble in the NYC Department of Education for years. Under the direction of Mr. Paul Corn\, they have made it as finalists in the Essentially Ellington in 2023\, where they finished 2nd in the Nation\, and again in 2024. The band has won numerous first place awards in the Heritage Festival Competitions in Williamsburg\, Boston\, and Washington D.C.\, as well as at Festival Disney in Orlando\, FL. They have also participated in the New York State School Music Association Adjudication Festival and received the grade of Gold with Distinction on Level 6 repertoire. The ensemble performs numerous concerts throughout the city each year\, both at school and throughout the community. Over the past decade\, the band has enjoyed collaborating with Arturo O’Farrill and the Afro Latin Jazz Orchestra on yearly joint performances in Brooklyn and Staten Island. They also made their Carnegie Hall debut in 2020\, Dizzy’s Club and Birdland Jazz Club debut in Spring of 2023\, and will be performing a joint concert with Eddie Palmieri in June 2024.
URL:https://shapeshifterplus.org/event/aljo-wagner-2025/
LOCATION:ShapeShifter Lab\, 837 Union Street\, Ground Floor\, Brooklyn\, NY\, 11215\, United States
CATEGORIES:Collaboration Programs,Live Music,Open Call Program
ATTACH;FMTTYPE=image/jpeg:https://shapeshifterplus.org/wp-content/uploads/2024/04/image-1-scaled.jpeg
END:VEVENT
END:VCALENDAR