BEGIN:VCALENDAR
VERSION:2.0
PRODID:-//ShapeShifter Plus - ECPv6.15.20//NONSGML v1.0//EN
CALSCALE:GREGORIAN
METHOD:PUBLISH
X-WR-CALNAME:ShapeShifter Plus
X-ORIGINAL-URL:https://shapeshifterplus.org
X-WR-CALDESC:Events for ShapeShifter Plus
REFRESH-INTERVAL;VALUE=DURATION:PT1H
X-Robots-Tag:noindex
X-PUBLISHED-TTL:PT1H
BEGIN:VTIMEZONE
TZID:America/New_York
BEGIN:DAYLIGHT
TZOFFSETFROM:-0500
TZOFFSETTO:-0400
TZNAME:EDT
DTSTART:20240310T070000
END:DAYLIGHT
BEGIN:STANDARD
TZOFFSETFROM:-0400
TZOFFSETTO:-0500
TZNAME:EST
DTSTART:20241103T060000
END:STANDARD
BEGIN:DAYLIGHT
TZOFFSETFROM:-0500
TZOFFSETTO:-0400
TZNAME:EDT
DTSTART:20250309T070000
END:DAYLIGHT
BEGIN:STANDARD
TZOFFSETFROM:-0400
TZOFFSETTO:-0500
TZNAME:EST
DTSTART:20251102T060000
END:STANDARD
BEGIN:DAYLIGHT
TZOFFSETFROM:-0500
TZOFFSETTO:-0400
TZNAME:EDT
DTSTART:20260308T070000
END:DAYLIGHT
BEGIN:STANDARD
TZOFFSETFROM:-0400
TZOFFSETTO:-0500
TZNAME:EST
DTSTART:20261101T060000
END:STANDARD
END:VTIMEZONE
BEGIN:VEVENT
DTSTART;TZID=America/New_York:20250401T190000
DTEND;TZID=America/New_York:20250401T200000
DTSTAMP:20260424T125423
CREATED:20250311T214920Z
LAST-MODIFIED:20250311T214920Z
UID:44713-1743534000-1743537600@shapeshifterplus.org
SUMMARY:Nick Llerandi
DESCRIPTION:Nick Llerandi – Guitar; \nJerad Lippi – Drums; \nSam Minaie – Bass \n\nJoin Nick Llerandi\, Jerad Lippi\, and Sam Minaie for a bold fusion of progressive metal and jazz\, blending intricate compositions with improvisation. \n\nNick Llerandi\nSam Minaie\nJerad Lippi\n\n\nTickets are non-refundable. \nIf your purchase appears unsuccessful\, please check your email for a confirmation before attempting again. A successful purchase will include a confirmation email and a QR code\, which serves as your ticket.
URL:https://shapeshifterplus.org/event/nick-llerandi/
LOCATION:ShapeShifter Lab\, 837 Union Street\, Ground Floor\, Brooklyn\, NY\, 11215\, United States
CATEGORIES:Live Music,Open Call Program
ATTACH;FMTTYPE=image/jpeg:https://shapeshifterplus.org/wp-content/uploads/2025/03/nick-llerandi-Nicholas-Llerandi-scaled.jpeg
END:VEVENT
BEGIN:VEVENT
DTSTART;TZID=America/New_York:20250405T100000
DTEND;TZID=America/New_York:20250405T113000
DTSTAMP:20260424T125423
CREATED:20250122T023300Z
LAST-MODIFIED:20250124T152751Z
UID:43542-1743847200-1743852600@shapeshifterplus.org
SUMMARY:Wake Up & Dance with Suzi Shelton
DESCRIPTION:Wake Up & Dance with Suzi Shelton\n\nWhat: Wake Up and Dance is a joyful concert series for the littlest dancers and their grown-ups by award-winning children’s musician and kindie rocker Suzi Shelton & Friends.\n\nGeared for families with children ages 0-8 years old\, this early morning concert series features story time\, music and dancing that is sure to engage\, inspire and uplift! \n\nCome in\, get some drinks from the café\, and get ready to Wake Up & Dance with Suzi. \n\n\n\nWhere: Shapeshifter Lab – 837 Union Street Brooklyn\, NY 11215\nWhen: Saturday\, March 1st (with trombonist TJ Robinson)\nand Saturday\, April 5th (with guitarist Jeff Litman) \n9:45 am – Doors\n10am – Event begins\n10:15 am – Story Time with Heath from Shibley Day Camp \n10:30-11:15am – Concert\n\nCost: Tickets $15 per person (ages 12 months and up) or $45 for a family four pack\n\n\n\nFree KID SNACKS to take home by Once Upon a Farm! \n\nPlease be aware that photography and video recording may take place during this event. By attending\, you give your consent to be photographed or recorded\, and for the images or footage to be used in future promotions or event materials. If you’d prefer not to be included\, just let our event staff know when you arrive.\n\n\n\n\nFor more than a decade\, Suzi Shelton has been recognized as a voice in independent family music\, and a leading figure in the NYC children’s music scene. She has 10 albums under her belt along with multiple hit singles frequently played on the radio (and everywhere you listen to your music)\, and a popular livestream show called Sing with Suzi featuring special guests from around the globe that is watched in over 70 countries! Suzi is a staple in Park Slope with her regular playground-packed performances at Old Stone House of Brooklyn\, Brooklyn Public Library\, and Jalopy Theatre. \n\n\n\nMeet our Sponsors:\nwww.shibleydaycamp.com\nBrand Partners:\nFree kid snacks to take home by https://onceuponafarmorganics.com/
URL:https://shapeshifterplus.org/event/suzi-20250405/
LOCATION:ShapeShifter Lab\, 837 Union Street\, Ground Floor\, Brooklyn\, NY\, 11215\, United States
CATEGORIES:Kids Concert,Live Music,Open Call Program
ATTACH;FMTTYPE=image/png:https://shapeshifterplus.org/wp-content/uploads/2025/01/wake-up-dance-winter-25Instagram-Post.png
END:VEVENT
BEGIN:VEVENT
DTSTART;TZID=America/New_York:20250415T190000
DTEND;TZID=America/New_York:20250415T190000
DTSTAMP:20260424T125423
CREATED:20250403T222451Z
LAST-MODIFIED:20250403T222720Z
UID:44934-1744743600-1744743600@shapeshifterplus.org
SUMMARY:Evelyn Saylor - Music for Voices and Electronics
DESCRIPTION:Evelyn Saylor\, \nAnnie Garlid\, \nChloe Holgate\, \nLydia Saylor\, \nMyra Smith (voice) \n\n\nEvelyn Saylor is a composer and vocalist from NYC\, now based in Berlin. Her spirited music for voices with live electronic processing and for a cappella vocal ensemble shows influence from her involvement in contemporary and folk singing practices. Her work showcases virtuosic singing\, rich and unexpected harmonies\, and rhythmic interest while spanning a wide variety of vocal textures. She has collaborated with artists such as Holly Herndon\, Caterina Barbieri\, Dina Maccabee\, and Rebecca Lane\, among others. Resident Advisor describes her piece “Fantas Variation for Voices”\, released by Editions Mego\, as “featuring a backing choir of celestial singers … singing a sublime hymn. Their repetitive yet constantly shifting tones remind me of the work of minimalists like Philip Glass and Steve Reich\, or computer music pioneer Laurie Spiegel.” Saylor also composes music for modern dance\, theater\, and film.\n\n  \n\nFor her New York City debut concert at ShapeShifter Lab she will be joined by singers Annie Garlid\, Chloe Holgate\, Lydia Saylor\, and Myra Smith. The program will include solo and duo works for voices and live electronics as well as works for a cappella vocal ensemble.\n\n\n\nInstagram: @evelynsaylor\, @lydia_saylor\, @chloe__holgate\, @u_c_c_h_a_r_l_o\, @myrafowlkes\nFacebook: @evelyn.saylor\, @EvelynSaylorMusic\, @lydiasaylor1\, @chloe.holgate.3\, @annie.garlid.3\, @myrafowlkessmith
URL:https://shapeshifterplus.org/event/evelyn-saylor-music-for-voices-and-electronics/
LOCATION:ShapeShifter Lab\, 837 Union Street\, Ground Floor\, Brooklyn\, NY\, 11215\, United States
CATEGORIES:Live Music,Open Call Program
ATTACH;FMTTYPE=image/png:https://shapeshifterplus.org/wp-content/uploads/2025/04/Music-by-Evelyn-Saylor-2-cropped-1x1-1.png
END:VEVENT
BEGIN:VEVENT
DTSTART;TZID=America/New_York:20250425T190000
DTEND;TZID=America/New_York:20250425T200000
DTSTAMP:20260424T125423
CREATED:20250411T204657Z
LAST-MODIFIED:20250411T204657Z
UID:45070-1745607600-1745611200@shapeshifterplus.org
SUMMARY:Bright Dog Red
DESCRIPTION:Bright Dog Red returns to ShapeShifter Lab. The music runs “a joyous gamut now synonymous with the BDR brand” (UK Vibe). \n  \n\nJoe Pignato\, Drums and Concepts\nJerome Harris\, Guitar & Bass\nTyreek Jackson\, Guitar & Bass\nCody Davies\, Sounds\nMartín Loyato\, Trumpet and Flugelhorn\nMatt Coonan\, Poetry\nChristian Black\, Poetry\nRandall Horton\, Poetry
URL:https://shapeshifterplus.org/event/bright-dog-red-2/
LOCATION:ShapeShifter Lab\, 837 Union Street\, Ground Floor\, Brooklyn\, NY\, 11215\, United States
CATEGORIES:Live Music,Open Call Program
ATTACH;FMTTYPE=image/jpeg:https://shapeshifterplus.org/wp-content/uploads/2025/04/BDR-Group1-c-Ken-Spielman-Bright-Dog-Red.jpg
END:VEVENT
END:VCALENDAR