BEGIN:VCALENDAR
VERSION:2.0
PRODID:-//ShapeShifter Plus - ECPv6.15.20//NONSGML v1.0//EN
CALSCALE:GREGORIAN
METHOD:PUBLISH
X-ORIGINAL-URL:https://shapeshifterplus.org
X-WR-CALDESC:Events for ShapeShifter Plus
REFRESH-INTERVAL;VALUE=DURATION:PT1H
X-Robots-Tag:noindex
X-PUBLISHED-TTL:PT1H
BEGIN:VTIMEZONE
TZID:America/Halifax
BEGIN:DAYLIGHT
TZOFFSETFROM:-0400
TZOFFSETTO:-0300
TZNAME:ADT
DTSTART:20240310T060000
END:DAYLIGHT
BEGIN:STANDARD
TZOFFSETFROM:-0300
TZOFFSETTO:-0400
TZNAME:AST
DTSTART:20241103T050000
END:STANDARD
BEGIN:DAYLIGHT
TZOFFSETFROM:-0400
TZOFFSETTO:-0300
TZNAME:ADT
DTSTART:20250309T060000
END:DAYLIGHT
BEGIN:STANDARD
TZOFFSETFROM:-0300
TZOFFSETTO:-0400
TZNAME:AST
DTSTART:20251102T050000
END:STANDARD
BEGIN:DAYLIGHT
TZOFFSETFROM:-0400
TZOFFSETTO:-0300
TZNAME:ADT
DTSTART:20260308T060000
END:DAYLIGHT
BEGIN:STANDARD
TZOFFSETFROM:-0300
TZOFFSETTO:-0400
TZNAME:AST
DTSTART:20261101T050000
END:STANDARD
END:VTIMEZONE
BEGIN:VTIMEZONE
TZID:America/New_York
BEGIN:DAYLIGHT
TZOFFSETFROM:-0500
TZOFFSETTO:-0400
TZNAME:EDT
DTSTART:20240310T070000
END:DAYLIGHT
BEGIN:STANDARD
TZOFFSETFROM:-0400
TZOFFSETTO:-0500
TZNAME:EST
DTSTART:20241103T060000
END:STANDARD
BEGIN:DAYLIGHT
TZOFFSETFROM:-0500
TZOFFSETTO:-0400
TZNAME:EDT
DTSTART:20250309T070000
END:DAYLIGHT
BEGIN:STANDARD
TZOFFSETFROM:-0400
TZOFFSETTO:-0500
TZNAME:EST
DTSTART:20251102T060000
END:STANDARD
BEGIN:DAYLIGHT
TZOFFSETFROM:-0500
TZOFFSETTO:-0400
TZNAME:EDT
DTSTART:20260308T070000
END:DAYLIGHT
BEGIN:STANDARD
TZOFFSETFROM:-0400
TZOFFSETTO:-0500
TZNAME:EST
DTSTART:20261101T060000
END:STANDARD
END:VTIMEZONE
BEGIN:VEVENT
DTSTART;TZID=America/Halifax:20250104T094500
DTEND;TZID=America/Halifax:20250104T113000
DTSTAMP:20260424T163519
CREATED:20241211T224834Z
LAST-MODIFIED:20241214T161915Z
UID:42995-1735983900-1735990200@shapeshifterplus.org
SUMMARY:Wake Up & Dance with Suzi Shelton and Ameila Robinson of Mil's Trills -  a joyful concert for the littlest dancers and their grown-ups! 
DESCRIPTION:Wake Up & Dance with Suzi Shelton and Amelia Robinson of Mil’s Trills –\na joyful concert for the littlest dancers and their grown-ups!  \n\n  \n\n9:45am – doors\n10:15 – storytime from Lalo + Physique Swimming\n10:30-11:30am – concerttickets:\n$15 per person (under 12 months – free)\n$45 family pack of 4\n\nwww.shapeshifterplus.org  \n\n\nGeared for families with children ages 0-8 years old\, this early morning concert features story time\, music and dancing that is sure to engage\, inspire and uplift! Welcome in\, get some drinks from the café\, and get ready to kick off your weekend with musical fun by Suzi and Amelia! \n** Please be aware that photography and video recording may take place during this event. By attending\, you give your consent to be photographed or recorded\, and for the images or footage to be used in future promotions or event materials. If you’d prefer not to be included\, just let our event staff know when you arrive. \nSponsored by Lalo and Physique Swimming. \n\nFree Snacks from Brand Partner Once Upon a Farm.\n\n\n\nBios:\n\nFor more than a decade\, Suzi Shelton has been recognized as a voice in independent family music\, and a leading figure in the NYC children’s music scene. She has four solo albums under her belt along with multiple hit singles frequently played on the radio (and everywhere you listen to your music)\, and a popular livestream show called Sing with Suzi featuring special guests from around the globe that is watched in over 70 countries! Suzi is a staple in Park Slope with her regular playground-packed performances at Old Stone House of Brooklyn\, Brooklyn Public Library\, and Jalopy Theatre. \nMil’s Trills is a Brooklyn-based children’s music project dedicated to creating positive inclusive music-making experiences that strive to empower and embrace young audiences and families. Through joyful collaborative live shows\, engaging albums\, and interactive songwriting web series\, we work to find new creative ways of bringing people together towards a peaceful global community.
URL:https://shapeshifterplus.org/event/suzi-amelia-jan-4/
LOCATION:ShapeShifter Lab\, 837 Union Street\, Ground Floor\, Brooklyn\, NY\, 11215\, United States
CATEGORIES:Kids Concert,Open Call Program
ATTACH;FMTTYPE=image/png:https://shapeshifterplus.org/wp-content/uploads/2024/12/suzimilwakeupjan-Flyer-Poster-US.png
END:VEVENT
BEGIN:VEVENT
DTSTART;TZID=America/Halifax:20250105T190000
DTEND;TZID=America/Halifax:20250105T200000
DTSTAMP:20260424T163519
CREATED:20241220T235008Z
LAST-MODIFIED:20241221T002256Z
UID:43133-1736103600-1736107200@shapeshifterplus.org
SUMMARY:Veuveleuge
DESCRIPTION:Dylan DeFeo: Rhodes\, Organ\, synthesizer\, key bass\nRoss Procaccio: drums/percussion\nMichael Krause: Guitar/strings\n\n\n\n\n\nVeuveleuge is a power trio born in Dyker Heights\, Brooklyn that melds funk\, jazz fusion and world music into an irresistible instrumental sound. Their unique lineup of longtime NY musicians Dylan DeFeo on keys/synth bass\, Michael Krause on guitar/strings and Ross Procaccio
URL:https://shapeshifterplus.org/event/veuveleuge/
LOCATION:ShapeShifter Lab\, 837 Union Street\, Ground Floor\, Brooklyn\, NY\, 11215\, United States
CATEGORIES:Live Music,Open Call Program
ATTACH;FMTTYPE=image/jpeg:https://shapeshifterplus.org/wp-content/uploads/2024/12/IMG_4046-Dylan-DeFeo.jpeg
END:VEVENT
BEGIN:VEVENT
DTSTART;TZID=America/Halifax:20250117T213000
DTEND;TZID=America/Halifax:20250117T223000
DTSTAMP:20260424T163519
CREATED:20250103T214627Z
LAST-MODIFIED:20250106T212216Z
UID:43234-1737149400-1737153000@shapeshifterplus.org
SUMMARY:About Time
DESCRIPTION:Kyle Kalebdjian-Clark – electric guitar\nDerek Lewis – piano\nRobert Nicolls – upright bass\nJJ Lybbert – drums\n\n\n\n\n\nThis quartet performs original music with compositions contributed by every band member. With each member exhibiting a wide range of influences\, this quartet’s music blends elements of modern jazz\, avant-garde\, and Armenian folk music\, while experimenting with form and expanding the boundaries of instrumental roles.
URL:https://shapeshifterplus.org/event/kyle-clark/
LOCATION:ShapeShifter Lab\, 837 Union Street\, Ground Floor\, Brooklyn\, NY\, 11215\, United States
CATEGORIES:Live Music,Open Call Program
ATTACH;FMTTYPE=image/jpeg:https://shapeshifterplus.org/wp-content/uploads/2025/01/Kyle-Bimhuis-2024_TK-16-Kyle-Clark.jpg
END:VEVENT
BEGIN:VEVENT
DTSTART;TZID=America/Halifax:20250121T190000
DTEND;TZID=America/Halifax:20250121T200000
DTSTAMP:20260424T163519
CREATED:20250117T065807Z
LAST-MODIFIED:20250117T070213Z
UID:43444-1737486000-1737489600@shapeshifterplus.org
SUMMARY:Holman Alvarez’s Hidden Objects
DESCRIPTION:Satoshi Takeishi (drums)\,\nJohn Hébert (bass)\,\nRachel Therrien (trumpet)\,\nHolman Alvarez (piano and composition)\n\nPianist/composer Holman Alvarez sees the world through a compositional lens. On his newest release\, Hidden Objects\, he leads an all-star band through nine expressive\, serpentine compositions that reveal a unique musical worldview. In his playing\, there is a touching lyricism and forward-thinking harmony\, mixing warmth with the cerebral. And there are references to the Latin American rhythms and modern classical figures that are an innate part of Alvarez’s compositional and improvisational vocabulary. Beyond musical touchstones\, though\, it’s evident that there is a much more grand\, big-picture artistic vision at work.
URL:https://shapeshifterplus.org/event/holman-alvarezs/
LOCATION:ShapeShifter Lab\, 837 Union Street\, Ground Floor\, Brooklyn\, NY\, 11215\, United States
CATEGORIES:Live Music,Open Call Program
ATTACH;FMTTYPE=image/jpeg:https://shapeshifterplus.org/wp-content/uploads/2025/01/2O8A8983-holman-alvarez-scaled.jpeg
END:VEVENT
BEGIN:VEVENT
DTSTART;TZID=America/Halifax:20250121T203000
DTEND;TZID=America/Halifax:20250121T213000
DTSTAMP:20260424T163519
CREATED:20241221T000205Z
LAST-MODIFIED:20241221T002052Z
UID:43138-1737491400-1737495000@shapeshifterplus.org
SUMMARY:RedEye: One
DESCRIPTION:RedEye: One is the first concert of guitarist and composer Celine Kang’s band RedEye sextet. RedEye performs music inspired by diverse genres; each member interpreting the compositions in a very personal way from their own background and inspirations\, creating the musical world of the composer but not only limited to it. \n\n\n\n\n\nCeline Kang: Guitar\nNathan Nakadegawa-Lee: Tenor Saxophone\nBen Rosenbaum: Piano\nKaizan Connor: Bass\nDhruv Jain: Drums\nLiam Summers: Drums
URL:https://shapeshifterplus.org/event/redeye-one/
LOCATION:ShapeShifter Lab\, 837 Union Street\, Ground Floor\, Brooklyn\, NY\, 11215\, United States
CATEGORIES:Live Music,Open Call Program
ATTACH;FMTTYPE=image/jpeg:https://shapeshifterplus.org/wp-content/uploads/2024/12/EDECC35E-01BD-4C7F-AEBA-E7443DF288CB_1_102_a-Celine-Kang.jpeg
END:VEVENT
BEGIN:VEVENT
DTSTART;TZID=America/New_York:20250127T190000
DTEND;TZID=America/New_York:20250127T200000
DTSTAMP:20260424T163519
CREATED:20241204T020137Z
LAST-MODIFIED:20250123T231622Z
UID:42734-1738004400-1738008000@shapeshifterplus.org
SUMMARY:Vivienne Aerts Concert and Chocolate Tasting
DESCRIPTION:Vivienne Aerts – Piano and Voice\, \nJames Robins on Bass\, \nAllison Philips on trumpet \n\n\n\n\n\n\nCome to the live recording and tasting concert at the Shapeshifter on Monday January 27th. Vocalist Pianist Vivienne will play with Rachel Therrien on trumpet and Eduardo Belo on Bass and Chef Teddy will make some delicious chocolate bites.\n\n“The staggeringly versatile skill-set of NYC-based Dutch Singer\, Educator\, Psychologist and Artist-preneur Vivienne Aerts busts myths around the ‘Jill of all trades’ paradigm with a nonchalance that leaves even the most skeptical purist taking a bow. A practicing clinical psychologist and choir conductor in Europe before she went on to be a Fulbright scholar and Suma Cum Laude Berklee graduate\, her collaborators since have included some of the most iconic names in the world of jazz. Her eclectic ‘experience’ events in collaboration with her husband\, renowned pastry chef Ted Steinebach was the root of her multi-disciplinary approach to the making of her new album\, ‘Typuhthâng’\, which not just features a 100 female musicians from around the globe\, but also comes with a bar of bean-to-bar chocolate from Original Beans Chocolate\, a company that pro-actively empowers female cacao farmers of Virunga State Park in Congo. Besides this\, she is a faculty member at Berklee College of music where she has been instrumental in building a new generation of performers who are not only skilled musicians but also mentally and physically healthy individuals.”\n\n\n\n\n\n 
URL:https://shapeshifterplus.org/event/vivienne-aerts/
LOCATION:ShapeShifter Lab\, 837 Union Street\, Ground Floor\, Brooklyn\, NY\, 11215\, United States
CATEGORIES:Live Music,Open Call Program
ATTACH;FMTTYPE=image/png:https://shapeshifterplus.org/wp-content/uploads/2024/12/Screenshot-2024-12-03-at-20.00.38.png
END:VEVENT
BEGIN:VEVENT
DTSTART;TZID=America/Halifax:20250128T190000
DTEND;TZID=America/Halifax:20250128T200000
DTSTAMP:20260424T163519
CREATED:20250103T220313Z
LAST-MODIFIED:20250103T220439Z
UID:43251-1738090800-1738094400@shapeshifterplus.org
SUMMARY:The Three Blind Mice CD Release Concert
DESCRIPTION:Francis Jacob: Guitar\, Vocal\nStomu Takeishi: Bass\nGintas Janusonis: Drums\n\n\n\n\n\nJust like the adventurous mice in the nursery rhyme\, they “chase” grooves\, exploring the rich tapestry of jazz\, funk\, soul and world music. They’re poetic\, resilient\, and they’re here to take you on a musical journey full of surprises\, where no groove is safe from their musical appetites. Tales of illusion\, delusion and redemption\, brought to you with passion and creativity.
URL:https://shapeshifterplus.org/event/francis-jacob/
LOCATION:ShapeShifter Lab\, 837 Union Street\, Ground Floor\, Brooklyn\, NY\, 11215\, United States
CATEGORIES:Live Music,Open Call Program
ATTACH;FMTTYPE=image/jpeg:https://shapeshifterplus.org/wp-content/uploads/2025/01/TBM-CD-Cover-Francis-Jacob.jpg
END:VEVENT
END:VCALENDAR