BEGIN:VCALENDAR
VERSION:2.0
PRODID:-//ShapeShifter Plus - ECPv6.15.20//NONSGML v1.0//EN
CALSCALE:GREGORIAN
METHOD:PUBLISH
X-ORIGINAL-URL:https://shapeshifterplus.org
X-WR-CALDESC:Events for ShapeShifter Plus
REFRESH-INTERVAL;VALUE=DURATION:PT1H
X-Robots-Tag:noindex
X-PUBLISHED-TTL:PT1H
BEGIN:VTIMEZONE
TZID:America/Halifax
BEGIN:DAYLIGHT
TZOFFSETFROM:-0400
TZOFFSETTO:-0300
TZNAME:ADT
DTSTART:20230312T060000
END:DAYLIGHT
BEGIN:STANDARD
TZOFFSETFROM:-0300
TZOFFSETTO:-0400
TZNAME:AST
DTSTART:20231105T050000
END:STANDARD
BEGIN:DAYLIGHT
TZOFFSETFROM:-0400
TZOFFSETTO:-0300
TZNAME:ADT
DTSTART:20240310T060000
END:DAYLIGHT
BEGIN:STANDARD
TZOFFSETFROM:-0300
TZOFFSETTO:-0400
TZNAME:AST
DTSTART:20241103T050000
END:STANDARD
BEGIN:DAYLIGHT
TZOFFSETFROM:-0400
TZOFFSETTO:-0300
TZNAME:ADT
DTSTART:20250309T060000
END:DAYLIGHT
BEGIN:STANDARD
TZOFFSETFROM:-0300
TZOFFSETTO:-0400
TZNAME:AST
DTSTART:20251102T050000
END:STANDARD
END:VTIMEZONE
BEGIN:VEVENT
DTSTART;TZID=America/Halifax:20241202T190000
DTEND;TZID=America/Halifax:20241202T200000
DTSTAMP:20260424T174741
CREATED:20241115T194418Z
LAST-MODIFIED:20241115T194418Z
UID:42416-1733166000-1733169600@shapeshifterplus.org
SUMMARY:Sergio Krakowski Trio
DESCRIPTION:“…a percussion explorer…” – JON PARELES\, NY TIMES\n\n“Taking that most common of Brazilian instruments\, the pandeiro\, he has transformed it into an astonishing rhythmic force.” – JOE NOCERA\, NY TIMES\n\n“Sergio Krakowski is a great musician.” – GONZALO RUBALCABA\n\n“One of the best pandeiro players in the world.” – ANAT COHEN\n\nBorn on December 18th 1979\, Sergio dedicated his whole life to the Pandeiro\, also known as the Brazilian Tambourine. A complete “hand drum kit”\, this instrument has always been considered a symbol of Brazilian Music and Culture. Crossing whatever national and cultural barrier\, Sergio made this instrument a possible tool in various musical genres\, from the Choro\, the fundament of Brazilian Music\, to Jazz\, Contemporary and Electronic Music.\n\n\nOnline ticket sales ends 30 mins before showtime;\ntickets at door is at $25
URL:https://shapeshifterplus.org/event/sergio-krakowski-trio/
LOCATION:ShapeShifter Lab\, 837 Union Street\, Ground Floor\, Brooklyn\, NY\, 11215\, United States
CATEGORIES:Live Music,Open Call Program
ATTACH;FMTTYPE=image/jpeg:https://shapeshifterplus.org/wp-content/uploads/2024/11/image-scaled.jpeg
END:VEVENT
BEGIN:VEVENT
DTSTART;TZID=America/Halifax:20241206T203000
DTEND;TZID=America/Halifax:20241206T213000
DTSTAMP:20260424T174741
CREATED:20241115T202041Z
LAST-MODIFIED:20241207T015448Z
UID:42427-1733517000-1733520600@shapeshifterplus.org
SUMMARY:The Alco
DESCRIPTION:alana amore colvin – guitar\nDylan Bales – piano\nColin McClure – trumpet\nJulian Silva – double bass\nChase Small – alto sax.\nLiam Summers – drums\n\n\n\n\n\nthe alco is a soul-jazz sextet sitting between Ahmad Jamal’s trio and the JB band led by guitarist & composer alana amore colvin. the alco will debut at Shapeshifter Lab in celebration of alana amore colvin’s 24th birthday! This event is welcome to the public! \n\nDoors at 8 pm; \nShow at 8:30 pm \nonline ticket sales closes 30 mins before showtime; \ntickets will be available at door $25 \n 
URL:https://shapeshifterplus.org/event/alana-amore-colvin-alco/
LOCATION:ShapeShifter Lab\, 837 Union Street\, Ground Floor\, Brooklyn\, NY\, 11215\, United States
CATEGORIES:Live Music,Open Call Program
ATTACH;FMTTYPE=image/jpeg:https://shapeshifterplus.org/wp-content/uploads/2024/11/the-alco-dec.-6th-promo-Alana-Amore.jpeg
END:VEVENT
BEGIN:VEVENT
DTSTART;TZID=America/Halifax:20241207T190000
DTEND;TZID=America/Halifax:20241207T200000
DTSTAMP:20260424T174741
CREATED:20241115T195346Z
LAST-MODIFIED:20241204T014352Z
UID:42421-1733598000-1733601600@shapeshifterplus.org
SUMMARY:Daniel Garbin - Rising
DESCRIPTION:Daniel Garbin (guitar\, sitar)\, \nHashem Assadullahi (alto sax)\, \nMatt Geraghty (electric bass)\, \nSarah Cion (piano/keys)\, \nGreg Germann (drums) \n\nGuitarist\, sitarist\, and composer Daniel Garbin is a professor at CUNY\, where he seamlessly blends mathematics and music. His remarkable journey spans from an early love of geometry and number theory to a profound fascination with the guitar\, music theory\, and the intricate relationship between the physical instrument and the theory of music. Born in Romania\, his musical odyssey began in Cluj-Napoca with the Big Band Gaio as well as a jazz quintet. Upon his move to NYC\, Daniel explored jazz standards\, fused jazz\, funk\, rock\, and Romanian folklore\, and delved into Indian Classical Music on the sitar\, captivating audiences at venues such as The Romanian Cultural Institute\, QPAC\, Shrine\, Silvana\, New York University. Daniel has recently written and recorded a jazz fusion album\, called Rising. At ShapeShifter Lab he will be joined by Hashem Assadullahi (sax)\, Matt Geraghty (bass)\, Sarah Cion (keys)\, Greg Germann (drums). \n\n\n\n\n\n\nInsta:\n@danielgarbin_and_simipopmusic\n@hashemjazz\n@mattgeraghty_bass\n@germanngreg\n@sarahjanecion\nhttps://www.youtube.com/@dgarbin\n\n\n\n\n\nOnline ticket sales closes 30 mins prior to showtime. Tickets are available at door @$25. Get your ticket early!
URL:https://shapeshifterplus.org/event/daniel-garbin-rising/
LOCATION:ShapeShifter Lab\, 837 Union Street\, Ground Floor\, Brooklyn\, NY\, 11215\, United States
CATEGORIES:Live Music,Open Call Program
ATTACH;FMTTYPE=image/png:https://shapeshifterplus.org/wp-content/uploads/2024/11/poster-ShapeShfiter-v4.png
END:VEVENT
BEGIN:VEVENT
DTSTART;TZID=America/Halifax:20241207T203000
DTEND;TZID=America/Halifax:20241207T213000
DTSTAMP:20260424T174741
CREATED:20241201T081458Z
LAST-MODIFIED:20241201T082400Z
UID:42623-1733603400-1733607000@shapeshifterplus.org
SUMMARY:'Nomad' Album Release Celebration
DESCRIPTION:Tyler Prosch (Trumpet)\nConnor Sobieri (Alto) + EFX\nAndrew Lee (Piano)\nAlvin Lao (Electric Bass)\nJulen Rodriguez (Drums)\n\n\n\n\n\n\n\n\n\n\nBorn in Madrid and raised between Barcelona and New York City\, Julen Rodriguez is a drummer and composer who strives to fuse the musical traditions of the cultures he was raised by. Being half-Puerto Rican and half-Basque\, Julen’s music combines the intensity of New York’s Jazz Fusion scene with elements of Spain’s delicate flamenco-infused Jazz. Solidifying himself as an in-demand drummer in New York’s Jazz and Underground Rock scene\, Julen has had the opportunity to collaborate with such prominent names as Martin Wind\, Mike Rodriguez\, Ryoma Takenaga\, and famed Spanish pianist Marco Mezquida. He has performed at prestigious venues like Rotterdam’s North Sea Jazz Festival\, Spain’s historic Rock N’ Blues Bar\, and New York City mainstays such as NuBlu and Mercury Lounge. Currently studying at New York University\, Julen hones his craft under the tutelage of Ari Hoenig\, Tony Moreno\, and Michael Wolffe.\n\nDebut Album ‘Nomad’ Streaming Now!\n\n\n\n\n\ndoors @8pm;\nonline ticket sales close 30 mins prior to showtime;\nTickets at door @$25. Get your ticket early!
URL:https://shapeshifterplus.org/event/julen-rodriguez-2/
LOCATION:ShapeShifter Lab\, 837 Union Street\, Ground Floor\, Brooklyn\, NY\, 11215\, United States
CATEGORIES:Live Music,Open Call Program
ATTACH;FMTTYPE=image/webp:https://shapeshifterplus.org/wp-content/uploads/2024/12/meta-eyJzcmNCdWNrZXQiOiJiemdsZmlsZXMifQ.jpg-Jared-Pardo-scaled.webp
END:VEVENT
BEGIN:VEVENT
DTSTART;TZID=America/Halifax:20241209T210000
DTEND;TZID=America/Halifax:20241209T220000
DTSTAMP:20260424T174741
CREATED:20241115T213929Z
LAST-MODIFIED:20241115T214125Z
UID:42432-1733778000-1733781600@shapeshifterplus.org
SUMMARY:George Crotty Trio
DESCRIPTION:George Crotty\, cello \nJohn Murchison\, bass \nJeremy Smith – percussion \n\n\n\n\n\n\nKnown for their expressive fluidity and modal orientation\, The George Crotty Trio makes music that is cinematic\, collaborative\, and conversational. They draw on influences within Indian raga\, Arabic maqam\, and modal jazz; using the language of other cultures to speak new things. “I’m not at home in any one culture\,” muses Crotty\, “so the trio became my home.”\n\nGeorge Crotty has forged his own unique vocabulary on the cello. A member of the Brooklyn Raga Massive\, and Detroit-based National Arab Orchestra\, he has also worked with esteemed musicians such as Bob Ezrin\, Adam Rudolph\, Simon Shaheen\, and Paquito D’Rivera. Crotty has performed as a soloist and bandleader in North America and Europe including at the Vancouver Jazz Festival\, Small World Music Festival\, Copenhagen Vinterjazz Festival\, and New Directions Cello Festival.\n\nPowered by John Murchison (bass) and Jeremy Smith (percussion)\, the George Crotty Trio’s sound deviates from a trio’s typical hierarchy.The three players intertwine on their own spontaneous terms in an exploration of groove and colour\, lending Crotty’s tunes an exciting three-dimensional quality.\n\n\n\n\n\nInsta: \n\n\n\n\n\n@georgecrottycello\n@johnmurchis\n@jeremysmithpercussion\n\n\n\n\n\nDoors at 8:30 pm;\nonline ticket sales closes 30 mins prior to showtime.\nGet your tickets early!
URL:https://shapeshifterplus.org/event/george-crotty-trio/
LOCATION:ShapeShifter Lab\, 837 Union Street\, Ground Floor\, Brooklyn\, NY\, 11215\, United States
CATEGORIES:Live Music,Open Call Program
ATTACH;FMTTYPE=image/jpeg:https://shapeshifterplus.org/wp-content/uploads/2024/11/GCTrio-NY-Band-1-George-Crotty-scaled.jpg
END:VEVENT
BEGIN:VEVENT
DTSTART;TZID=America/Halifax:20241210T210000
DTEND;TZID=America/Halifax:20241210T220000
DTSTAMP:20260424T174741
CREATED:20241201T092157Z
LAST-MODIFIED:20241201T092553Z
UID:42628-1733864400-1733868000@shapeshifterplus.org
SUMMARY:Shai Jaschek feat. Joe Martin & Anthony Pinciotti
DESCRIPTION:Shai Jaschek- guitar & compositions\nJoe Martin- bass\nAnthony Pinciotti- drums\n\n\n\n\n\n\n\n\n\n\nShai Jaschek is an Israeli born guitarist\, composer\, and music educator based in New York City.\n\nAfter first picking up the guitar at 10 years old\, Shai has since dedicated his life to music\,\nplaying and performing constantly.\n\nBefore establishing himself in NYC\, Shai completed his Bachelor’s in Arts from Israel’s top\njazz performance programs\, such as “The Jazz Institute” at the “Rimon School of Music”\,\nand the “Jerusalem Academy of Music and Dance”.\nDuring this time\, Shai sought the opportunity to seek mentorship from world renowned musicians\, such as trumpeter Avishai Cohen\, saxophonist Eli Degibri\, and composer\nYoni Rechter.\nAs their mentee\, Shai developed his unique voice as a composer and improviser.\n\nDuring his Bachelor’s\, he played in different musical groups\, such as The Haifa Big Band\, and\nThe Jerusalem Symphony Orchestra\, and became an in-demand guitarist in the Israeli\nmusic scene.\nThese experiences led Shai to start his own band\, playing his original compositions\,\npreforming in clubs and festivals both in Israel and abroad.\n\nDriven by his passion for jazz music\, Shai relocated from Israel to NYC to pursue his graduate studies in music and to also be a part of the local jazz scene in the city.\nIn 2021\, Shai was granted a Master’s in music from Queens College\, an institution with internationally acclaimed musicians\, such as Antonio Hart\, Mike Moreno\, David Berkman\, and Michael Mossman.\n\nAfter setting foot in NYC\, Shai has been performing around the city both as a sideman in different bands and as a leader.\nHis debut album\, First Fall\, was released in October 2023 and features his original compositions.\n\n\n\n\n\ndoors @8:30 pm;\nonline ticket sales closes 30 mins before showtime;\nticket at door $25; get your ticket early!
URL:https://shapeshifterplus.org/event/shai-jaschek/
LOCATION:ShapeShifter Lab\, 837 Union Street\, Ground Floor\, Brooklyn\, NY\, 11215\, United States
CATEGORIES:Live Music,Open Call Program
ATTACH;FMTTYPE=image/jpeg:https://shapeshifterplus.org/wp-content/uploads/2024/12/L1006397-Shai-Jaschek-scaled.jpg
END:VEVENT
BEGIN:VEVENT
DTSTART;TZID=America/Halifax:20241212T190000
DTEND;TZID=America/Halifax:20241212T200000
DTSTAMP:20260424T174741
CREATED:20241202T060056Z
LAST-MODIFIED:20241202T060056Z
UID:42651-1734030000-1734033600@shapeshifterplus.org
SUMMARY:PHUC Presents: You Have The Floor Album Release Performance (NYC)
DESCRIPTION:Jake D’Ambra – Tenor Saxophone \, \nJP Heston – Bass \, \nCaleb Cronan – Drums \n\n\n\n\n\n\nPHUC (pronounced fook)\, is a contemporary trio based in the Northeast USA\, comprised of drummer Caleb Cronan\, saxophonist Jake D’Ambra & bassist James Heston.Their repertoire is fueled by counterpoint and interplay centered around original compositions. In December 2024\, they will be releasing their third studio album\, You Have the Floor.\n\n“How can we create an easy to digest\, tidy package of counterpoint; one that keeps the average listener engaged but also peaks the interest of those who are privy to a deeper sense of musicality?” Their goal for this project was to write music that was harmonically relatable yet still carefully detailed in form\, timbre and execution.\n\nPHUC will be performing selections from You Have the Floor as well as newer works that showcase the group’s changing sound. Attendees of the night’s performance will be given exclusive streaming access to the album 1 week before the album’s full release.\n\n\n\n\n\ndoors @6:30 pm;\nonline ticket sales closes at 6 pm;\ntickets at door $25. Get your tickets early!
URL:https://shapeshifterplus.org/event/phuc/
LOCATION:ShapeShifter Lab\, 837 Union Street\, Ground Floor\, Brooklyn\, NY\, 11215\, United States
CATEGORIES:Live Music,Open Call Program
END:VEVENT
BEGIN:VEVENT
DTSTART;TZID=America/Halifax:20241215T140000
DTEND;TZID=America/Halifax:20241215T170000
DTSTAMP:20260424T174741
CREATED:20241030T145154Z
LAST-MODIFIED:20241030T145154Z
UID:41853-1734271200-1734282000@shapeshifterplus.org
SUMMARY:BREAKING THE ICE
DESCRIPTION:I.C.E. Music Dept. presents BREAKING THE ICE\, a series of concerts performed by ICE students in the most famous New York City jazz clubs and rock venues. ICE (Institute for Collaborative Education) is a public school in the East Village and the director of the Music Department is Albert Marques. The students will perform arrangements of some of the most famous jazz standards and they will also perform original songs with eclectic influences from reggae to funk\, from swing to hip-hop. \n\nDoors at 1:30 pm;\nOnline ticket sales closes 1 hour before showtime;\nTicket at door $25
URL:https://shapeshifterplus.org/event/breaking-the-ice-2/
LOCATION:ShapeShifter Lab\, 837 Union Street\, Ground Floor\, Brooklyn\, NY\, 11215\, United States
CATEGORIES:Live Music,Open Call Program
ATTACH;FMTTYPE=image/jpeg:https://shapeshifterplus.org/wp-content/uploads/2024/10/BREAKING-THE-ICE-1.jpg
END:VEVENT
BEGIN:VEVENT
DTSTART;TZID=America/Halifax:20241215T190000
DTEND;TZID=America/Halifax:20241215T213000
DTSTAMP:20260424T174741
CREATED:20241202T064444Z
LAST-MODIFIED:20241202T064532Z
UID:42656-1734289200-1734298200@shapeshifterplus.org
SUMMARY:Part-Time Samurai and Human Music Double Bill
DESCRIPTION:Noah Galbreath – Saxophone and Vocals\nJess Schneider – Vocals\nEvan Amoroso – Trombone and Vocals\nEli Goldstein – Trumpet\nSam Towse – Keyboards\nBrad Kang – Guitar\nIsaac Beaumont – Bass Guitar\nPat Petrus – Drumset\n\nHuman Music:\nSam Towse – Keyboards\nSantosh Sharma – Saxophone and EWI\nMichael Hilgendorf – Guitar\nRafael Enciso – Bass Guitar\nDrums TBA\n\n\n\n\n\n\n\n\n\n\n\nPart-Time Samurai is an up-and-coming neo-soul/jazz-pop group based in New York City. Bringing an exciting blend of complex uptempo tunes as well as sensitive\, groove-centric music\, the band puts on a live show that showcases each member and accentuates their thoughtful yet playfully sarcastic lyrics. Drawing on influences such as Jacob Mann\, Louis Cole\, Haitus Kaiyote\, and the Beatles\, to name a few\, listeners can expect tight unison lines\, pop melodies sung over active jazz fusion accompaniment\, and some extended instrumental solos. Part-Time Samurai features a full horn section consisting of trombone\, trumpet\, and saxophone as well as vocals and a rhythm section that includes keyboards\, guitar\, bass\, and drumset.\n\nHuman Music Bio TBA\n\n\n\n\n\n  \n 
URL:https://shapeshifterplus.org/event/part-time-samurai-human-music/
LOCATION:ShapeShifter Lab\, 837 Union Street\, Ground Floor\, Brooklyn\, NY\, 11215\, United States
CATEGORIES:Live Music,Open Call Program
ATTACH;FMTTYPE=image/jpeg:https://shapeshifterplus.org/wp-content/uploads/2024/12/IMG_9461-Noah-Galbreath.jpg
END:VEVENT
BEGIN:VEVENT
DTSTART;TZID=America/Halifax:20241217T190000
DTEND;TZID=America/Halifax:20241217T200000
DTSTAMP:20260424T174741
CREATED:20241112T061045Z
LAST-MODIFIED:20241112T061957Z
UID:42310-1734462000-1734465600@shapeshifterplus.org
SUMMARY:Passage
DESCRIPTION:Mark Martinez – vocal\, \nBlake Ebert – Cello\, \nErin Kennedy – Piano \n\nThe theme of the cabaret will be love and time and will be a celebration of how things changes with time\, and evolve in beauty in unexpected ways. It will be a mixture of jazz\, musical theater\, classical music\, and a celebration \n 
URL:https://shapeshifterplus.org/event/mark-martinez/
LOCATION:ShapeShifter Lab\, 837 Union Street\, Ground Floor\, Brooklyn\, NY\, 11215\, United States
CATEGORIES:Live Music,Open Call Program
ATTACH;FMTTYPE=image/jpeg:https://shapeshifterplus.org/wp-content/uploads/2024/11/Untitled_Artwork-1-Mark-Martinez-scaled.jpg
END:VEVENT
BEGIN:VEVENT
DTSTART;TZID=America/Halifax:20241217T203000
DTEND;TZID=America/Halifax:20241217T213000
DTSTAMP:20260424T174741
CREATED:20241201T093949Z
LAST-MODIFIED:20241201T093949Z
UID:42633-1734467400-1734471000@shapeshifterplus.org
SUMMARY:Sohei Narita Quintet
DESCRIPTION:Saxophone: Sohei Narita\nGuitar: Sanchez Fernandes\nPiano: Alec Castro\nBass: Mason O’Donnell\nDrums: Yeasung Kim\n\n\n\nSohei Narita\, saxophonist and composer. Sohei is known for his signature dark\, deep\, and warm saxophone tone\, deeply rooted in classical and jazz music. His original compositions\, characterized by singable melodies\, classical-influenced orchestration\, and rich jazz harmonies\, showcase his unique musical identity. He recently released his first EP\, “Lights in the Distance\,” featuring his original compositions.
URL:https://shapeshifterplus.org/event/sohei-narita/
LOCATION:ShapeShifter Lab\, 837 Union Street\, Ground Floor\, Brooklyn\, NY\, 11215\, United States
CATEGORIES:Live Music,Open Call Program
ATTACH;FMTTYPE=image/jpeg:https://shapeshifterplus.org/wp-content/uploads/2024/12/01-Sohei-Narita-scaled.jpeg
END:VEVENT
END:VCALENDAR