BEGIN:VCALENDAR
VERSION:2.0
PRODID:-//ShapeShifter Plus - ECPv6.15.20//NONSGML v1.0//EN
CALSCALE:GREGORIAN
METHOD:PUBLISH
X-WR-CALNAME:ShapeShifter Plus
X-ORIGINAL-URL:https://shapeshifterplus.org
X-WR-CALDESC:Events for ShapeShifter Plus
REFRESH-INTERVAL;VALUE=DURATION:PT1H
X-Robots-Tag:noindex
X-PUBLISHED-TTL:PT1H
BEGIN:VTIMEZONE
TZID:America/Halifax
BEGIN:DAYLIGHT
TZOFFSETFROM:-0400
TZOFFSETTO:-0300
TZNAME:ADT
DTSTART:20230312T060000
END:DAYLIGHT
BEGIN:STANDARD
TZOFFSETFROM:-0300
TZOFFSETTO:-0400
TZNAME:AST
DTSTART:20231105T050000
END:STANDARD
BEGIN:DAYLIGHT
TZOFFSETFROM:-0400
TZOFFSETTO:-0300
TZNAME:ADT
DTSTART:20240310T060000
END:DAYLIGHT
BEGIN:STANDARD
TZOFFSETFROM:-0300
TZOFFSETTO:-0400
TZNAME:AST
DTSTART:20241103T050000
END:STANDARD
BEGIN:DAYLIGHT
TZOFFSETFROM:-0400
TZOFFSETTO:-0300
TZNAME:ADT
DTSTART:20250309T060000
END:DAYLIGHT
BEGIN:STANDARD
TZOFFSETFROM:-0300
TZOFFSETTO:-0400
TZNAME:AST
DTSTART:20251102T050000
END:STANDARD
END:VTIMEZONE
BEGIN:VEVENT
DTSTART;TZID=America/Halifax:20241003T190000
DTEND;TZID=America/Halifax:20241003T210000
DTSTAMP:20260424T213618
CREATED:20240917T062654Z
LAST-MODIFIED:20241003T220541Z
UID:17196-1727982000-1727989200@shapeshifterplus.org
SUMMARY:Nathan Reising and Sarah Rossy Double Bill
DESCRIPTION:1st Bill \n\n\n\n\n\nNathan Reising – alto saxophone and compositions\nSarah Rossy – voice\nLex Korten – piano\nNoam Tanzer – bass\nEvan Hyde – drums\nwww.nathanreising.com\n\n\n\n\n\n\n2nd Bill:\nSarah Rossy\n\nBand Members:\nSarah Rossy – voice/keys/electronics\nKevin Lafleur – guitar\nChris Ross – bass\nTommy Crane – drums\n\n\n\nSarah Rossy will share enigmatic songs and improvised passages of hope and healing\, in an ethereal world where modern jazz\, folk\, and electronic soundscapes combine for a totally unique setting. Do not miss this young voice\, who timelessly carries the influences of Joni Mitchell\, Bjork\, and Fairuz.\nMulti-instrumentalist and composer Nathan Reising presents a new book of original music\, a compelling and deeply personal synthesis of jazz improvisation and heartfelt songwriting. \n \n  \nTICKETS ARE AVAIALBE AT THE DOOR TONIGHT!
URL:https://shapeshifterplus.org/event/reising-rossy/
LOCATION:ShapeShifter Lab\, 837 Union Street\, Ground Floor\, Brooklyn\, NY\, 11215\, United States
CATEGORIES:Live Music,Open Call Program
ATTACH;FMTTYPE=image/png:https://shapeshifterplus.org/wp-content/uploads/2024/09/Screenshot-2024-09-17-at-2.27.58 AM.png
END:VEVENT
BEGIN:VEVENT
DTSTART;TZID=America/Halifax:20241005T160000
DTEND;TZID=America/Halifax:20241005T173000
DTSTAMP:20260424T213618
CREATED:20240910T184855Z
LAST-MODIFIED:20241005T170523Z
UID:16971-1728144000-1728149400@shapeshifterplus.org
SUMMARY:MAKBET
DESCRIPTION:Matt Mitler\, Megan Bones\, Yvonne Brechbuhler \n  \nMAKBET\, Dzieci Theatre’s visceral take on Macbeth\, begins when a riotous clan from the “Old Country” greets you with song\, dance\, and divination\, then embarks on a riotous whirlwind of spine-tingling theatrical invention. With feats of astonishing physicality and otherworldly choral chanting\, this ageless tale of greed\, corruption\, and foul deeds\, comes alive through the unflinching performances of a handful of actors who take turns spontaneously trading off parts at the drop of a hat (literally!)\, exploding the very essence of theatre and storytelling. \n  \nhttp://dziecitheatre.org/ \nPreview
URL:https://shapeshifterplus.org/event/makbet-matt-mitler/
LOCATION:ShapeShifter Lab\, 837 Union Street\, Ground Floor\, Brooklyn\, NY\, 11215\, United States
CATEGORIES:Open Call Program,Theater
ATTACH;FMTTYPE=image/jpeg:https://shapeshifterplus.org/wp-content/uploads/2024/09/Cauldron-Sq-Dzieci-Theatre.jpg
END:VEVENT
BEGIN:VEVENT
DTSTART;TZID=America/Halifax:20241009T210000
DTEND;TZID=America/Halifax:20241009T230000
DTSTAMP:20260424T213618
CREATED:20240923T061115Z
LAST-MODIFIED:20241009T222725Z
UID:17320-1728507600-1728514800@shapeshifterplus.org
SUMMARY:Thursday Music Krewe Double Bill with (L)os Rítmicos 
DESCRIPTION:Thursday Music Krewe (10 pm)\nPhillip Goedicke (Tenor Sax); \nJustin Wang (Trombone); \nJosh Rosenblatt (Guitar); \nChris Dyess (Bass); \nRenan Teuman (Drums) \n\nThursday Music Krewe began as a group of like-minded musicians with diverse artistic influences who came together for weekly jazz workshops as a way to express their musical identity and collaborate with each other. The Krewe’s weekly jazz workshops evolved to encompass a steady and ever growing repertoire of jazz across the cannon of American jazz music from bebop to hardbop and beyond. \n  \nhttps://www.instagram.com/ThursdayMusicKrewe/ \n\n(L)os Rítmicos (9 pm)\n\n\n\n\n\nPhilipp Goedicke – Tenor sax\nJosh Rosenblatt – Guitar\nEyal Kotick – Piano\nTiago Fauth – Bass\nRob Duncan – Drums\n\n\n\n\n\n(L)os Rítmicos are a quintet from New York City that improvises on Brazilian and Afro-Cuban standards. The name roughly translates to “the rhythmists” in both Spanish and Portuguese. They incorporates various rhythms and styles from South America and the Caribbean including samba\, bossa nova\, MPB\, calango\, mambo\, songo\, cha-cha-cha\, bolero\, and more. \nhttps://www.instagram.com/losritmicos_nyc
URL:https://shapeshifterplus.org/event/chris-dyess/
LOCATION:ShapeShifter Lab\, 837 Union Street\, Ground Floor\, Brooklyn\, NY\, 11215\, United States
CATEGORIES:Live Music,Open Call Program
ATTACH;FMTTYPE=image/png:https://shapeshifterplus.org/wp-content/uploads/2024/09/Screenshot-2024-09-23-at-2.13.03 AM.png
END:VEVENT
BEGIN:VEVENT
DTSTART;TZID=America/Halifax:20241010T213000
DTEND;TZID=America/Halifax:20241010T223000
DTSTAMP:20260424T213618
CREATED:20240816T032600Z
LAST-MODIFIED:20240816T032600Z
UID:16227-1728595800-1728599400@shapeshifterplus.org
SUMMARY:Charlie Ballantine\, Dan Weiss\, Peter Brendler
DESCRIPTION:Charlie Ballantine – Guitar \nPeter Brendler – Bass \nDan Weiss – Drums \n  \nCharlie Ballantine\, recognized as one of the top 200 living guitarists by All About Jazz Magazine\, is celebrated for his versatility and skill. Jazz Times Magazine praises his intricate and precise guitar work\, describing it as both beautiful and complex\, while Vintage Guitar Magazine notes his blend of jazz\, rock\, and folk. \nBallantine\, who graduated from the Jacobs School of Music under David Baker\, has made a name for himself with original compositions on albums like “Vonnegut” and “Cold Coffee” and by honoring jazz standards. His 2021 double album dedicated to Thelonious Monk is a testament to his reverence for jazz tradition. Jazziz Magazine compares him to guitarists like John Scofield and Bill Frisell\, highlighting his blend of jazz and rock influences. \nAfter moving to Indianapolis\, Ballantine gained recognition with energetic performances and his award-winning album “Life is Brief: The Music of Bob Dylan\,” which was named one of the top ten jazz albums of the year by All About Jazz. \nIn addition to leading his own projects and performing across the US and Canada\, including at major festivals\, Ballantine has an extensive list of collaborations with notable musicians such as Rob Dixon and Emmett Cohen. Vintage Guitar Magazine describes his style as a mix of jazz\, folk-rock\, surf\, blues\, pop\, and country\, reflecting his diverse musical influences.
URL:https://shapeshifterplus.org/event/c-ballantine/
LOCATION:ShapeShifter Lab\, 837 Union Street\, Ground Floor\, Brooklyn\, NY\, 11215\, United States
CATEGORIES:Live Music,Open Call Program
ATTACH;FMTTYPE=image/jpeg:https://shapeshifterplus.org/wp-content/uploads/2024/08/IMG_3612-Charlie-Ballantine-scaled.jpeg
END:VEVENT
BEGIN:VEVENT
DTSTART;TZID=America/Halifax:20241011T193000
DTEND;TZID=America/Halifax:20241011T203000
DTSTAMP:20260424T213618
CREATED:20240923T182720Z
LAST-MODIFIED:20241011T221531Z
UID:17343-1728675000-1728678600@shapeshifterplus.org
SUMMARY:Tracy Yang Jazz Orchestra - 《OR》album release show
DESCRIPTION:Bandleader/Composer/Conductor: Tracy Yang\n\nWoodwinds: \nDave Pietro\nHina Oikawa\nDan Pratt\nLuke Norris\nThomas LaRocca\nTrumpet: \nDan Urness\nJonathan Saraga\nJohn Lake\nDavid Smith\nTrombone:\nNick Grinder\nMike Fahie\nJustus Heher\nJosh Mirman \nGuitar: Sebastian Noelle\nPiano: Martha Kato\nBass: Johannes Felscher\nDrums: Peter Kronreif \n\n\n\n\n\n\n\n\n\n\n\nTracy Yang “OR” Album Release Concert with her 17-Piece Jazz Orchestra.\n\nBorn and raised in Taiwan\, Tracy Yang has established herself as a versatile composer\, musician\, and cross-disciplinary artist in New York City. Tracy has been recognized with the Charlie Parker Jazz Composition Prize and supported by grants from New Music USA\, the New York Foundation for the Arts\, and Pathways to Jazz. She has collaborated with renowned ensembles like the BMI/New York Jazz Orchestra\, The Army Jazz Ambassadors\, and the Taipei Jazz Orchestra. This event showcases Tracy’s imaginative jazz orchestra compositions\, celebrating the release of “OR” and her creative expression\, featuring some of New York City’s finest musicians.\n\n\n\n\n\nhttps://yangyuchen217.com/ \n  \nTICKETS AVAILABLE AT DOOR: $35
URL:https://shapeshifterplus.org/event/tracy-yang-jazz-orchestra/
LOCATION:ShapeShifter Lab\, 837 Union Street\, Ground Floor\, Brooklyn\, NY\, 11215\, United States
CATEGORIES:Live Music,Open Call Program
ATTACH;FMTTYPE=image/jpeg:https://shapeshifterplus.org/wp-content/uploads/2024/09/OR-_album-cover-_-Tracy-Yang-Jazz-Orchestra-2024-_-Cover-Design-by-Joe-Fang-Studio-Tracy-Yang-scaled.jpg
END:VEVENT
BEGIN:VEVENT
DTSTART;TZID=America/Halifax:20241013T200000
DTEND;TZID=America/Halifax:20241013T210000
DTSTAMP:20260424T213618
CREATED:20240930T211705Z
LAST-MODIFIED:20240930T213526Z
UID:17580-1728849600-1728853200@shapeshifterplus.org
SUMMARY:Vardan Ovsepian & Roni Eytan
DESCRIPTION:Vardan Ovsepian\, piano\nRoni Eytan\, harmonica\nJoshua Davis\, bass\nJay Sawyer\, drums\n\n\n\n\n\nWestern classical music with contemporary groove-based jazz From the early years Vardan was fascinated by the blend of western classical music with jazz\, and has been in perpetual search for unique ways of incorporating the hybrid formation in his composing and improvising. Throughout the years Vardan has also developed a remarkable angular geometric world\, connected to his background in chess\, and his attraction to minimalism and modern architecture\, resulting in the formation of this extraordinary band of thinkers and feelers! \n 
URL:https://shapeshifterplus.org/event/vardan-ovsepian-roni-eytan/
LOCATION:ShapeShifter Lab\, 837 Union Street\, Ground Floor\, Brooklyn\, NY\, 11215\, United States
CATEGORIES:Live Music,Open Call Program
ATTACH;FMTTYPE=image/jpeg:https://shapeshifterplus.org/wp-content/uploads/2024/09/Hadley-1047-Joshua-Davis.jpg
END:VEVENT
BEGIN:VEVENT
DTSTART;TZID=America/Halifax:20241017T190000
DTEND;TZID=America/Halifax:20241017T200000
DTSTAMP:20260424T213618
CREATED:20241002T194902Z
LAST-MODIFIED:20241017T222534Z
UID:17701-1729191600-1729195200@shapeshifterplus.org
SUMMARY:Alpha Mosaic
DESCRIPTION:Sean Schulich\, flute; \nDoron Lev\, drums; \nMatt Dickey\, guitar; \nDylan Kaminkow\, bass \nplus more… \n\nAlpha Mosaic pulses with originality. Edgy\, haunting and infectious melodies mix with churning rhythms. Experimental & exploratory\, all with a groove. When Doron Lev\, drums\, and Sean Schulich\, flute\, first met in New York City\, they knew immediately they had to collaborate. Their shared energy and love of creative exploration produces music that is new and exciting. The band has evolved and changed since its inception\, but that intensity persists. \n 
URL:https://shapeshifterplus.org/event/sean-schulich/
LOCATION:ShapeShifter Lab\, 837 Union Street\, Ground Floor\, Brooklyn\, NY\, 11215\, United States
CATEGORIES:Live Music,Open Call Program
ATTACH;FMTTYPE=image/jpeg:https://shapeshifterplus.org/wp-content/uploads/2024/10/AlphaMosaicShapeshifter-1.jpg
END:VEVENT
BEGIN:VEVENT
DTSTART;TZID=America/Halifax:20241018T190000
DTEND;TZID=America/Halifax:20241018T200000
DTSTAMP:20260424T213618
CREATED:20241002T044355Z
LAST-MODIFIED:20241002T045442Z
UID:17636-1729278000-1729281600@shapeshifterplus.org
SUMMARY:Kevin Miller & Dan Blake
DESCRIPTION:Kevin Miller – Electric Guitar\nDan Blake – Saxophone\n\n\n\n\n\nThis project is a freely improvised duo between guitarist Kevin Miller and saxophonist Dan Blake.
URL:https://shapeshifterplus.org/event/kevin-miller-dan-blake/
LOCATION:ShapeShifter Lab\, 837 Union Street\, Ground Floor\, Brooklyn\, NY\, 11215\, United States
CATEGORIES:Live Music,Open Call Program
ATTACH;FMTTYPE=image/jpeg:https://shapeshifterplus.org/wp-content/uploads/2024/10/photo-Kevin-Miller-scaled.jpg
END:VEVENT
BEGIN:VEVENT
DTSTART;TZID=America/Halifax:20241019T190000
DTEND;TZID=America/Halifax:20241019T210000
DTSTAMP:20260424T213618
CREATED:20241015T061746Z
LAST-MODIFIED:20241015T062110Z
UID:18101-1729364400-1729371600@shapeshifterplus.org
SUMMARY:Summit Album Release Show & Scherer/Cordero Quartet Double Bill
DESCRIPTION:7pm: Summit Album Release Show\n\n\n\n\n\nCooper Malanowski- Trombone\nKai Burns- Guitar\nDavid Macchione- Bass\nAlex Yoo- Drums\n\n\n\n\n\nOdin Scherer & Adam Cordero have been developing their collective language as improvisers since they met at The New School in 2017. This concert will include a range of original music from both composers\, featuring some compositions from Odin’s forthcoming solo project for guitar\, MIDI ensemble\, and featured musicians. Adam and Odin will be joined by Rafael Enciso on bass and Quinton Cain on drumset.\n\n8:15 pm: Scherer/Cordero Quartet\nOdin Scherer – Guitar\, \nAdam Cordero – Alto Saxophone\, \nRafael Enciso – Bass\, \nQuinton Cain – Drums \n \n  \nDoors open 30 mins before showtime;\nOnline ticket sales closes 1 hour before showtime; in person tickets available at door
URL:https://shapeshifterplus.org/event/cooper-odin/
LOCATION:ShapeShifter Lab\, 837 Union Street\, Ground Floor\, Brooklyn\, NY\, 11215\, United States
CATEGORIES:Live Music,Open Call Program
ATTACH;FMTTYPE=image/png:https://shapeshifterplus.org/wp-content/uploads/2024/10/Screenshot-2024-10-15-at-2.11.41 AM.png
END:VEVENT
BEGIN:VEVENT
DTSTART;TZID=America/Halifax:20241023T190000
DTEND;TZID=America/Halifax:20241023T213000
DTSTAMP:20260424T213618
CREATED:20240822T145654Z
LAST-MODIFIED:20241023T221648Z
UID:16373-1729710000-1729719000@shapeshifterplus.org
SUMMARY:Brad Shepik Human Activity:  'Dream of the Possible' and Elsa Nilsson Atlas Of Sound; 'Quila Quina' Double Release Concert
DESCRIPTION:DOUBLE BILL \n“Human Activity: Dream of the Possible” is a ten-movement meditation on the climate challenges we face\, seeking to inspire action for a sustainable future. This piece\, composed and premiered by guitarist Brad Shepik in 2021\, builds on his earlier work\, “Human Activity Suite” (2007). Shepik’s extensive career includes collaborations with jazz greats such as Paul Motian\, Charlie Haden\, Carla Bley\, Dave Douglas\, and Bob Brookmeyer\, as well as contributions to world music with artists like Yuri Yunakov\, Pachora and Simon Shaheen. “Human Activity: Dream of the Possible” reflects Shepik’s response to the alarming climate report of 2021\, emphasizing the critical need for proactive environmental stewardship. \nBrad Shepik Human Activity:\n7pm\nBrad Shepik – guitar\,\nLayale Chaker – violin\,\nPhilip Golub – piano\,\nSam Minaie – bass\,\nJohn Hadfield – percussion\n\n——————————-\n\nElsa Nilsson Atlas Of Sound\nElsa Nilsson – Flutes\nSantiago Leibson – Piano\nMarty Kenney – Bass\nRodrigo Recabarren – Drums\n\nAtlas Of Sound is an ongoing series that explores humanity’s relationship to place by creating music centered multimedia captures of specific locations. The first Atlas\, written for the Coast Redwoods and released in 2022 featuring Pianist Jon Cowherd and bassist Chris Morissey\, was lauded by Dave Sumner at Bandcamp as “It’s as close as you’ll get to being there without actually being there\, and it’s yet another intriguing project from Nilsson that touches upon themes of experience\, memory\, and interconnectedness.” This second installment was written at an artist residency in the Argentinian Patagonia region\, in a small village called Quila Quina\, and features Buenos Aires pianist Santiago Leibson.\n\nThe show will take you through the plants and places around Quila Quina with an accompanying visual component and poetry by Mapuche Poet Pukem Inayao\n\n\nhttps://www.bradshepikmusic.com/\nhttps://www.elsanilssonmusic.com/\n\n\n\nonline ticket sales available at door for $25
URL:https://shapeshifterplus.org/event/brad-elsa/
LOCATION:ShapeShifter Lab\, 837 Union Street\, Ground Floor\, Brooklyn\, NY\, 11215\, United States
CATEGORIES:Live Music,Open Call Program
ATTACH;FMTTYPE=image/jpeg:https://shapeshifterplus.org/wp-content/uploads/2024/08/Brad-and-Elsa.jpg
END:VEVENT
BEGIN:VEVENT
DTSTART;TZID=America/Halifax:20241024T190000
DTEND;TZID=America/Halifax:20241024T200000
DTSTAMP:20260424T213618
CREATED:20241002T041830Z
LAST-MODIFIED:20241024T213508Z
UID:17629-1729796400-1729800000@shapeshifterplus.org
SUMMARY:Sparky Town 3  
DESCRIPTION:Original Music. Stylings of other Composers Songs. \nTickets are available at door.
URL:https://shapeshifterplus.org/event/richard-cohn/
LOCATION:ShapeShifter Lab\, 837 Union Street\, Ground Floor\, Brooklyn\, NY\, 11215\, United States
CATEGORIES:Live Music,Open Call Program
ATTACH;FMTTYPE=image/png:https://shapeshifterplus.org/wp-content/uploads/2024/10/Screenshot-2024-10-02-at-12.30.00 AM.png
END:VEVENT
BEGIN:VEVENT
DTSTART;TZID=America/Halifax:20241024T203000
DTEND;TZID=America/Halifax:20241024T213000
DTSTAMP:20260424T213618
CREATED:20241018T162051Z
LAST-MODIFIED:20241018T162051Z
UID:18215-1729801800-1729805400@shapeshifterplus.org
SUMMARY:Nimbu2
DESCRIPTION:Peter Knoll – guitar\, effects\nChristian Finger – drums\n\n\n\n\n\n\n\n\n\n\nNimbu2 was founded by the two German/American musicians/composers Peter Knoll (guitar\, effects) and Christian Finger on drums in 2022 after performing together for more than 10 years in different formations.The two deeply passionate and creative spirits create ambient soundscapes and spontaneous compositions and take the audience to an exciting sonic journey to their inner self.\nBoth award winning band members were nominated for “Best Composer” at the 2022 Cannes Shorts Film Festival for the documentary “Radio Free Newport (co-composed and directed by Christopher Braig).\nThe duo’s debut album “Open Plains” has been recorded in February 2023 and is in it’s post\nproduction stages.\n\n\n\n\n\n  \n\n\n\n\n\nhttps://www.instagram.com/nim.bu2\nhttps://www.instagram.com/peteruweknoll\nhttps://www.instagram.com/fingerchristian\nhttps://www.facebook.com/PeterKnollGuitarist\nhttps://www.facebook.com/peter.uwe.knoll\nhttps://www.facebook.com/fingerchristian\n\n\n\n\n\n  \nOnline ticket sales closes 30 mins prior to showtime; \nIn-person tickets are also available at door on day of
URL:https://shapeshifterplus.org/event/nimbu2-knoll-finger/
LOCATION:ShapeShifter Lab\, 837 Union Street\, Ground Floor\, Brooklyn\, NY\, 11215\, United States
CATEGORIES:Live Music,Open Call Program
ATTACH;FMTTYPE=image/jpeg:https://shapeshifterplus.org/wp-content/uploads/2024/10/IMG_4337-Peter-Knoll.jpeg
END:VEVENT
END:VCALENDAR