BEGIN:VCALENDAR
VERSION:2.0
PRODID:-//ShapeShifter Plus - ECPv6.15.20//NONSGML v1.0//EN
CALSCALE:GREGORIAN
METHOD:PUBLISH
X-ORIGINAL-URL:https://shapeshifterplus.org
X-WR-CALDESC:Events for ShapeShifter Plus
REFRESH-INTERVAL;VALUE=DURATION:PT1H
X-Robots-Tag:noindex
X-PUBLISHED-TTL:PT1H
BEGIN:VTIMEZONE
TZID:America/Halifax
BEGIN:DAYLIGHT
TZOFFSETFROM:-0400
TZOFFSETTO:-0300
TZNAME:ADT
DTSTART:20230312T060000
END:DAYLIGHT
BEGIN:STANDARD
TZOFFSETFROM:-0300
TZOFFSETTO:-0400
TZNAME:AST
DTSTART:20231105T050000
END:STANDARD
BEGIN:DAYLIGHT
TZOFFSETFROM:-0400
TZOFFSETTO:-0300
TZNAME:ADT
DTSTART:20240310T060000
END:DAYLIGHT
BEGIN:STANDARD
TZOFFSETFROM:-0300
TZOFFSETTO:-0400
TZNAME:AST
DTSTART:20241103T050000
END:STANDARD
BEGIN:DAYLIGHT
TZOFFSETFROM:-0400
TZOFFSETTO:-0300
TZNAME:ADT
DTSTART:20250309T060000
END:DAYLIGHT
BEGIN:STANDARD
TZOFFSETFROM:-0300
TZOFFSETTO:-0400
TZNAME:AST
DTSTART:20251102T050000
END:STANDARD
END:VTIMEZONE
BEGIN:VEVENT
DTSTART;TZID=America/Halifax:20240928T100000
DTEND;TZID=America/Halifax:20240928T110000
DTSTAMP:20260424T141413
CREATED:20240829T211940Z
LAST-MODIFIED:20240904T145211Z
UID:16573-1727517600-1727521200@shapeshifterplus.org
SUMMARY:Princess Backpack and Benjamin
DESCRIPTION:Benjamin Weiner – Ukuele\, Piano\, Vocals\n\n\nPrincess Backpack and Benjamin are a Brooklyn-based duo who love to rock\, pop\, and strum their way through life. Benjamin is a writer for kids shows on Nickelodeon\, PBS\, and Netflix. Princess Backpack is a magical talking backpack\, and Benjamin’s best friend. They’ve performed as far away as Taiwan and as close as the Brooklyn Museum\, and are thrilled to play at Shapeshifter for the very first time. They are excited to be joined by amazing fiddler Melody Allegra\, and to announce their upcoming album\, Carry On. Can’t wait!\n\nKids under 1 yr old – FREE
URL:https://shapeshifterplus.org/event/princess-backpack-benjamin/
LOCATION:ShapeShifter Lab\, 837 Union Street\, Ground Floor\, Brooklyn\, NY\, 11215\, United States
CATEGORIES:Kids Concert
ATTACH;FMTTYPE=image/png:https://shapeshifterplus.org/wp-content/uploads/2024/08/princess-backpack-square-Benjamin-Weiner.png
END:VEVENT
BEGIN:VEVENT
DTSTART;TZID=America/Halifax:20240921T100000
DTEND;TZID=America/Halifax:20240921T120000
DTSTAMP:20260424T141413
CREATED:20240809T221734Z
LAST-MODIFIED:20240913T214800Z
UID:16139-1726912800-1726920000@shapeshifterplus.org
SUMMARY:Tumble's Dino-Tastic LIVE Show!
DESCRIPTION:Join Lindsay and Marshall from Tumble Science Podcast for Kids with their special guest Dan Saks from Noodle Loaf and “Songbud” composer and producer Alan Goffinski from Terrestrials (a family-friendly podcast from Radiolab)\, as they give a Dino-TASTIC live performance! Featuring games\, songs\, dancing\, and science storytelling\, you’ll learn all about fossils\, flex your dinosaur knowledge\, and have a great time answering the big questions. Questions like “Did Dinosaurs Burp?”
URL:https://shapeshifterplus.org/event/m-escamilla/
LOCATION:ShapeShifter Lab\, 837 Union Street\, Ground Floor\, Brooklyn\, NY\, 11215\, United States
CATEGORIES:Education,Kids Concert,Live Music
ATTACH;FMTTYPE=image/png:https://shapeshifterplus.org/wp-content/uploads/2024/08/DINOTASTIC-6-Marshall-Escamilla.png
END:VEVENT
BEGIN:VEVENT
DTSTART;TZID=America/Halifax:20240907T160000
DTEND;TZID=America/Halifax:20240907T170000
DTSTAMP:20260424T141413
CREATED:20240816T164417Z
LAST-MODIFIED:20240816T184422Z
UID:16217-1725724800-1725728400@shapeshifterplus.org
SUMMARY:Sip & Swing
DESCRIPTION:Cost: $15 per person (Under 12 months – FREE) \n  \nColin Hinton – Drums \nShawn Lavato – Bass \nSebastien Ammann – Piano \n  \nJoin us for a live jazz performance\, perfect for both toddlers and their parents\, at Shape Shifter Plus. The performance will feature various jazz standards as well as jazz renditions of popular children’s tunes. This event offers a great opportunity for toddlers to become acquainted with jazz\, while parents enjoy incredible musicians\, cocktails\, and the chance to mingle with other parents in a phenomenal setting. \n  \n 
URL:https://shapeshifterplus.org/event/cezmi-hinton/
LOCATION:ShapeShifter Lab\, 837 Union Street\, Ground Floor\, Brooklyn\, NY\, 11215\, United States
CATEGORIES:Kids Concert,Live Music,Open Call Program
ATTACH;FMTTYPE=image/jpeg:https://shapeshifterplus.org/wp-content/uploads/2024/08/Sipnswing_v2-Cezmi-Yarimkaya.jpeg
END:VEVENT
BEGIN:VEVENT
DTSTART;TZID=America/Halifax:20240630T100000
DTEND;TZID=America/Halifax:20240630T120000
DTSTAMP:20260424T141413
CREATED:20240531T043253Z
LAST-MODIFIED:20240607T215947Z
UID:14403-1719741600-1719748800@shapeshifterplus.org
SUMMARY:Pride Family Party
DESCRIPTION:Celebrate Pride Month with this fun\, interactive concert featuring nationally acclaimed family musicians Ants on a Log (Philly)\, Strawbitty Yops (Austin)\, Lavender Blues (Brooklyn)\, and Esther Crow (NYC). Sing along with this Super Group to original songs of queer joy\, inclusion\, social justice and allyship! Stick around after the show to make your own Pride puppet and join our Pride Parade Puppet Party! \nAnts on a Log creates music for children and other childlike people\, songfully advocating for positivity\, social justice\, and silliness. Full of humor and harmony\, their award-winning music is a delight for all ages. \nStrawbitty Yops are an intergenerational\, Queer family-music band from Austin\, Texas who embrace community\, acceptance\, collaboration and lead with kindness and rhythm. \nLady B of Lavender Blues performs songs from her albums “The REMIXES & “the REMIXES too\,” as well as some of her classroom music… Parents and little ones will love this interactive\, toe-tapping\, get-out-of-your-seat good time with Lady B and her Bunnies. \n  \nEsther Crow\, an award-winning NYC-based “kindie climate rocker”\, writes and performs songs about climate justice\, social justice and community. She is also a puppeteer and leads puppet-making workshops encouraging families to make art out of trash and found objects.
URL:https://shapeshifterplus.org/event/e-crow-pride/
LOCATION:ShapeShifter Lab\, 837 Union Street\, Ground Floor\, Brooklyn\, NY\, 11215\, United States
CATEGORIES:Kids Concert,Live Music
ATTACH;FMTTYPE=image/jpeg:https://shapeshifterplus.org/wp-content/uploads/2024/05/Pride_Family_Square_300dpi-Esther-Crow.jpg
END:VEVENT
BEGIN:VEVENT
DTSTART;TZID=America/Halifax:20240626T153000
DTEND;TZID=America/Halifax:20240626T173000
DTSTAMP:20260424T141413
CREATED:20240625T011628Z
LAST-MODIFIED:20240625T015242Z
UID:15037-1719415800-1719423000@shapeshifterplus.org
SUMMARY:Park Slope Last Day of School - Family Dance Party!
DESCRIPTION:Free entry! \nCelebrate an amazing school year with Mr. Marc The DJ/MC and let us welcome the summer. Cool off indoors with the best music\, dance contests\, prizes and more! \n  \nMr. Marc aka Marc Herstein\, Park Slope Brooklynite\, educator and entertainer has a gift in fully engaging children and retaining their ongoing participation. Marc brings over 20 years of live performance\, songwriting\, beat production\, video production\, event production and audio engineering experience to a wide array of programming for pre-k through middle school aged children.\nMarc diversified his portfolio and began hosting highly successful children’s dance parties as the resident MC and premier event host for the world renowned\, family dance craze\, Baby Loves Disco. To date\, marc has toured over 50 cities hosting family dance parties for multigenerational audiencess. Marc now has built upon his accomplishments by developing unique\, cutting edge educational programming that seamlessly support the identity of a school. Outside of his entertainment and education experience\, Marc has worked for three major nonprofit organizations in NYC and has led marketing\, events and volunteer departments for the past 14 years. His own early education includes District 15’s PS. 230 and MS 51\, as well as Laguardia High School of the Performing Arts as a vocal major. Marc is known for his high energy and integrity\, he is a champion of children and their learning in fun environments.
URL:https://shapeshifterplus.org/event/marc-bars/
LOCATION:ShapeShifter Lab\, 837 Union Street\, Ground Floor\, Brooklyn\, NY\, 11215\, United States
CATEGORIES:Kids Concert
ATTACH;FMTTYPE=image/png:https://shapeshifterplus.org/wp-content/uploads/2024/06/IG-dance-Party.png
END:VEVENT
BEGIN:VEVENT
DTSTART;TZID=America/Halifax:20240613T190000
DTEND;TZID=America/Halifax:20240613T233000
DTSTAMP:20260424T141413
CREATED:20240601T021621Z
LAST-MODIFIED:20240601T023247Z
UID:14443-1718305200-1718321400@shapeshifterplus.org
SUMMARY:All-City Latin Ensemble and Fat Cats Big Band + Jam Session
DESCRIPTION:7pm: All-City Latin Ensemble \n8pm: Fat Cats \n9pm – 11pm: Open Jam Session \n\nSparkling with the sound of young talent\, The Fat Cats is a pre-professional youth orchestra. The group is composed of one big band and two small ensembles that perform Latin jazz and standard jazz pieces and showcase the finest young talent from across all NYC boroughs. \nFounded in 2010 by Arturo O’Farril and managed by the Afro Latin Jazz Alliance\,  The Fat Cats is led by Zack O’Farrill with Afro Latin Jazz Orchestra members Jim Seeley\, Berta Moreno\, and Jasim Perales\, as well as Arthur Alvarez and Adam Baksh-García. \nOver the years\, The Fat Cats have taken the stage at New York venues such as the Brooklyn Museum\, New York Library for the Performing Arts at Lincoln Center\, the Frick Collection\, the Greene Space at WNYC\, BRIC House\, Birdland and Brooklyn’s Shapeshifter Lab who has welcomed the band for weekly rehearsals since their 2023-2024 season.
URL:https://shapeshifterplus.org/event/fat-cats-2/
LOCATION:ShapeShifter Lab\, 837 Union Street\, Ground Floor\, Brooklyn\, NY\, 11215\, United States
CATEGORIES:Kids Concert,Live Music,Open Jam
ATTACH;FMTTYPE=image/png:https://shapeshifterplus.org/wp-content/uploads/2023/11/Screenshot-2023-11-03-at-12.59.08-PM.png
END:VEVENT
END:VCALENDAR