BEGIN:VCALENDAR
VERSION:2.0
PRODID:-//ShapeShifter Plus - ECPv6.15.20//NONSGML v1.0//EN
CALSCALE:GREGORIAN
METHOD:PUBLISH
X-ORIGINAL-URL:https://shapeshifterplus.org
X-WR-CALDESC:Events for ShapeShifter Plus
REFRESH-INTERVAL;VALUE=DURATION:PT1H
X-Robots-Tag:noindex
X-PUBLISHED-TTL:PT1H
BEGIN:VTIMEZONE
TZID:America/Halifax
BEGIN:DAYLIGHT
TZOFFSETFROM:-0400
TZOFFSETTO:-0300
TZNAME:ADT
DTSTART:20240310T060000
END:DAYLIGHT
BEGIN:STANDARD
TZOFFSETFROM:-0300
TZOFFSETTO:-0400
TZNAME:AST
DTSTART:20241103T050000
END:STANDARD
BEGIN:DAYLIGHT
TZOFFSETFROM:-0400
TZOFFSETTO:-0300
TZNAME:ADT
DTSTART:20250309T060000
END:DAYLIGHT
BEGIN:STANDARD
TZOFFSETFROM:-0300
TZOFFSETTO:-0400
TZNAME:AST
DTSTART:20251102T050000
END:STANDARD
BEGIN:DAYLIGHT
TZOFFSETFROM:-0400
TZOFFSETTO:-0300
TZNAME:ADT
DTSTART:20260308T060000
END:DAYLIGHT
BEGIN:STANDARD
TZOFFSETFROM:-0300
TZOFFSETTO:-0400
TZNAME:AST
DTSTART:20261101T050000
END:STANDARD
END:VTIMEZONE
BEGIN:VEVENT
DTSTART;TZID=America/Halifax:20250227T193000
DTEND;TZID=America/Halifax:20250227T233000
DTSTAMP:20260421T232827
CREATED:20250120T232522Z
LAST-MODIFIED:20250227T231114Z
UID:43476-1740684600-1740699000@shapeshifterplus.org
SUMMARY:Anthony Jackson Benefit Concert
DESCRIPTION:ANTHONY JACKSON BENEFIT CONCERT\nShapeShifter Plus 501c3 Presents\nFor The Love Of Anthony\nAn evening to celebrate and honor the life and work of legendary bass guitarist\, Mr. Anthony C Jackson.\nDONATION TO ANTHONY JACKSON (if you can’t attend) \n\n\n\nAs a first-call New York City session bassist for over five decades\, Anthony Jackson played on thousands of recordings\, among them some of the most celebrated and important albums and tracks in pop and jazz history. Along the way\, he redefined the art of the bass guitar through his singular approach to bass line construction and his invention of the 6-string Contrabass Guitar.\n\nFollowing his landmark run simultaneously anchoring and elevating the music of artists like Billy Paul\, The O’Jays\, Buddy Rich\, Roberta Flack\, Chaka Khan\, Paul Simon\, Steely Dan\, Chick Corea\, Al DiMeola\, Lee Ritenour\, Luther Vandross\, Steve Khan’s Eyewitness\, Akiko Yano\, Michel Camilo and Hiromi\, Mr. Jackson’s last performance was with Hiromi in her trio with drummer Simon Phillips\, in 2017. After suffering a series of strokes and being diagnosed with Parkinson’s Disease\, he has not been able to tour\, record or perform locally. However\, he continues to work diligently every day in therapy and never takes the bass guitar out of his hands.\n\nJoin us to celebrate the life and work of this pioneer and genius. Bass Magazine editors Chris Jisi and Elton Bradman will be interviewing Anthony\, as well as an amazing lineup of artists and surprise guests\, who will each perform music associated with Anthony’s long career.\n\nThis very special evening will be a one-time only event only in an effort to help raise funds for Anthony Jackson’s continuing health and living expenses. Tickets are extremely limited so get yours now. You won’t want to miss honoring a true musical giant who has meant so much to our hearts\, minds and ears!
URL:https://shapeshifterplus.org/event/anthony-jackson-benefit-feb27-2025/
LOCATION:ShapeShifter Lab\, 837 Union Street\, Ground Floor\, Brooklyn\, NY\, 11215\, United States
CATEGORIES:Fundraiser,Live Music
ATTACH;FMTTYPE=image/png:https://shapeshifterplus.org/wp-content/uploads/2025/01/FINAL-202502011-3.png
END:VEVENT
END:VCALENDAR