BEGIN:VCALENDAR
VERSION:2.0
PRODID:-//ShapeShifter Plus - ECPv6.15.20//NONSGML v1.0//EN
CALSCALE:GREGORIAN
METHOD:PUBLISH
X-WR-CALNAME:ShapeShifter Plus
X-ORIGINAL-URL:https://shapeshifterplus.org
X-WR-CALDESC:Events for ShapeShifter Plus
REFRESH-INTERVAL;VALUE=DURATION:PT1H
X-Robots-Tag:noindex
X-PUBLISHED-TTL:PT1H
BEGIN:VTIMEZONE
TZID:America/Halifax
BEGIN:DAYLIGHT
TZOFFSETFROM:-0400
TZOFFSETTO:-0300
TZNAME:ADT
DTSTART:20230312T060000
END:DAYLIGHT
BEGIN:STANDARD
TZOFFSETFROM:-0300
TZOFFSETTO:-0400
TZNAME:AST
DTSTART:20231105T050000
END:STANDARD
BEGIN:DAYLIGHT
TZOFFSETFROM:-0400
TZOFFSETTO:-0300
TZNAME:ADT
DTSTART:20240310T060000
END:DAYLIGHT
BEGIN:STANDARD
TZOFFSETFROM:-0300
TZOFFSETTO:-0400
TZNAME:AST
DTSTART:20241103T050000
END:STANDARD
BEGIN:DAYLIGHT
TZOFFSETFROM:-0400
TZOFFSETTO:-0300
TZNAME:ADT
DTSTART:20250309T060000
END:DAYLIGHT
BEGIN:STANDARD
TZOFFSETFROM:-0300
TZOFFSETTO:-0400
TZNAME:AST
DTSTART:20251102T050000
END:STANDARD
END:VTIMEZONE
BEGIN:VEVENT
DTSTART;TZID=America/Halifax:20240622T110000
DTEND;TZID=America/Halifax:20240622T200000
DTSTAMP:20260422T114918
CREATED:20240531T173805Z
LAST-MODIFIED:20240620T205100Z
UID:14439-1719054000-1719086400@shapeshifterplus.org
SUMMARY:ShapeShifter Plus - Fundraiser Event - June 22\, 2024\, 11am - 8pm US ET
DESCRIPTION:Dear Supporters\, \nWe are thrilled to invite you to our upcoming SS+ Fundraiser event on June 22\, 2024\, dedicated to supporting our work and raising crucial funds for our organizational capacity.  \nMission of This Fundraiser: \nOrganizational Capacity: With your generous donations (fully tax deductible)\, we aim to reach our goal of $50\,000\, which will directly contribute to our need for hiring new team members to help push into even more productive territory! Through a variety of activities and performances\, we aim to raise awareness about the necessity to expand our team to further maximize our event presentation output efforts. Your participation and support are integral to the success of our current and future work. \nHow You Can Help: \nYour support is invaluable to us.  \nHere are some ways you can contribute: \n\nAttend the event and participate in the activities.\nMake a donation according to the suggested amounts:\n\n– $5 for the Kids Section \n– $10 for the Afternoon Section \n– $20 for the Evening Section \n\nHelp spread the word about our fundraiser to your friends\, family\, and colleagues.\nConsider becoming a sponsor or making an in-kind donation.\n\n– RSVP BELOW – \nEvent Schedule Highlights: \n\n10:30 am: Doors Open\n\n\n11:10 am: Welcome Time\n\n– Matt & Fortuna Welcoming everyone into the space \nKids Show and Activities Begin (1st Floor): \n\n\n\n11:15 am – 11:45 am: Stefania Clementi “Allora”: Pasta Making Making and Arts and Crafts\n12 pm – 12:20 pm: Debbie Brukman\n12:20 pm – 12:30 pm: Gail Ward “Scarlet Ibis Studios”\n\n\n\nKids Arts & Craft (2nd Floor): \n\n12 pm – 2 pm: Arts & Craft with Stefania Clementi “Allora”\n12:30 pm – 1 pm: Meet & Greet / Refreshments\n\n______________________________________________________ \nYouths Creative Arts (1st Floor): \n\n\n\n1 pm – 1:15 pm: Matt Garrison Quad Stereo Presentation & Video Testimonials\n1:15 pm – 1:30 pm: Panel Discussion – Fortuna Sung\, Matt Garrison\, Zack O’Farrill\, Albert Marques\n1:30 pm – 1:50 pm: Matt Garrison\, Zack O’Farrill\, Albert Marques Trio\n2 pm – 2:20 pm: Alchemy Performance\n2:30 pm – 2:40 pm: Matt Garrison Slideshow Presentation\n\n\n\n______________________________________________________ \nAll-Star Performances & Jam Session (1st Floor): \n\n\n\n3 pm – 3:20 pm: Matt Garrison Family Project\n3:20 pm – 5 pm: Performances & Testimonials\n5 pm – 8 pm: Jam Session\n\n\n\nMovement Arts Program (2nd Floor): \n\n\n\n5 pm – 8 pm: Maia Claire Garrison’s Movement Arts Program preview
URL:https://shapeshifterplus.org/event/ssp-fundraiser/
LOCATION:ShapeShifter Lab\, 837 Union Street\, Ground Floor\, Brooklyn\, NY\, 11215\, United States
CATEGORIES:Fundraiser
ATTACH;FMTTYPE=image/jpeg:https://shapeshifterplus.org/wp-content/uploads/2024/05/June-22-2024-Fundraiser-2.jpeg
END:VEVENT
END:VCALENDAR