BEGIN:VCALENDAR
VERSION:2.0
PRODID:-//ShapeShifter Plus - ECPv6.15.20//NONSGML v1.0//EN
CALSCALE:GREGORIAN
METHOD:PUBLISH
X-WR-CALNAME:ShapeShifter Plus
X-ORIGINAL-URL:https://shapeshifterplus.org
X-WR-CALDESC:Events for ShapeShifter Plus
REFRESH-INTERVAL;VALUE=DURATION:PT1H
X-Robots-Tag:noindex
X-PUBLISHED-TTL:PT1H
BEGIN:VTIMEZONE
TZID:America/Halifax
BEGIN:DAYLIGHT
TZOFFSETFROM:-0400
TZOFFSETTO:-0300
TZNAME:ADT
DTSTART:20230312T060000
END:DAYLIGHT
BEGIN:STANDARD
TZOFFSETFROM:-0300
TZOFFSETTO:-0400
TZNAME:AST
DTSTART:20231105T050000
END:STANDARD
BEGIN:DAYLIGHT
TZOFFSETFROM:-0400
TZOFFSETTO:-0300
TZNAME:ADT
DTSTART:20240310T060000
END:DAYLIGHT
BEGIN:STANDARD
TZOFFSETFROM:-0300
TZOFFSETTO:-0400
TZNAME:AST
DTSTART:20241103T050000
END:STANDARD
BEGIN:DAYLIGHT
TZOFFSETFROM:-0400
TZOFFSETTO:-0300
TZNAME:ADT
DTSTART:20250309T060000
END:DAYLIGHT
BEGIN:STANDARD
TZOFFSETFROM:-0300
TZOFFSETTO:-0400
TZNAME:AST
DTSTART:20251102T050000
END:STANDARD
END:VTIMEZONE
BEGIN:VEVENT
DTSTART;TZID=America/Halifax:20241026T200000
DTEND;TZID=America/Halifax:20241027T010000
DTSTAMP:20260422T043241
CREATED:20241022T063723Z
LAST-MODIFIED:20241022T063723Z
UID:41712-1729972800-1729990800@shapeshifterplus.org
SUMMARY:FUN"d"Raising Milonga
DESCRIPTION:Event by La Nuestra Tango\, Nyq Tango and Karen Johnson\n\n\n\n\n\n\n\n\n\n\n\n\n\n\nLa Nuestra Tango is kicking off our fundraising campaign with this FUN”d”Raising Milonga co-hosted by ShapeShifter Lab. You can view our gofundme here: https://www.gofundme.com/…/fund-scholarships-and-dance…\nJoin us on Saturday\, Oct 26th\n\n\n\n8pm – 9pm: Preemilonga Open Class with Matias Donadio9pm – 1am : Milonga with DJ Karen Johnson\n$30 + as much as you would like to contribute to our cause.\n[If you don’t know who we are\, check out our mission at www.lanuestratango.com]\n\nHelp La Nuestra Tango raise money for our scholarship fund and our portable dance floor!\nLa Nuestra Tango is a fiscally sponsored organization devoted to creating inclusive\, welcoming\, diverse\, queer centered Argentine Tango events. Our mission is to bring these events to different parts of North Eastern USA\, and make them available to everyone who wants to attend\, regardless of finances.\nWe center artists\, facilitators\, performers\, teachers\, and DJ’s from underrepresented groups\, and strive to ensure fair pay for them.\nOur events are joyful spaces that welcome dancers of all experience levels and backgrounds.\nWe’re asking for your help toward two projects:\n\n1. We are raising money to buy a portable dance floor for La Nuestra Tango. This will make our events more comfortable for everyone\, and allow us to host events in more neighborhoods and communities.\n\n2. We want to offer scholarships for our upcoming marathon\, as well as future events.\n\nYour support is hugely appreciated! Thank you for helping us build a more inclusive tango culture for all!\nIf you can’t attend in person\, please consider donating to our gofundme: https://www.gofundme.com/…/fund-scholarships-and-dance….\nYou can also make a donation on our fractured atlas page here: https://fundraising.fracturedatlas.org/…/monthly_support\nIf you can’t support us financially\, please help us share this event and our gofundme page!
URL:https://shapeshifterplus.org/event/fundraising-milonga/
LOCATION:ShapeShifter Lab\, 837 Union Street\, Ground Floor\, Brooklyn\, NY\, 11215\, United States
CATEGORIES:Fundraiser
ATTACH;FMTTYPE=image/jpeg:https://shapeshifterplus.org/wp-content/uploads/2024/10/462693855_528724316572715_3759940016748059445_n.jpg
END:VEVENT
END:VCALENDAR