BEGIN:VCALENDAR
VERSION:2.0
PRODID:-//ShapeShifter Plus - ECPv6.15.20//NONSGML v1.0//EN
CALSCALE:GREGORIAN
METHOD:PUBLISH
X-WR-CALNAME:ShapeShifter Plus
X-ORIGINAL-URL:https://shapeshifterplus.org
X-WR-CALDESC:Events for ShapeShifter Plus
REFRESH-INTERVAL;VALUE=DURATION:PT1H
X-Robots-Tag:noindex
X-PUBLISHED-TTL:PT1H
BEGIN:VTIMEZONE
TZID:America/Halifax
BEGIN:DAYLIGHT
TZOFFSETFROM:-0400
TZOFFSETTO:-0300
TZNAME:ADT
DTSTART:20220313T060000
END:DAYLIGHT
BEGIN:STANDARD
TZOFFSETFROM:-0300
TZOFFSETTO:-0400
TZNAME:AST
DTSTART:20221106T050000
END:STANDARD
BEGIN:DAYLIGHT
TZOFFSETFROM:-0400
TZOFFSETTO:-0300
TZNAME:ADT
DTSTART:20230312T060000
END:DAYLIGHT
BEGIN:STANDARD
TZOFFSETFROM:-0300
TZOFFSETTO:-0400
TZNAME:AST
DTSTART:20231105T050000
END:STANDARD
BEGIN:DAYLIGHT
TZOFFSETFROM:-0400
TZOFFSETTO:-0300
TZNAME:ADT
DTSTART:20240310T060000
END:DAYLIGHT
BEGIN:STANDARD
TZOFFSETFROM:-0300
TZOFFSETTO:-0400
TZNAME:AST
DTSTART:20241103T050000
END:STANDARD
END:VTIMEZONE
BEGIN:VEVENT
DTSTART;TZID=America/Halifax:20231129T173000
DTEND;TZID=America/Halifax:20231129T203000
DTSTAMP:20260424T222624
CREATED:20240308T002057Z
LAST-MODIFIED:20240308T002057Z
UID:8085-1701279000-1701289800@shapeshifterplus.org
SUMMARY:Workshops & Jam Sessions Hosted by Matt Garrison
DESCRIPTION:Workshop 5:30 pm – 6:15 pm \nJam 6:30 pm – 8:30 pm \nWorkshops & Jam Sessions Hosted by Matt Garrison @ShapeShifterLab\nEvery Wednesday in November 2023 (November 1\, 15\, 22\, 29)\n\n\n5:30-6:15 pm Workshop: Jam Session Ideas/Approaches\n\n\n\nMatt will discuss how the Jam Sessions he hosts can and will be approached.\nHe will discuss: Songs\, Forms\, Improvisation\, Dynamics\, Tempos\, Feel\, Genres\, Technique\, Emotional State and other important topics that will set the stage for the actual ShapeShifter Lab Jam Session.\nHe feels that doing so will give a strong basis for all jammers to get a sense of what’s possible.\nThe further idea of the workshop is to trigger a conversation\, spark ideas and open the floor for clear dialogue about a possible set of Jam Session frameworks.\nAll Experience levels welcome! FREE!\n\n\n\n6:30-8:30pm Jam Session
URL:https://shapeshifterplus.org/event/workshops-jam-sessions-hosted-by-matt-garrison-6/
LOCATION:ShapeShifter Lab\, 837 Union Street\, Ground Floor\, Brooklyn\, NY\, 11215\, United States
CATEGORIES:Education,Live Music,Open Jam
ATTACH;FMTTYPE=image/png:https://shapeshifterplus.org/wp-content/uploads/2023/10/Matt-Garrison-Workshop-Jam-Session-Nov-2023.png
END:VEVENT
BEGIN:VEVENT
DTSTART;TZID=America/Halifax:20231115T173000
DTEND;TZID=America/Halifax:20231115T203000
DTSTAMP:20260424T222624
CREATED:20240308T001856Z
LAST-MODIFIED:20240308T001856Z
UID:7273-1700069400-1700080200@shapeshifterplus.org
SUMMARY:Workshops & Jam Sessions Hosted by Matt Garrison
DESCRIPTION:Workshop 5:30 pm – 6:15 pm \nJam 6:30 pm – 8:30 pm \nWorkshops & Jam Sessions Hosted by Matt Garrison @ShapeShifterLab\nEvery Wednesday in November 2023 (November 1\, 15\, 22\, 29)\n\n\n5:30-6:15 pm Workshop: Jam Session Ideas/Approaches\n\n\n\nMatt will discuss how the Jam Sessions he hosts can and will be approached.\nHe will discuss: Songs\, Forms\, Improvisation\, Dynamics\, Tempos\, Feel\, Genres\, Technique\, Emotional State and other important topics that will set the stage for the actual ShapeShifter Lab Jam Session.\nHe feels that doing so will give a strong basis for all jammers to get a sense of what’s possible.\nThe further idea of the workshop is to trigger a conversation\, spark ideas and open the floor for clear dialogue about a possible set of Jam Session frameworks.\nAll Experience levels welcome! FREE!\n\n\n\n6:30-8:30pm Jam Session
URL:https://shapeshifterplus.org/event/workshops-jam-sessions-hosted-by-matt-garrison/
LOCATION:ShapeShifter Lab\, 837 Union Street\, Ground Floor\, Brooklyn\, NY\, 11215\, United States
CATEGORIES:Education,Live Music,Open Jam
ATTACH;FMTTYPE=image/png:https://shapeshifterplus.org/wp-content/uploads/2023/10/Matt-Garrison-Workshop-Jam-Session-Nov-2023.png
END:VEVENT
BEGIN:VEVENT
DTSTART;TZID=America/Halifax:20231129T173000
DTEND;TZID=America/Halifax:20231129T203000
DTSTAMP:20260424T222624
CREATED:20240308T002057Z
LAST-MODIFIED:20240308T002057Z
UID:8085-1701279000-1701289800@shapeshifterplus.org
SUMMARY:Workshops & Jam Sessions Hosted by Matt Garrison
DESCRIPTION:Workshop 5:30 pm – 6:15 pm \nJam 6:30 pm – 8:30 pm \nWorkshops & Jam Sessions Hosted by Matt Garrison @ShapeShifterLab\nEvery Wednesday in November 2023 (November 1\, 15\, 22\, 29)\n\n\n5:30-6:15 pm Workshop: Jam Session Ideas/Approaches\n\n\n\nMatt will discuss how the Jam Sessions he hosts can and will be approached.\nHe will discuss: Songs\, Forms\, Improvisation\, Dynamics\, Tempos\, Feel\, Genres\, Technique\, Emotional State and other important topics that will set the stage for the actual ShapeShifter Lab Jam Session.\nHe feels that doing so will give a strong basis for all jammers to get a sense of what’s possible.\nThe further idea of the workshop is to trigger a conversation\, spark ideas and open the floor for clear dialogue about a possible set of Jam Session frameworks.\nAll Experience levels welcome! FREE!\n\n\n\n6:30-8:30pm Jam Session
URL:https://shapeshifterplus.org/event/workshops-jam-sessions-hosted-by-matt-garrison-6/
LOCATION:ShapeShifter Lab\, 837 Union Street\, Ground Floor\, Brooklyn\, NY\, 11215\, United States
CATEGORIES:Education,Live Music,Open Jam
ATTACH;FMTTYPE=image/png:https://shapeshifterplus.org/wp-content/uploads/2023/10/Matt-Garrison-Workshop-Jam-Session-Nov-2023.png
END:VEVENT
BEGIN:VEVENT
DTSTART;TZID=America/Halifax:20231115T173000
DTEND;TZID=America/Halifax:20231115T203000
DTSTAMP:20260424T222624
CREATED:20240308T001856Z
LAST-MODIFIED:20240308T001856Z
UID:7273-1700069400-1700080200@shapeshifterplus.org
SUMMARY:Workshops & Jam Sessions Hosted by Matt Garrison
DESCRIPTION:Workshop 5:30 pm – 6:15 pm \nJam 6:30 pm – 8:30 pm \nWorkshops & Jam Sessions Hosted by Matt Garrison @ShapeShifterLab\nEvery Wednesday in November 2023 (November 1\, 15\, 22\, 29)\n\n\n5:30-6:15 pm Workshop: Jam Session Ideas/Approaches\n\n\n\nMatt will discuss how the Jam Sessions he hosts can and will be approached.\nHe will discuss: Songs\, Forms\, Improvisation\, Dynamics\, Tempos\, Feel\, Genres\, Technique\, Emotional State and other important topics that will set the stage for the actual ShapeShifter Lab Jam Session.\nHe feels that doing so will give a strong basis for all jammers to get a sense of what’s possible.\nThe further idea of the workshop is to trigger a conversation\, spark ideas and open the floor for clear dialogue about a possible set of Jam Session frameworks.\nAll Experience levels welcome! FREE!\n\n\n\n6:30-8:30pm Jam Session
URL:https://shapeshifterplus.org/event/workshops-jam-sessions-hosted-by-matt-garrison/
LOCATION:ShapeShifter Lab\, 837 Union Street\, Ground Floor\, Brooklyn\, NY\, 11215\, United States
CATEGORIES:Education,Live Music,Open Jam
ATTACH;FMTTYPE=image/png:https://shapeshifterplus.org/wp-content/uploads/2023/10/Matt-Garrison-Workshop-Jam-Session-Nov-2023.png
END:VEVENT
BEGIN:VEVENT
DTSTART;TZID=America/Halifax:20231105T110000
DTEND;TZID=America/Halifax:20231105T170000
DTSTAMP:20260424T222624
CREATED:20231103T172015Z
LAST-MODIFIED:20231103T172016Z
UID:7346-1699182000-1699203600@shapeshifterplus.org
SUMMARY:The Fat Cats Youth Orchestra Open Workshop and Rehearsals
DESCRIPTION:The Fat Cats Youth Orchestra Open Workshop and Rehearsals Weekly at ShapeShifter\n  \nSparkling with the sound of young talent\, The Fat Cats is a pre-professional youth orchestra. The group is composed of one big band and two small ensembles that perform Latin jazz and standard jazz pieces and showcase the finest young talent from across all NYC boroughs. \nFounded in 2010 by Arturo O’Farril and managed by the Afro Latin Jazz Alliance\,  The Fat Cats is led by Zack O’Farrill with Afro Latin Jazz Orchestra members Jim Seeley\, Berta Moreno\, and Jasim Perales\, as well as Arthur Alvarez and Adam Baksh-García. \nOver the years\, The Fat Cats have taken the stage at New York venues such as the Brooklyn Museum\, New York Library for the Performing Arts at Lincoln Center\, the Frick Collection\, the Greene Space at WNYC\, BRIC House\, Birdland and Brooklyn’s Shapeshifter Lab who has welcomed the band for weekly rehearsals since their 2023-2024 season.
URL:https://shapeshifterplus.org/event/fat-cats-open-workshop-and-rehearsals-2/
LOCATION:ShapeShifter Lab\, 837 Union Street\, Ground Floor\, Brooklyn\, NY\, 11215\, United States
CATEGORIES:Education,Live Music
ATTACH;FMTTYPE=image/png:https://shapeshifterplus.org/wp-content/uploads/2023/11/Screenshot-2023-11-03-at-12.59.08-PM.png
END:VEVENT
BEGIN:VEVENT
DTSTART;TZID=America/Halifax:20231129T173000
DTEND;TZID=America/Halifax:20231129T203000
DTSTAMP:20260424T222624
CREATED:20240308T002057Z
LAST-MODIFIED:20240308T002057Z
UID:8085-1701279000-1701289800@shapeshifterplus.org
SUMMARY:Workshops & Jam Sessions Hosted by Matt Garrison
DESCRIPTION:Workshop 5:30 pm – 6:15 pm \nJam 6:30 pm – 8:30 pm \nWorkshops & Jam Sessions Hosted by Matt Garrison @ShapeShifterLab\nEvery Wednesday in November 2023 (November 1\, 15\, 22\, 29)\n\n\n5:30-6:15 pm Workshop: Jam Session Ideas/Approaches\n\n\n\nMatt will discuss how the Jam Sessions he hosts can and will be approached.\nHe will discuss: Songs\, Forms\, Improvisation\, Dynamics\, Tempos\, Feel\, Genres\, Technique\, Emotional State and other important topics that will set the stage for the actual ShapeShifter Lab Jam Session.\nHe feels that doing so will give a strong basis for all jammers to get a sense of what’s possible.\nThe further idea of the workshop is to trigger a conversation\, spark ideas and open the floor for clear dialogue about a possible set of Jam Session frameworks.\nAll Experience levels welcome! FREE!\n\n\n\n6:30-8:30pm Jam Session
URL:https://shapeshifterplus.org/event/workshops-jam-sessions-hosted-by-matt-garrison-6/
LOCATION:ShapeShifter Lab\, 837 Union Street\, Ground Floor\, Brooklyn\, NY\, 11215\, United States
CATEGORIES:Education,Live Music,Open Jam
ATTACH;FMTTYPE=image/png:https://shapeshifterplus.org/wp-content/uploads/2023/10/Matt-Garrison-Workshop-Jam-Session-Nov-2023.png
END:VEVENT
BEGIN:VEVENT
DTSTART;TZID=America/Halifax:20231115T173000
DTEND;TZID=America/Halifax:20231115T203000
DTSTAMP:20260424T222624
CREATED:20240308T001856Z
LAST-MODIFIED:20240308T001856Z
UID:7273-1700069400-1700080200@shapeshifterplus.org
SUMMARY:Workshops & Jam Sessions Hosted by Matt Garrison
DESCRIPTION:Workshop 5:30 pm – 6:15 pm \nJam 6:30 pm – 8:30 pm \nWorkshops & Jam Sessions Hosted by Matt Garrison @ShapeShifterLab\nEvery Wednesday in November 2023 (November 1\, 15\, 22\, 29)\n\n\n5:30-6:15 pm Workshop: Jam Session Ideas/Approaches\n\n\n\nMatt will discuss how the Jam Sessions he hosts can and will be approached.\nHe will discuss: Songs\, Forms\, Improvisation\, Dynamics\, Tempos\, Feel\, Genres\, Technique\, Emotional State and other important topics that will set the stage for the actual ShapeShifter Lab Jam Session.\nHe feels that doing so will give a strong basis for all jammers to get a sense of what’s possible.\nThe further idea of the workshop is to trigger a conversation\, spark ideas and open the floor for clear dialogue about a possible set of Jam Session frameworks.\nAll Experience levels welcome! FREE!\n\n\n\n6:30-8:30pm Jam Session
URL:https://shapeshifterplus.org/event/workshops-jam-sessions-hosted-by-matt-garrison/
LOCATION:ShapeShifter Lab\, 837 Union Street\, Ground Floor\, Brooklyn\, NY\, 11215\, United States
CATEGORIES:Education,Live Music,Open Jam
ATTACH;FMTTYPE=image/png:https://shapeshifterplus.org/wp-content/uploads/2023/10/Matt-Garrison-Workshop-Jam-Session-Nov-2023.png
END:VEVENT
BEGIN:VEVENT
DTSTART;TZID=America/Halifax:20231112T173000
DTEND;TZID=America/Halifax:20231112T190000
DTSTAMP:20260424T222624
CREATED:20240308T001856Z
LAST-MODIFIED:20240308T001856Z
UID:7647-1699810200-1699815600@shapeshifterplus.org
SUMMARY:Afro-Cuban Percussion Workshop
DESCRIPTION:Pellito El Afrokan\, congas percussion \nCuban percussionist Pellito el Afrokan\, the grandson of the late great Cuban musician Pello El Afrokan\, the originator of the Cuban Mozambique rhythm/dance\, will conduct a percussion workshop where he will teach  Cuban rhythms on conga drums and other percussion instruments.  Conga drums will be provided\, though you are welcome to bring your own conga drum.  The workshop will start at 5:30 p.m. with an introduction to Pellito and the history of the original Mozambique rhythm from Cuba.  The Mozambique rhythm and the dance will be taught to workshop attendees\, followed by instruction in other Afro-Cuban rhythms such as  Rumba\, Conga de Comparsa\, Yuka\, and Makuta. \n \n  \nThis program is ideal for intermediate to advanced percussionists or other musicians interested in learning more about Cuban percussion.\nOmar Merencio Izquierdo was born in Havana\, Cuba\, on January 7\, 1980. From a very young age\, his inclination for music began due to the musical influence and artistic environment that he breathed in his family. His grandfather was Maestro Pello el Afrokan\, and his great-uncles were also excellent Congueros Roberto Izquierdo and Gilberto Izquierdo. This musical and percussion heritage goes back a long way because Pellito’s great-grandfather was the first conga player to have a Typical Orchestra in Cuba\, and his name was Roberto Izquierdo Morales\, who played with the Belisario López Orchestra in the ‘30s\, ‘40s and ‘50s.\n 
URL:https://shapeshifterplus.org/event/afro-cuban-percussion-workshop/
LOCATION:ShapeShifter Lab\, 837 Union Street\, Ground Floor\, Brooklyn\, NY\, 11215\, United States
CATEGORIES:Education,Live Music,Open Call Program
ATTACH;FMTTYPE=image/jpeg:https://shapeshifterplus.org/wp-content/uploads/2023/11/Pellito-shot-copy.jpg
END:VEVENT
BEGIN:VEVENT
DTSTART;TZID=America/Halifax:20231105T110000
DTEND;TZID=America/Halifax:20231105T170000
DTSTAMP:20260424T222624
CREATED:20231103T172015Z
LAST-MODIFIED:20231103T172016Z
UID:7346-1699182000-1699203600@shapeshifterplus.org
SUMMARY:The Fat Cats Youth Orchestra Open Workshop and Rehearsals
DESCRIPTION:The Fat Cats Youth Orchestra Open Workshop and Rehearsals Weekly at ShapeShifter\n  \nSparkling with the sound of young talent\, The Fat Cats is a pre-professional youth orchestra. The group is composed of one big band and two small ensembles that perform Latin jazz and standard jazz pieces and showcase the finest young talent from across all NYC boroughs. \nFounded in 2010 by Arturo O’Farril and managed by the Afro Latin Jazz Alliance\,  The Fat Cats is led by Zack O’Farrill with Afro Latin Jazz Orchestra members Jim Seeley\, Berta Moreno\, and Jasim Perales\, as well as Arthur Alvarez and Adam Baksh-García. \nOver the years\, The Fat Cats have taken the stage at New York venues such as the Brooklyn Museum\, New York Library for the Performing Arts at Lincoln Center\, the Frick Collection\, the Greene Space at WNYC\, BRIC House\, Birdland and Brooklyn’s Shapeshifter Lab who has welcomed the band for weekly rehearsals since their 2023-2024 season.
URL:https://shapeshifterplus.org/event/fat-cats-open-workshop-and-rehearsals-2/
LOCATION:ShapeShifter Lab\, 837 Union Street\, Ground Floor\, Brooklyn\, NY\, 11215\, United States
CATEGORIES:Education,Live Music
ATTACH;FMTTYPE=image/png:https://shapeshifterplus.org/wp-content/uploads/2023/11/Screenshot-2023-11-03-at-12.59.08-PM.png
END:VEVENT
BEGIN:VEVENT
DTSTART;TZID=America/Halifax:20231105T110000
DTEND;TZID=America/Halifax:20231105T170000
DTSTAMP:20260424T222624
CREATED:20231103T172015Z
LAST-MODIFIED:20231103T172016Z
UID:7346-1699182000-1699203600@shapeshifterplus.org
SUMMARY:The Fat Cats Youth Orchestra Open Workshop and Rehearsals
DESCRIPTION:The Fat Cats Youth Orchestra Open Workshop and Rehearsals Weekly at ShapeShifter\n  \nSparkling with the sound of young talent\, The Fat Cats is a pre-professional youth orchestra. The group is composed of one big band and two small ensembles that perform Latin jazz and standard jazz pieces and showcase the finest young talent from across all NYC boroughs. \nFounded in 2010 by Arturo O’Farril and managed by the Afro Latin Jazz Alliance\,  The Fat Cats is led by Zack O’Farrill with Afro Latin Jazz Orchestra members Jim Seeley\, Berta Moreno\, and Jasim Perales\, as well as Arthur Alvarez and Adam Baksh-García. \nOver the years\, The Fat Cats have taken the stage at New York venues such as the Brooklyn Museum\, New York Library for the Performing Arts at Lincoln Center\, the Frick Collection\, the Greene Space at WNYC\, BRIC House\, Birdland and Brooklyn’s Shapeshifter Lab who has welcomed the band for weekly rehearsals since their 2023-2024 season.
URL:https://shapeshifterplus.org/event/fat-cats-open-workshop-and-rehearsals-2/
LOCATION:ShapeShifter Lab\, 837 Union Street\, Ground Floor\, Brooklyn\, NY\, 11215\, United States
CATEGORIES:Education,Live Music
ATTACH;FMTTYPE=image/png:https://shapeshifterplus.org/wp-content/uploads/2023/11/Screenshot-2023-11-03-at-12.59.08-PM.png
END:VEVENT
BEGIN:VEVENT
DTSTART;TZID=America/Halifax:20231027T190000
DTEND;TZID=America/Halifax:20231027T230000
DTSTAMP:20260424T222624
CREATED:20240308T001931Z
LAST-MODIFIED:20240308T001931Z
UID:6571-1698433200-1698447600@shapeshifterplus.org
SUMMARY:Berklee EPD (Electronic\, Production and Design Department) An AES Afterparty
DESCRIPTION:Friday\, October 27\, 2023 \n  \nDoors: 6:30pm \nEvent: 7pm-11pm \n  \nOn Friday\, October 27th from 7-11pm: \nA night of performances by faculty from Berklee College of Music’s EPD (Electronic Production and Design) department.  These performances will feature cutting-edge music technology\, including new digital instruments\, modular synthesis\, loop-based performances\, and more. \n  \nPerformers will include: \nMichael Bierylo + Nona Hendryx \nJoe Branciforte \nJean-Luc Cohen \nRyan Page \nAkhito van Troyer \nJimmy Lim \n  \nAdmission: TBA
URL:https://shapeshifterplus.org/event/berklee-epd-electronic-production-and-design-department-aes-afterparty/
LOCATION:ShapeShifter Lab\, 837 Union Street\, Ground Floor\, Brooklyn\, NY\, 11215\, United States
CATEGORIES:Education,Live Music
ATTACH;FMTTYPE=image/png:https://shapeshifterplus.org/wp-content/uploads/2023/09/aes-afterparty-flyer.png
END:VEVENT
BEGIN:VEVENT
DTSTART;TZID=America/Halifax:20231016T173000
DTEND;TZID=America/Halifax:20231016T210000
DTSTAMP:20260424T222624
CREATED:20240308T001931Z
LAST-MODIFIED:20240308T001931Z
UID:6568-1697477400-1697490000@shapeshifterplus.org
SUMMARY:Hadrien Feraud & Matt Garrison Live Interview/Workshop & Performance + Special Guests
DESCRIPTION:Monday\, October 16\, 2023\nDoors: 5:30pm\n\nHadrien + Matt Live Interview/Workshop: 6pm-7pm\n\nHadrien Feraud & Matt Garrison + Special Guests Performance: 7:30pm-8:30pm\n\nIn person Live Interview/Workshop: $15\n\nIn person Performance: $20\n\nIf you would like to attend both workshop and performance in person: $30\n\n*Livestream of Workshop & Performance available in Matt Garrison App Exclusively
URL:https://shapeshifterplus.org/event/hadrien-feraud-matt-garrison-live-interview-workshop-performance-special-guests/
LOCATION:ShapeShifter Lab\, 837 Union Street\, Ground Floor\, Brooklyn\, NY\, 11215\, United States
CATEGORIES:Education,Live Music
ATTACH;FMTTYPE=image/png:https://shapeshifterplus.org/wp-content/uploads/2023/09/Oct-2023-2.png
END:VEVENT
BEGIN:VEVENT
DTSTART;TZID=America/Halifax:20230927T173000
DTEND;TZID=America/Halifax:20230927T203000
DTSTAMP:20260424T222624
CREATED:20240308T001932Z
LAST-MODIFIED:20240308T001932Z
UID:5866-1695835800-1695846600@shapeshifterplus.org
SUMMARY:Workshops & Jam Sessions Hosted by Matt Garrison
DESCRIPTION:Sept 27 \nWorkshop 5:30pm – 6:15pm \nJam 6:30pm – 8:30pm \nWorkshops & Jam Sessions Hosted by Matt Garrison @ShapeShifterLab\nEvery Wednesday in September 2023 (September 6\, 13\, 20\, 27)\n\n\n5:30-6:15pm Workshop: Jam Session Ideas/Approaches\n\n\n\nMatt will discuss how the Jam Sessions he hosts can and will be approached.\nHe will discuss: Songs\, Forms\, Improvisation\, Dynamics\, Tempos\, Feel\, Genres\, Technique\, Emotional State and other important topics that will set the stage for the actual ShapeShifter Lab Jam Session.\nHe feels that doing so will give a strong basis for all jammers to get a sense of what’s possible.\nThe further idea of the workshop is trigger a conversation\, spark ideas and open the floor for clear dialogue about a possible set of Jam Session frameworks.\nAll Experience levels welcome!\n\n\n\n6:30-8:30pm Jam Session
URL:https://shapeshifterplus.org/event/mg-sept27/
LOCATION:ShapeShifter Lab\, 837 Union Street\, Ground Floor\, Brooklyn\, NY\, 11215\, United States
CATEGORIES:Education,Open Jam
ATTACH;FMTTYPE=image/png:https://shapeshifterplus.org/wp-content/uploads/2023/09/WED-JAM-with-MG.png
END:VEVENT
BEGIN:VEVENT
DTSTART;TZID=America/Halifax:20230906T173000
DTEND;TZID=America/Halifax:20230906T203000
DTSTAMP:20260424T222624
CREATED:20240308T002010Z
LAST-MODIFIED:20240308T002010Z
UID:5846-1694021400-1694032200@shapeshifterplus.org
SUMMARY:Wednesday  Workshops + Jam Sessions Hosted by Matt Garrison
DESCRIPTION:Sept 6 \nWorkshop 5:30pm – 6:15pm \nJam 6:30pm – 8:30pm \nWorkshops & Jam Sessions Hosted by Matt Garrison @ShapeShifterLab\nEvery Wednesday in September 2023 (September 6\, 13\, 20\, 27)\n\n\n5:30-6:15pm Workshop: Jam Session Ideas/Approaches\n\n\n\nMatt will discuss how the Jam Sessions he hosts can and will be approached.\nHe will discuss: Songs\, Forms\, Improvisation\, Dynamics\, Tempos\, Feel\, Genres\, Technique\, Emotional State and other important topics that will set the stage for the actual ShapeShifter Lab Jam Session.\nHe feels that doing so will give a strong basis for all jammers to get a sense of what’s possible.\nThe further idea of the workshop is trigger a conversation\, spark ideas and open the floor for clear dialogue about a possible set of Jam Session frameworks.\nAll Experience levels welcome!\n\n\n\n6:30-8:30pm Jam Session
URL:https://shapeshifterplus.org/event/mg-sept06/
LOCATION:ShapeShifter Lab\, 837 Union Street\, Ground Floor\, Brooklyn\, NY\, 11215\, United States
CATEGORIES:Education,Open Jam
ATTACH;FMTTYPE=image/png:https://shapeshifterplus.org/wp-content/uploads/2023/09/WED-JAM-with-MG.png
END:VEVENT
END:VCALENDAR