BEGIN:VCALENDAR
VERSION:2.0
PRODID:-//ShapeShifter Plus - ECPv6.15.20//NONSGML v1.0//EN
CALSCALE:GREGORIAN
METHOD:PUBLISH
X-WR-CALNAME:ShapeShifter Plus
X-ORIGINAL-URL:https://shapeshifterplus.org
X-WR-CALDESC:Events for ShapeShifter Plus
REFRESH-INTERVAL;VALUE=DURATION:PT1H
X-Robots-Tag:noindex
X-PUBLISHED-TTL:PT1H
BEGIN:VTIMEZONE
TZID:America/Halifax
BEGIN:DAYLIGHT
TZOFFSETFROM:-0400
TZOFFSETTO:-0300
TZNAME:ADT
DTSTART:20240310T060000
END:DAYLIGHT
BEGIN:STANDARD
TZOFFSETFROM:-0300
TZOFFSETTO:-0400
TZNAME:AST
DTSTART:20241103T050000
END:STANDARD
BEGIN:DAYLIGHT
TZOFFSETFROM:-0400
TZOFFSETTO:-0300
TZNAME:ADT
DTSTART:20250309T060000
END:DAYLIGHT
BEGIN:STANDARD
TZOFFSETFROM:-0300
TZOFFSETTO:-0400
TZNAME:AST
DTSTART:20251102T050000
END:STANDARD
BEGIN:DAYLIGHT
TZOFFSETFROM:-0400
TZOFFSETTO:-0300
TZNAME:ADT
DTSTART:20260308T060000
END:DAYLIGHT
BEGIN:STANDARD
TZOFFSETFROM:-0300
TZOFFSETTO:-0400
TZNAME:AST
DTSTART:20261101T050000
END:STANDARD
END:VTIMEZONE
BEGIN:VTIMEZONE
TZID:America/New_York
BEGIN:DAYLIGHT
TZOFFSETFROM:-0500
TZOFFSETTO:-0400
TZNAME:EDT
DTSTART:20240310T070000
END:DAYLIGHT
BEGIN:STANDARD
TZOFFSETFROM:-0400
TZOFFSETTO:-0500
TZNAME:EST
DTSTART:20241103T060000
END:STANDARD
BEGIN:DAYLIGHT
TZOFFSETFROM:-0500
TZOFFSETTO:-0400
TZNAME:EDT
DTSTART:20250309T070000
END:DAYLIGHT
BEGIN:STANDARD
TZOFFSETFROM:-0400
TZOFFSETTO:-0500
TZNAME:EST
DTSTART:20251102T060000
END:STANDARD
BEGIN:DAYLIGHT
TZOFFSETFROM:-0500
TZOFFSETTO:-0400
TZNAME:EDT
DTSTART:20260308T070000
END:DAYLIGHT
BEGIN:STANDARD
TZOFFSETFROM:-0400
TZOFFSETTO:-0500
TZNAME:EST
DTSTART:20261101T060000
END:STANDARD
BEGIN:DAYLIGHT
TZOFFSETFROM:-0500
TZOFFSETTO:-0400
TZNAME:EDT
DTSTART:20270314T070000
END:DAYLIGHT
BEGIN:STANDARD
TZOFFSETFROM:-0400
TZOFFSETTO:-0500
TZNAME:EST
DTSTART:20271107T060000
END:STANDARD
END:VTIMEZONE
BEGIN:VEVENT
DTSTART;TZID=America/Halifax:20250223T110000
DTEND;TZID=America/Halifax:20250223T170000
DTSTAMP:20260424T234322
CREATED:20250214T211110Z
LAST-MODIFIED:20250415T132632Z
UID:44112-1740308400-1740330000@shapeshifterplus.org
SUMMARY:The Fat Cats Youth Orchestra Open Workshop and Rehearsals
DESCRIPTION:The Fat Cats Youth Orchestra Open Workshop and Rehearsals Weekly at ShapeShifter\n  \nSparkling with the sound of young talent\, The Fat Cats is a pre-professional youth orchestra. The group is composed of one big band and two small ensembles that perform Latin jazz and standard jazz pieces and showcase the finest young talent from across all NYC boroughs. \nFounded in 2010 by Arturo O’Farril and managed by the Afro Latin Jazz Alliance\,  The Fat Cats is led by Zack O’Farrill with Afro Latin Jazz Orchestra members Jim Seeley\, Berta Moreno\, and Jasim Perales\, as well as Arthur Alvarez and Adam Baksh-García. \nOver the years\, The Fat Cats have taken the stage at New York venues such as the Brooklyn Museum\, New York Library for the Performing Arts at Lincoln Center\, the Frick Collection\, the Greene Space at WNYC\, BRIC House\, Birdland and Brooklyn’s Shapeshifter Lab who has welcomed the band for weekly rehearsals since their 2023-2024 season.
URL:https://shapeshifterplus.org/event/fat-cats-youth-orchestra-open-workshop-and-rehearsals-fall2024-2/
LOCATION:ShapeShifter Lab 2nd Floor\, 837 Union Street\, 2nd Foor\, Brooklyn\, NY\, 11215\, United States
CATEGORIES:Education,Live Music
ATTACH;FMTTYPE=image/png:https://shapeshifterplus.org/wp-content/uploads/2023/11/Screenshot-2023-11-03-at-12.59.08-PM.png
END:VEVENT
BEGIN:VEVENT
DTSTART;TZID=America/New_York:20250510T090000
DTEND;TZID=America/New_York:20250510T170000
DTSTAMP:20260424T234322
CREATED:20250418T200514Z
LAST-MODIFIED:20250418T200612Z
UID:45186-1746867600-1746896400@shapeshifterplus.org
SUMMARY:Tumble Live: Sonic Saturday!
DESCRIPTION:Come join us for Tumble NSF Stem Day\, a fun-filled event celebrating all things science\, technology\, engineering\, and math! \n\n\n\n\nGet ready to make some noise at Tumble Live: Sonic Saturday—a FREE\, live science celebration for curious kids and their grownups! Hosted by Lindsay and Marshall from Tumble Science Podcast for Kids\, this high-energy event blends science storytelling\, games\, and music for an unforgettable day of discovery. With special guest Dan Saks from Noodle Loaf joining them on stage\, Lindsay and Marshall will take you on a sonic science journey you won’t soon forget! \nCome early and stay late for a meet and greet featuring hands-on science activities led by the folks at Tiny Scientist and accessible technology demonstrations from Indepdendence Science!  \nRSVP here to be added to the event list. RSVPs do not guarantee entry! \n\n\n\n\n\n\n\n\nAll Ages\n\n\n\n\n\n9:30 AM – 10:00 AM\nDoors Open – Morning Show\n\n\n10:30 AM – 11:15 AM\nMorning Show Performance Begins!\n\n\n11:15 AM – 1:00 PM\nMeet & Greet and Hands-on Activities\n\n\n1:00 PM – 2:00 PM\nDoors Close\n\n\n2:00 PM – 2:30 PM\nDoors Open – Afternoon Show\n\n\n2:30 PM – 3:15 PM\nAfternoon Show\n\n\n\n\nTICKETS
URL:https://shapeshifterplus.org/event/tumble-live-sonic-saturday/
LOCATION:ShapeShifter Lab\, 837 Union Street\, Ground Floor\, Brooklyn\, NY\, 11215\, United States
CATEGORIES:Collaboration Programs,Education
ATTACH;FMTTYPE=image/avif:https://shapeshifterplus.org/wp-content/uploads/2025/04/https-cdn.evbuc_.com-images-1006202123-1605847683223-1-original.20250410-200316.avif
END:VEVENT
BEGIN:VEVENT
DTSTART;TZID=America/Halifax:20250223T110000
DTEND;TZID=America/Halifax:20250223T170000
DTSTAMP:20260424T234322
CREATED:20250214T211110Z
LAST-MODIFIED:20250415T132632Z
UID:44112-1740308400-1740330000@shapeshifterplus.org
SUMMARY:The Fat Cats Youth Orchestra Open Workshop and Rehearsals
DESCRIPTION:The Fat Cats Youth Orchestra Open Workshop and Rehearsals Weekly at ShapeShifter\n  \nSparkling with the sound of young talent\, The Fat Cats is a pre-professional youth orchestra. The group is composed of one big band and two small ensembles that perform Latin jazz and standard jazz pieces and showcase the finest young talent from across all NYC boroughs. \nFounded in 2010 by Arturo O’Farril and managed by the Afro Latin Jazz Alliance\,  The Fat Cats is led by Zack O’Farrill with Afro Latin Jazz Orchestra members Jim Seeley\, Berta Moreno\, and Jasim Perales\, as well as Arthur Alvarez and Adam Baksh-García. \nOver the years\, The Fat Cats have taken the stage at New York venues such as the Brooklyn Museum\, New York Library for the Performing Arts at Lincoln Center\, the Frick Collection\, the Greene Space at WNYC\, BRIC House\, Birdland and Brooklyn’s Shapeshifter Lab who has welcomed the band for weekly rehearsals since their 2023-2024 season.
URL:https://shapeshifterplus.org/event/fat-cats-youth-orchestra-open-workshop-and-rehearsals-fall2024-2/
LOCATION:ShapeShifter Lab 2nd Floor\, 837 Union Street\, 2nd Foor\, Brooklyn\, NY\, 11215\, United States
CATEGORIES:Education,Live Music
ATTACH;FMTTYPE=image/png:https://shapeshifterplus.org/wp-content/uploads/2023/11/Screenshot-2023-11-03-at-12.59.08-PM.png
END:VEVENT
BEGIN:VEVENT
DTSTART;TZID=America/Halifax:20250223T110000
DTEND;TZID=America/Halifax:20250223T170000
DTSTAMP:20260424T234322
CREATED:20250214T211110Z
LAST-MODIFIED:20250415T132632Z
UID:44112-1740308400-1740330000@shapeshifterplus.org
SUMMARY:The Fat Cats Youth Orchestra Open Workshop and Rehearsals
DESCRIPTION:The Fat Cats Youth Orchestra Open Workshop and Rehearsals Weekly at ShapeShifter\n  \nSparkling with the sound of young talent\, The Fat Cats is a pre-professional youth orchestra. The group is composed of one big band and two small ensembles that perform Latin jazz and standard jazz pieces and showcase the finest young talent from across all NYC boroughs. \nFounded in 2010 by Arturo O’Farril and managed by the Afro Latin Jazz Alliance\,  The Fat Cats is led by Zack O’Farrill with Afro Latin Jazz Orchestra members Jim Seeley\, Berta Moreno\, and Jasim Perales\, as well as Arthur Alvarez and Adam Baksh-García. \nOver the years\, The Fat Cats have taken the stage at New York venues such as the Brooklyn Museum\, New York Library for the Performing Arts at Lincoln Center\, the Frick Collection\, the Greene Space at WNYC\, BRIC House\, Birdland and Brooklyn’s Shapeshifter Lab who has welcomed the band for weekly rehearsals since their 2023-2024 season.
URL:https://shapeshifterplus.org/event/fat-cats-youth-orchestra-open-workshop-and-rehearsals-fall2024-2/
LOCATION:ShapeShifter Lab 2nd Floor\, 837 Union Street\, 2nd Foor\, Brooklyn\, NY\, 11215\, United States
CATEGORIES:Education,Live Music
ATTACH;FMTTYPE=image/png:https://shapeshifterplus.org/wp-content/uploads/2023/11/Screenshot-2023-11-03-at-12.59.08-PM.png
END:VEVENT
BEGIN:VEVENT
DTSTART;TZID=America/Halifax:20250223T110000
DTEND;TZID=America/Halifax:20250223T170000
DTSTAMP:20260424T234322
CREATED:20250214T211110Z
LAST-MODIFIED:20250415T132632Z
UID:44112-1740308400-1740330000@shapeshifterplus.org
SUMMARY:The Fat Cats Youth Orchestra Open Workshop and Rehearsals
DESCRIPTION:The Fat Cats Youth Orchestra Open Workshop and Rehearsals Weekly at ShapeShifter\n  \nSparkling with the sound of young talent\, The Fat Cats is a pre-professional youth orchestra. The group is composed of one big band and two small ensembles that perform Latin jazz and standard jazz pieces and showcase the finest young talent from across all NYC boroughs. \nFounded in 2010 by Arturo O’Farril and managed by the Afro Latin Jazz Alliance\,  The Fat Cats is led by Zack O’Farrill with Afro Latin Jazz Orchestra members Jim Seeley\, Berta Moreno\, and Jasim Perales\, as well as Arthur Alvarez and Adam Baksh-García. \nOver the years\, The Fat Cats have taken the stage at New York venues such as the Brooklyn Museum\, New York Library for the Performing Arts at Lincoln Center\, the Frick Collection\, the Greene Space at WNYC\, BRIC House\, Birdland and Brooklyn’s Shapeshifter Lab who has welcomed the band for weekly rehearsals since their 2023-2024 season.
URL:https://shapeshifterplus.org/event/fat-cats-youth-orchestra-open-workshop-and-rehearsals-fall2024-2/
LOCATION:ShapeShifter Lab 2nd Floor\, 837 Union Street\, 2nd Foor\, Brooklyn\, NY\, 11215\, United States
CATEGORIES:Education,Live Music
ATTACH;FMTTYPE=image/png:https://shapeshifterplus.org/wp-content/uploads/2023/11/Screenshot-2023-11-03-at-12.59.08-PM.png
END:VEVENT
BEGIN:VEVENT
DTSTART;TZID=America/Halifax:20250223T110000
DTEND;TZID=America/Halifax:20250223T170000
DTSTAMP:20260424T234322
CREATED:20250214T211110Z
LAST-MODIFIED:20250415T132632Z
UID:44112-1740308400-1740330000@shapeshifterplus.org
SUMMARY:The Fat Cats Youth Orchestra Open Workshop and Rehearsals
DESCRIPTION:The Fat Cats Youth Orchestra Open Workshop and Rehearsals Weekly at ShapeShifter\n  \nSparkling with the sound of young talent\, The Fat Cats is a pre-professional youth orchestra. The group is composed of one big band and two small ensembles that perform Latin jazz and standard jazz pieces and showcase the finest young talent from across all NYC boroughs. \nFounded in 2010 by Arturo O’Farril and managed by the Afro Latin Jazz Alliance\,  The Fat Cats is led by Zack O’Farrill with Afro Latin Jazz Orchestra members Jim Seeley\, Berta Moreno\, and Jasim Perales\, as well as Arthur Alvarez and Adam Baksh-García. \nOver the years\, The Fat Cats have taken the stage at New York venues such as the Brooklyn Museum\, New York Library for the Performing Arts at Lincoln Center\, the Frick Collection\, the Greene Space at WNYC\, BRIC House\, Birdland and Brooklyn’s Shapeshifter Lab who has welcomed the band for weekly rehearsals since their 2023-2024 season.
URL:https://shapeshifterplus.org/event/fat-cats-youth-orchestra-open-workshop-and-rehearsals-fall2024-2/
LOCATION:ShapeShifter Lab 2nd Floor\, 837 Union Street\, 2nd Foor\, Brooklyn\, NY\, 11215\, United States
CATEGORIES:Education,Live Music
ATTACH;FMTTYPE=image/png:https://shapeshifterplus.org/wp-content/uploads/2023/11/Screenshot-2023-11-03-at-12.59.08-PM.png
END:VEVENT
BEGIN:VEVENT
DTSTART;TZID=America/New_York:20250607T100000
DTEND;TZID=America/New_York:20250607T130000
DTSTAMP:20260424T234322
CREATED:20250601T011607Z
LAST-MODIFIED:20250607T055409Z
UID:45576-1749290400-1749301200@shapeshifterplus.org
SUMMARY:Allora Open Day!
DESCRIPTION:Class Experience\n  \nJoin our Open Day\, explore our Park Slope location on two levels\, and get to know our staff and other families in the area. \nMake pasta from scratch\, arts and crafts\,  enjoy our playroom\, read some books\, be part of a new community of learners! \nRSVP \n  \nSample Class Format\n\n10:00 AM – Welcome & Chef Hat Decorating: Join us downstairs for a warm welcome! Children will kick off the day by decorating their own chef hats. Families will then be divided into two groups to begin the day’s activities.\n\n\n10:30 AM – Activity Session 1\nGroup A (Upstairs): Pasta Lab – Kids will learn how to make fresh pasta from scratch and shape it into cavatelli.\nGroup B (Downstairs): Arts & Crafts Lab – A creative session where children can enjoy hands-on crafting fun.\n\n\n11:30 AM – Activity Session 2 Time to switch!\nGroup A (Downstairs): Arts & Crafts Lab\nGroup B (Upstairs): Pasta Lab\n\n\n12:30 PM – Pasta Tasting We’ll all come together downstairs to enjoy a delicious sample of freshly made cavatelli served with butter and parmesan.\n\n\n1:00 PM – Goodbyes We’ll wrap up the day with goodbyes and big smiles!\n\nRegister HERE!
URL:https://shapeshifterplus.org/event/allora-open-day/
LOCATION:ShapeShifter Lab\, 837 Union Street\, Ground Floor\, Brooklyn\, NY\, 11215\, United States
CATEGORIES:Education,Kids Class
ATTACH;FMTTYPE=image/webp:https://shapeshifterplus.org/wp-content/uploads/2025/05/White-and-Purple-Modern-Preschool-Enrollment-Flyer-Instagram-Post-45.webp
END:VEVENT
BEGIN:VEVENT
DTSTART;TZID=America/Halifax:20250223T110000
DTEND;TZID=America/Halifax:20250223T170000
DTSTAMP:20260424T234322
CREATED:20250214T211110Z
LAST-MODIFIED:20250415T132632Z
UID:44112-1740308400-1740330000@shapeshifterplus.org
SUMMARY:The Fat Cats Youth Orchestra Open Workshop and Rehearsals
DESCRIPTION:The Fat Cats Youth Orchestra Open Workshop and Rehearsals Weekly at ShapeShifter\n  \nSparkling with the sound of young talent\, The Fat Cats is a pre-professional youth orchestra. The group is composed of one big band and two small ensembles that perform Latin jazz and standard jazz pieces and showcase the finest young talent from across all NYC boroughs. \nFounded in 2010 by Arturo O’Farril and managed by the Afro Latin Jazz Alliance\,  The Fat Cats is led by Zack O’Farrill with Afro Latin Jazz Orchestra members Jim Seeley\, Berta Moreno\, and Jasim Perales\, as well as Arthur Alvarez and Adam Baksh-García. \nOver the years\, The Fat Cats have taken the stage at New York venues such as the Brooklyn Museum\, New York Library for the Performing Arts at Lincoln Center\, the Frick Collection\, the Greene Space at WNYC\, BRIC House\, Birdland and Brooklyn’s Shapeshifter Lab who has welcomed the band for weekly rehearsals since their 2023-2024 season.
URL:https://shapeshifterplus.org/event/fat-cats-youth-orchestra-open-workshop-and-rehearsals-fall2024-2/
LOCATION:ShapeShifter Lab 2nd Floor\, 837 Union Street\, 2nd Foor\, Brooklyn\, NY\, 11215\, United States
CATEGORIES:Education,Live Music
ATTACH;FMTTYPE=image/png:https://shapeshifterplus.org/wp-content/uploads/2023/11/Screenshot-2023-11-03-at-12.59.08-PM.png
END:VEVENT
BEGIN:VEVENT
DTSTART;TZID=America/Halifax:20250615T110000
DTEND;TZID=America/Halifax:20250615T170000
DTSTAMP:20260424T234322
CREATED:20250612T024854Z
LAST-MODIFIED:20250612T024855Z
UID:45621-1749985200-1750006800@shapeshifterplus.org
SUMMARY:The Fat Cats Youth Orchestra Open Workshop and Rehearsals
DESCRIPTION:The Fat Cats Youth Orchestra Open Workshop and Rehearsals Weekly at ShapeShifter\n  \nSparkling with the sound of young talent\, The Fat Cats is a pre-professional youth orchestra. The group is composed of one big band and two small ensembles that perform Latin jazz and standard jazz pieces and showcase the finest young talent from across all NYC boroughs. \nFounded in 2010 by Arturo O’Farril and managed by the Afro Latin Jazz Alliance\,  The Fat Cats is led by Zack O’Farrill with Afro Latin Jazz Orchestra members Jim Seeley\, Berta Moreno\, and Jasim Perales\, as well as Arthur Alvarez and Adam Baksh-García. \nOver the years\, The Fat Cats have taken the stage at New York venues such as the Brooklyn Museum\, New York Library for the Performing Arts at Lincoln Center\, the Frick Collection\, the Greene Space at WNYC\, BRIC House\, Birdland and Brooklyn’s Shapeshifter Lab who has welcomed the band for weekly rehearsals since their 2023-2024 season.
URL:https://shapeshifterplus.org/event/fat-cats-youth-orchestra-open-workshop-and-rehearsals-fall2024-2-2/
LOCATION:ShapeShifter Lab 2nd Floor\, 837 Union Street\, 2nd Foor\, Brooklyn\, NY\, 11215\, United States
CATEGORIES:Education,Live Music
ATTACH;FMTTYPE=image/png:https://shapeshifterplus.org/wp-content/uploads/2023/11/Screenshot-2023-11-03-at-12.59.08-PM.png
END:VEVENT
BEGIN:VEVENT
DTSTART;TZID=America/New_York:20250926T183000
DTEND;TZID=America/New_York:20250926T200000
DTSTAMP:20260424T234322
CREATED:20250917T074643Z
LAST-MODIFIED:20250917T075126Z
UID:46132-1758911400-1758916800@shapeshifterplus.org
SUMMARY:Alumni Fellows Performance
DESCRIPTION:A night of original music created and performed by Aadi McKain and Thea King\, Willie Mae Rock Camp’s alumni fellows!\n\n\nJoin us for an unforgettable night of original music created and performed by Aadi McKain and Thea King\, Willie Mae Rock Camp’s alumni fellows. This final showcase celebrates the culmination of their artistic journey\, featuring bold\, fresh sounds that reflect their unique voices and visions. Come support emerging talent and experience the power of music made by the next generation of changemakers! \nThis event is free but we encourage everyone to RSVP! \n  \nDoors: 6:30pm\nEvent: 7:00pm
URL:https://shapeshifterplus.org/event/alumni-fellows-performance/
LOCATION:ShapeShifter Lab\, 837 Union Street\, Ground Floor\, Brooklyn\, NY\, 11215\, United States
CATEGORIES:Collaboration Programs,Education
ATTACH;FMTTYPE=image/png:https://shapeshifterplus.org/wp-content/uploads/2025/09/Screenshot-2025-09-17-at-3.50.49-AM.png
END:VEVENT
BEGIN:VEVENT
DTSTART;TZID=America/New_York:20260111T160000
DTEND;TZID=America/New_York:20260111T170000
DTSTAMP:20260424T234322
CREATED:20251215T080246Z
LAST-MODIFIED:20251215T081412Z
UID:46615-1768147200-1768150800@shapeshifterplus.org
SUMMARY:The Big Niko & GiGi Puppet Singalong
DESCRIPTION:Family-friendly musical experience from Brooklyn’s children’s music school NikosKids. Live music + puppetry for young children + families.\n\n\nThe Big Niko & GiGi Puppet Singalong is the creation of musician Nikolai Moderbacher. The performance blends live music and interactive puppetry\, designed for children ages 0–4 and their families.\nThe program explores emotional development and themes of growing up through playful\, age-appropriate songs and stories. GiGi\, a beloved puppet character\, co-leads the singalong alongside live musicians.\nLineup:\n\nNikolai Moderbacher – Vocals\, Guitar\nDerek Nievergelt – Electric bass\nAlexander Klimovitsky – Electric guitar\nEvan Pazner – Drums\nLute Breuer – Vocals
URL:https://shapeshifterplus.org/event/the-big-niko-gigi-puppet-singalong/
LOCATION:ShapeShifter Lab\, 837 Union Street\, Ground Floor\, Brooklyn\, NY\, 11215\, United States
CATEGORIES:Education,Kids Concert,Live Music
ATTACH;FMTTYPE=image/png:https://shapeshifterplus.org/wp-content/uploads/2025/12/Screenshot-2025-12-15-at-2.41.27-AM.png
END:VEVENT
END:VCALENDAR