BEGIN:VCALENDAR
VERSION:2.0
PRODID:-//ShapeShifter Plus - ECPv6.15.20//NONSGML v1.0//EN
CALSCALE:GREGORIAN
METHOD:PUBLISH
X-WR-CALNAME:ShapeShifter Plus
X-ORIGINAL-URL:https://shapeshifterplus.org
X-WR-CALDESC:Events for ShapeShifter Plus
REFRESH-INTERVAL;VALUE=DURATION:PT1H
X-Robots-Tag:noindex
X-PUBLISHED-TTL:PT1H
BEGIN:VTIMEZONE
TZID:America/Halifax
BEGIN:DAYLIGHT
TZOFFSETFROM:-0400
TZOFFSETTO:-0300
TZNAME:ADT
DTSTART:20230312T060000
END:DAYLIGHT
BEGIN:STANDARD
TZOFFSETFROM:-0300
TZOFFSETTO:-0400
TZNAME:AST
DTSTART:20231105T050000
END:STANDARD
BEGIN:DAYLIGHT
TZOFFSETFROM:-0400
TZOFFSETTO:-0300
TZNAME:ADT
DTSTART:20240310T060000
END:DAYLIGHT
BEGIN:STANDARD
TZOFFSETFROM:-0300
TZOFFSETTO:-0400
TZNAME:AST
DTSTART:20241103T050000
END:STANDARD
BEGIN:DAYLIGHT
TZOFFSETFROM:-0400
TZOFFSETTO:-0300
TZNAME:ADT
DTSTART:20250309T060000
END:DAYLIGHT
BEGIN:STANDARD
TZOFFSETFROM:-0300
TZOFFSETTO:-0400
TZNAME:AST
DTSTART:20251102T050000
END:STANDARD
END:VTIMEZONE
BEGIN:VEVENT
DTSTART;TZID=America/Halifax:20241116T093000
DTEND;TZID=America/Halifax:20241116T103000
DTSTAMP:20260424T195421
CREATED:20241116T022435Z
LAST-MODIFIED:20241116T022447Z
UID:42447-1731749400-1731753000@shapeshifterplus.org
SUMMARY:CAPOEIRA
DESCRIPTION:CAPOEIRA\nTaught by Curu\n\nSATURDAYS 9:30-10:30am \nAGES 4-7 \n\n$35\n\nPay Online or Pay In Person!\n\nThe esteemed Contramestre Curu began his Capoeira training in Brasília\, Brazil’s capital\, at the young age of 11. In this fun-filled class children will learn every aspect of the dynamic Brazilian martial art!\n\nThey will be introduced to traditional Brazilian instruments\, sing Portuguese songs\, delve into the history\, and learn to move expressively and harmoniously to the rhythm!\n\nPartner activities enhance trust\, encourage cooperation\, create a distinctive sense of community\, and promote dynamic interactions among peers. Curu’s Capoeira class celebrates the joy of collective effort and cultural expression!\n\nClass Length: 60 min.\nLevel: Beginner\n 
URL:https://shapeshifterplus.org/event/capoeira-4-2/
LOCATION:ShapeShifter Lab 2nd Floor\, 837 Union Street\, 2nd Foor\, Brooklyn\, NY\, 11215\, United States
CATEGORIES:Education,Kids Class,Movement Arts Program MAP
ATTACH;FMTTYPE=image/png:https://shapeshifterplus.org/wp-content/uploads/2024/09/CURU-FLIER-FINAL-2024.png
END:VEVENT
BEGIN:VEVENT
DTSTART;TZID=America/Halifax:20241109T103000
DTEND;TZID=America/Halifax:20241109T113000
DTSTAMP:20260424T195421
CREATED:20241103T235214Z
LAST-MODIFIED:20241103T235214Z
UID:42065-1731148200-1731151800@shapeshifterplus.org
SUMMARY:CAPOEIRA-2
DESCRIPTION:CAPOEIRA\nTaught by Curu\n\n\n\nSATURDAYS 10:30-11:30am \nAges 8-16\n\n$35\n\nPay Online or Pay In Person!\n\nThe esteemed Contramestre Curu began his Capoeira training in Brasília\, Brazil’s capital\, at the young age of 11. In this fun-filled class students will learn every aspect of the dynamic Brazilian martial art!\n\nThey will be introduced to traditional Brazilian instruments\, sing Portuguese songs\, delve into the history\, and learn to move expressively and harmoniously to the rhythm!\n\nPartner activities enhance trust\, encourage cooperation\, create a distinctive sense of community\, and promote dynamic interactions among peers. Curu’s Capoeira class celebrates the joy of collective effort and cultural expression!\n\nClass Length: 60 min.\nLevel: Mixed
URL:https://shapeshifterplus.org/event/capoeira-2-2/
LOCATION:ShapeShifter Lab 2nd Floor\, 837 Union Street\, 2nd Foor\, Brooklyn\, NY\, 11215\, United States
CATEGORIES:Education,Kids Class,Movement Arts Program MAP
ATTACH;FMTTYPE=image/png:https://shapeshifterplus.org/wp-content/uploads/2024/09/CURU-FLIER-FINAL-2024.png
END:VEVENT
BEGIN:VEVENT
DTSTART;TZID=America/Halifax:20241116T150000
DTEND;TZID=America/Halifax:20241116T170000
DTSTAMP:20260424T195421
CREATED:20241029T144813Z
LAST-MODIFIED:20241113T152618Z
UID:41836-1731769200-1731776400@shapeshifterplus.org
SUMMARY:FALL WITH STYLE-INVERSIONS & BACKBENDS
DESCRIPTION:FALL WITH STYLE-INVERSIONS & BACKBENDS\n\nSATURDAY NOV 16\, 2024\n3-5 PM\n$50\n\nEngage with Lara on the mat for another captivating workshop! Have you ever aspired to master the art of “dropping back”? Fall with Style – Inversions and Backbends focuses on gaining control and mastery over the spine. You will work on strengthening your arms\, opening the shoulders and hips\, and developing coordination to facilitate elegant and controlled movements.\n\nAge Group: Adult\nClass Length: 2hrs\nLevel: Open\n\nPlease Note:\n\nDoors open 15 min before class.\nWear comfy\, easy to move in clothing.\nBring your own mat\, optional.\nBe prepared to remove shoes when entering studio.
URL:https://shapeshifterplus.org/event/iyengar-workshop-lara-warren-3/
LOCATION:ShapeShifter Lab\, 837 Union Street\, Ground Floor\, Brooklyn\, NY\, 11215\, United States
CATEGORIES:Education,Movement Arts Program MAP
ATTACH;FMTTYPE=image/png:https://shapeshifterplus.org/wp-content/uploads/2024/10/IMMERSIVE-WORKSHOPS-REVISED.png
END:VEVENT
END:VCALENDAR