BEGIN:VCALENDAR
VERSION:2.0
PRODID:-//ShapeShifter Plus - ECPv6.15.20//NONSGML v1.0//EN
CALSCALE:GREGORIAN
METHOD:PUBLISH
X-WR-CALNAME:ShapeShifter Plus
X-ORIGINAL-URL:https://shapeshifterplus.org
X-WR-CALDESC:Events for ShapeShifter Plus
REFRESH-INTERVAL;VALUE=DURATION:PT1H
X-Robots-Tag:noindex
X-PUBLISHED-TTL:PT1H
BEGIN:VTIMEZONE
TZID:America/Halifax
BEGIN:DAYLIGHT
TZOFFSETFROM:-0400
TZOFFSETTO:-0300
TZNAME:ADT
DTSTART:20230312T060000
END:DAYLIGHT
BEGIN:STANDARD
TZOFFSETFROM:-0300
TZOFFSETTO:-0400
TZNAME:AST
DTSTART:20231105T050000
END:STANDARD
BEGIN:DAYLIGHT
TZOFFSETFROM:-0400
TZOFFSETTO:-0300
TZNAME:ADT
DTSTART:20240310T060000
END:DAYLIGHT
BEGIN:STANDARD
TZOFFSETFROM:-0300
TZOFFSETTO:-0400
TZNAME:AST
DTSTART:20241103T050000
END:STANDARD
BEGIN:DAYLIGHT
TZOFFSETFROM:-0400
TZOFFSETTO:-0300
TZNAME:ADT
DTSTART:20250309T060000
END:DAYLIGHT
BEGIN:STANDARD
TZOFFSETFROM:-0300
TZOFFSETTO:-0400
TZNAME:AST
DTSTART:20251102T050000
END:STANDARD
END:VTIMEZONE
BEGIN:VEVENT
DTSTART;TZID=America/Halifax:20240927T180000
DTEND;TZID=America/Halifax:20240927T191500
DTSTAMP:20260424T223208
CREATED:20240924T211105Z
LAST-MODIFIED:20240924T211544Z
UID:17372-1727460000-1727464500@shapeshifterplus.org
SUMMARY:Yin Yoga Workshop by Tiffany Ratliff
DESCRIPTION:In this season of transition\, find some nourishment for yourself in an evening focused on connecting deeply with your body through the meditative practice of Yin yoga. Concentrating on the deeper tissues of the body\, we will spend our time together holding various poses for lengthened periods of time\, using our breath as the mind’s anchor. Through this process we are able to release stagnant energy held in the tissues and create space for the places we tend to overlook. The class will open with a short meditation and close with an invitation to receive healing and restorative touch. \n 
URL:https://shapeshifterplus.org/event/yin-yoga-tiffany-ratliff-sept-24/
LOCATION:ShapeShifter Lab\, 837 Union Street\, Ground Floor\, Brooklyn\, NY\, 11215\, United States
CATEGORIES:Movement Arts Program MAP
END:VEVENT
END:VCALENDAR