BEGIN:VCALENDAR
VERSION:2.0
PRODID:-//ShapeShifter Plus - ECPv6.15.20//NONSGML v1.0//EN
CALSCALE:GREGORIAN
METHOD:PUBLISH
X-ORIGINAL-URL:https://shapeshifterplus.org
X-WR-CALDESC:Events for ShapeShifter Plus
REFRESH-INTERVAL;VALUE=DURATION:PT1H
X-Robots-Tag:noindex
X-PUBLISHED-TTL:PT1H
BEGIN:VTIMEZONE
TZID:America/Halifax
BEGIN:DAYLIGHT
TZOFFSETFROM:-0400
TZOFFSETTO:-0300
TZNAME:ADT
DTSTART:20230312T060000
END:DAYLIGHT
BEGIN:STANDARD
TZOFFSETFROM:-0300
TZOFFSETTO:-0400
TZNAME:AST
DTSTART:20231105T050000
END:STANDARD
BEGIN:DAYLIGHT
TZOFFSETFROM:-0400
TZOFFSETTO:-0300
TZNAME:ADT
DTSTART:20240310T060000
END:DAYLIGHT
BEGIN:STANDARD
TZOFFSETFROM:-0300
TZOFFSETTO:-0400
TZNAME:AST
DTSTART:20241103T050000
END:STANDARD
BEGIN:DAYLIGHT
TZOFFSETFROM:-0400
TZOFFSETTO:-0300
TZNAME:ADT
DTSTART:20250309T060000
END:DAYLIGHT
BEGIN:STANDARD
TZOFFSETFROM:-0300
TZOFFSETTO:-0400
TZNAME:AST
DTSTART:20251102T050000
END:STANDARD
END:VTIMEZONE
BEGIN:VEVENT
DTSTART;TZID=America/Halifax:20240824T150000
DTEND;TZID=America/Halifax:20240824T170000
DTSTAMP:20260424T233456
CREATED:20240809T214447Z
LAST-MODIFIED:20240812T234636Z
UID:16119-1724511600-1724518800@shapeshifterplus.org
SUMMARY:Movement Arts Program: STRAIGHTEN UP & FLY RIGHT
DESCRIPTION:Straighten Up & Fly Right \nSaturday August 24th\, 3-5 PM \nCost: $50 \n  \nDynamic and highly sought after instructor Lara Warren\, invites you to explore new depths in this immersive session! Straighten Up & Fly Right is designed to deepen your practice and offer new insights\, whether you’re a seasoned practitioner or new to Iyengar Yoga. \nNo matter if it’s been weeks or years\, this workshop facilitates a smooth transition back into practice. Lara’s comprehensive session includes supine\, standing\, inverted\, forward-bending\, and restorative postures. \nJoin Lara on the mat in our sprawling 2nd fl. studio\, for a courageous and inspirational journey of growth and renewal! \n  \nAge Group: Adult \nWorkshop Length: 2hrs \nLevel: Mixed \n  \nPlease Note: \n\nDoors open 15 min before class.\nWear comfy\, easy to move in clothing.\nChanging space is limited.\nBring your own mat\, optional.\nBe prepared to remove shoes when entering studio.\n\n  \nThank you! 🙂
URL:https://shapeshifterplus.org/event/mcg-map-5/
LOCATION:ShapeShifter Lab\, 837 Union Street\, Ground Floor\, Brooklyn\, NY\, 11215\, United States
CATEGORIES:Education,Movement Arts Program MAP
ATTACH;FMTTYPE=image/png:https://shapeshifterplus.org/wp-content/uploads/2024/08/LARA-WARREN-WORKSHOP-SERIES-FLIER-2024.png
END:VEVENT
END:VCALENDAR