BEGIN:VCALENDAR
VERSION:2.0
PRODID:-//ShapeShifter Plus - ECPv6.15.20//NONSGML v1.0//EN
CALSCALE:GREGORIAN
METHOD:PUBLISH
X-ORIGINAL-URL:https://shapeshifterplus.org
X-WR-CALDESC:Events for ShapeShifter Plus
REFRESH-INTERVAL;VALUE=DURATION:PT1H
X-Robots-Tag:noindex
X-PUBLISHED-TTL:PT1H
BEGIN:VTIMEZONE
TZID:America/Halifax
BEGIN:DAYLIGHT
TZOFFSETFROM:-0400
TZOFFSETTO:-0300
TZNAME:ADT
DTSTART:20230312T060000
END:DAYLIGHT
BEGIN:STANDARD
TZOFFSETFROM:-0300
TZOFFSETTO:-0400
TZNAME:AST
DTSTART:20231105T050000
END:STANDARD
BEGIN:DAYLIGHT
TZOFFSETFROM:-0400
TZOFFSETTO:-0300
TZNAME:ADT
DTSTART:20240310T060000
END:DAYLIGHT
BEGIN:STANDARD
TZOFFSETFROM:-0300
TZOFFSETTO:-0400
TZNAME:AST
DTSTART:20241103T050000
END:STANDARD
BEGIN:DAYLIGHT
TZOFFSETFROM:-0400
TZOFFSETTO:-0300
TZNAME:ADT
DTSTART:20250309T060000
END:DAYLIGHT
BEGIN:STANDARD
TZOFFSETFROM:-0300
TZOFFSETTO:-0400
TZNAME:AST
DTSTART:20251102T050000
END:STANDARD
END:VTIMEZONE
BEGIN:VEVENT
DTSTART;TZID=America/Halifax:20240214T193000
DTEND;TZID=America/Halifax:20240214T223000
DTSTAMP:20260422T102838
CREATED:20240125T011926Z
LAST-MODIFIED:20240202T064416Z
UID:11137-1707939000-1707949800@shapeshifterplus.org
SUMMARY:LOVE AIN’T DEAD?
DESCRIPTION:Doors 7 pm. Show at 7:30. \n  \nJoin us for a night of Comedy and Music. Paper Anniversary\, led by Katherine Slingluff and Andy Stuckey\, bring their 3rd annual Valentines Day celebration to Shape Shifter.  Expect a few comedians before the band gets on stage to share some original songs and a few covers. \nPaper Anniversary band will feature Cole Rotante on dobro\, Diane Stockwell on fiddle and Sam Dallas on bass.
URL:https://shapeshifterplus.org/event/love-aint-dead-feb-14/
LOCATION:ShapeShifter Lab\, 837 Union Street\, Ground Floor\, Brooklyn\, NY\, 11215\, United States
CATEGORIES:Comedy
ATTACH;FMTTYPE=image/jpeg:https://shapeshifterplus.org/wp-content/uploads/2024/01/image-scaled.jpeg
END:VEVENT
END:VCALENDAR