BEGIN:VCALENDAR
VERSION:2.0
PRODID:-//ShapeShifter Plus - ECPv6.15.20//NONSGML v1.0//EN
CALSCALE:GREGORIAN
METHOD:PUBLISH
X-ORIGINAL-URL:https://shapeshifterplus.org
X-WR-CALDESC:Events for ShapeShifter Plus
REFRESH-INTERVAL;VALUE=DURATION:PT1H
X-Robots-Tag:noindex
X-PUBLISHED-TTL:PT1H
BEGIN:VTIMEZONE
TZID:America/New_York
BEGIN:DAYLIGHT
TZOFFSETFROM:-0500
TZOFFSETTO:-0400
TZNAME:EDT
DTSTART:20250309T070000
END:DAYLIGHT
BEGIN:STANDARD
TZOFFSETFROM:-0400
TZOFFSETTO:-0500
TZNAME:EST
DTSTART:20251102T060000
END:STANDARD
BEGIN:DAYLIGHT
TZOFFSETFROM:-0500
TZOFFSETTO:-0400
TZNAME:EDT
DTSTART:20260308T070000
END:DAYLIGHT
BEGIN:STANDARD
TZOFFSETFROM:-0400
TZOFFSETTO:-0500
TZNAME:EST
DTSTART:20261101T060000
END:STANDARD
BEGIN:DAYLIGHT
TZOFFSETFROM:-0500
TZOFFSETTO:-0400
TZNAME:EDT
DTSTART:20270314T070000
END:DAYLIGHT
BEGIN:STANDARD
TZOFFSETFROM:-0400
TZOFFSETTO:-0500
TZNAME:EST
DTSTART:20271107T060000
END:STANDARD
END:VTIMEZONE
BEGIN:VEVENT
DTSTART;TZID=America/New_York:20260422T183000
DTEND;TZID=America/New_York:20260422T200000
DTSTAMP:20260421T064409
CREATED:20260419T201135Z
LAST-MODIFIED:20260419T201135Z
UID:47111-1776882600-1776888000@shapeshifterplus.org
SUMMARY:Classical Music Vinyasa + Jazz Social 🎷
DESCRIPTION:Classical Music Vinyasa + Jazz Social 🎷\n​​🧘‍♀️ NY YOGA CLUB – VINYASA REFRESH + JAZZ SCHMOOZE AFTER \n​\n🎶 Flowing vinyasa practice + live music after\n🌊 Style: All-levels flow (accessible + revivifying)\n🙏 No yoga experience needed! Ideal for beginners and experienced yogis. We mean it!! \n​​​📣 How to Sign Up\nRegister on Luma or walk in. Credit card at door. BYOM or rent one for $5. \n​​​​📍 Where & When\nDoors at 6:30. We ease in with music and socializing\, practice starts around 6:45 and runs about an hour. Live jazz follows. \n​​​​🌿 What to Expect\nWe’re a club\, not a class. Come as you are\, say hello to the people around you\, and settle in. \n​​​Our Vinyasa practice is for all levels and run about an hour. Expect to move and breath through an energizing set of standing postures and rejuvenating poses on the floor. \n​​​We understand that life happens. Sometimes that means showing up late\, in your pjs\, or both. We leave some time at the beginning of our meetings to ease in and socialize. \n​​​​🎷 After Yoga\nStick around. Live jazz downstairs\, cash bar\, snacks to enjoy. \n​​⭐ Our Instructor\nDan Sohval came to yoga seeking ways to build inner discipline and mental balance. He is the founder of Yoga Club\, which has grown to over 1500 members since launching in 2025. A lifelong educator\, he brings to his instruction the same humor and curiosity that guides his teaching in the classroom. He received his 200-hour certification at VeraYoga with additional training in yin and trauma-informed practices. Off the mat\, he is a published author\, teaches computer science\, and is an avid fan Korean food \n​​​​💫 About Yoga Club\nCreative yoga events and gatherings designed to help you move\, unplug\, and actually meet people. Every one a little different. See what’s coming up.
URL:https://shapeshifterplus.org/event/ny_yoga_classical_music_vinyasa/
CATEGORIES:Collaboration Programs,Yoga
ATTACH;FMTTYPE=image/png:https://shapeshifterplus.org/wp-content/uploads/2026/04/Screenshot-2026-04-19-at-4.08.03-PM.png
END:VEVENT
END:VCALENDAR