BEGIN:VCALENDAR
VERSION:2.0
PRODID:-//ShapeShifter Plus - ECPv6.15.20//NONSGML v1.0//EN
CALSCALE:GREGORIAN
METHOD:PUBLISH
X-WR-CALNAME:ShapeShifter Plus
X-ORIGINAL-URL:https://shapeshifterplus.org
X-WR-CALDESC:Events for ShapeShifter Plus
REFRESH-INTERVAL;VALUE=DURATION:PT1H
X-Robots-Tag:noindex
X-PUBLISHED-TTL:PT1H
BEGIN:VTIMEZONE
TZID:America/New_York
BEGIN:DAYLIGHT
TZOFFSETFROM:-0500
TZOFFSETTO:-0400
TZNAME:EDT
DTSTART:20250309T070000
END:DAYLIGHT
BEGIN:STANDARD
TZOFFSETFROM:-0400
TZOFFSETTO:-0500
TZNAME:EST
DTSTART:20251102T060000
END:STANDARD
BEGIN:DAYLIGHT
TZOFFSETFROM:-0500
TZOFFSETTO:-0400
TZNAME:EDT
DTSTART:20260308T070000
END:DAYLIGHT
BEGIN:STANDARD
TZOFFSETFROM:-0400
TZOFFSETTO:-0500
TZNAME:EST
DTSTART:20261101T060000
END:STANDARD
BEGIN:DAYLIGHT
TZOFFSETFROM:-0500
TZOFFSETTO:-0400
TZNAME:EDT
DTSTART:20270314T070000
END:DAYLIGHT
BEGIN:STANDARD
TZOFFSETFROM:-0400
TZOFFSETTO:-0500
TZNAME:EST
DTSTART:20271107T060000
END:STANDARD
END:VTIMEZONE
BEGIN:VEVENT
DTSTART;TZID=America/New_York:20260408T183000
DTEND;TZID=America/New_York:20260408T200000
DTSTAMP:20260421T062406
CREATED:20260406T033933Z
LAST-MODIFIED:20260408T180740Z
UID:47037-1775673000-1775678400@shapeshifterplus.org
SUMMARY:Disco Flow + Jazz Social 🎷
DESCRIPTION:🧘‍♀️ NY YOGA CLUB – Vinyasa Refresh + JAZZ SCHMOOZE AFTER \n​\n🎶 Flowing vinyasa practice + live music after\n🌊 Style: All-levels flow (accessible + revivifying)\n🙏 No yoga experience needed! Ideal for beginners and experienced yogis. We mean it!! \n​​📣 How to Sign Up\nRegister on Luma and present your ticket at the door.\nOr just walk in\, we always love our walk-ins (pay by credit card) \nBYOM (Bring Your Own Mat) OR rent one from us for $5 \n​​​📍 Where & When\nTime: Doors open at 6:30 PM. The meeting begins once the room fills\, usually about 15–20 minutes after. The yoga practice runs for about one hour. Live jazz schmooze follows. \n​​​🌿 What to Expect\nWe’re a club\, not a class. Come as you are\, say hello to the people around you\, and settle in. \n​​Our Vinyasa Refresh meetings are for all levels and run about an hour. Expect to move and breath through an energizing set of standing postures and rejuvenating poses on the floor. \n​​We understand that life happens. Sometimes that means showing up late\, in your pjs\, or both. We leave some time at the beginning of our meetings to ease in and socialize. \n​​​🎷 After Yoga\nStick around. There will be live jazz downstairs and a cash bar with snacks for us to enjoy after practice. \n​⭐ Our Instructor\nDan Sohval came to yoga seeking ways to build inner discipline and mental balance. He is the founder of Yoga Club\, which has grown to over 1500 members since launching in 2025. A lifelong educator\, he brings to his instruction the same humor and curiosity that guides his teaching in the classroom. He received his 200-hour certification at VeraYoga with additional training in yin and trauma-informed practices. Off the mat\, he is a published author\, teaches computer science\, and is an avid fan Korean food \n​​​💫 About Yoga Club\nWe bring people together through high quality\, affordable yoga and community. We meet in creative spaces around the city to move\, breath\, and meet new people.
URL:https://shapeshifterplus.org/event/disco-flow-jazz-social-%f0%9f%8e%b7/
CATEGORIES:Collaboration Programs,Yoga
ATTACH;FMTTYPE=image/png:https://shapeshifterplus.org/wp-content/uploads/2026/04/Screenshot-2026-04-05-at-11.39.11-PM.png
END:VEVENT
END:VCALENDAR