BEGIN:VCALENDAR
VERSION:2.0
PRODID:-//ShapeShifter Plus - ECPv6.15.20//NONSGML v1.0//EN
CALSCALE:GREGORIAN
METHOD:PUBLISH
X-WR-CALNAME:ShapeShifter Plus
X-ORIGINAL-URL:https://shapeshifterplus.org
X-WR-CALDESC:Events for ShapeShifter Plus
REFRESH-INTERVAL;VALUE=DURATION:PT1H
X-Robots-Tag:noindex
X-PUBLISHED-TTL:PT1H
BEGIN:VTIMEZONE
TZID:America/New_York
BEGIN:DAYLIGHT
TZOFFSETFROM:-0500
TZOFFSETTO:-0400
TZNAME:EDT
DTSTART:20250309T070000
END:DAYLIGHT
BEGIN:STANDARD
TZOFFSETFROM:-0400
TZOFFSETTO:-0500
TZNAME:EST
DTSTART:20251102T060000
END:STANDARD
BEGIN:DAYLIGHT
TZOFFSETFROM:-0500
TZOFFSETTO:-0400
TZNAME:EDT
DTSTART:20260308T070000
END:DAYLIGHT
BEGIN:STANDARD
TZOFFSETFROM:-0400
TZOFFSETTO:-0500
TZNAME:EST
DTSTART:20261101T060000
END:STANDARD
BEGIN:DAYLIGHT
TZOFFSETFROM:-0500
TZOFFSETTO:-0400
TZNAME:EDT
DTSTART:20270314T070000
END:DAYLIGHT
BEGIN:STANDARD
TZOFFSETFROM:-0400
TZOFFSETTO:-0500
TZNAME:EST
DTSTART:20271107T060000
END:STANDARD
END:VTIMEZONE
BEGIN:VEVENT
DTSTART;TZID=America/New_York:20260315T140000
DTEND;TZID=America/New_York:20260315T153000
DTSTAMP:20260421T064355
CREATED:20260119T153129Z
LAST-MODIFIED:20260225T044041Z
UID:46727-1773583200-1773588600@shapeshifterplus.org
SUMMARY:The Park Slope Food Coop Concert Series #15 - Family and Kids Edition
DESCRIPTION:🎶 A Family Concert & Creative Activity Day\nPresented by the Park Slope Food Coop Concert Series Committee in Collaboration with the PSFC Fun Committee 🎨\nBring the whole crew — kids\, grown-ups\, grandparents\, neighbors — for an afternoon of live music and hands-on creativity designed especially for young ears and playful hearts. \nThis joyful\, community-powered event celebrates music as a shared language — one that brings generations together through rhythm\, movement\, imagination\, and fun. \n🌟\n🎵 Live Music for All Ages (Curated by the Concert Series Committee) An engaging\, welcoming concert experience where children are free to listen\, move\, dance\, and experience live music up close — right alongside parents and caregivers. \n\nThe Kugel crew\nBrandon López\nDebbie Brukman & Benjamin Heller\n\n🎨 Creative Activity Stations (Hosted by the Fun Committee) Three hands-on stations will be set up throughout the space so families can create before\, during\, or after the music: \n\nFace Painting & Fun Tattoos (with stencils!)\nColoring & Card-Making Station\nMask Decorating & Mask-Making\n\nKids can rotate between stations\, express themselves creatively\, and take their creations home. \nMembers and Non-members are all welcome! \n———————————————————————————————- \nThe Park Slope Food Coop Concert Series is one of the most exciting initiatives we undertake as a community. With so many gifted and talented members\, creating this series was a natural decision and a no-brainer. The baton of music and performance curation was passed on to Ludovica and Alexis by Beverly Grant—a great artist and long-time member since the inception of the Food Coop. Beverly is an artist\, photographer\, singer-songwriter\, composer\, and activist who has greatly contributed to our community. \nJason Weiner and the membership staff have played a key role in bringing this event to life. We thank them for sharing the same joy and respect for the arts\, which enriches all walks of life. Before the shutdown\, this concert series was a crucial and pinnacle way of bringing us closer together as a community that truly cares about the world around us. Art\, in every aspect of our human experience\, is a life-healing force. Alexis Cuadrado and Ludovica Burtone are both professional musicians\, composers\, producers\, and educators. They have expanded the vision of the curation to create a platform for freedom of expression for all. ShapeShifter Lab visionaries Fortuna Sung and Matthew Garrison have also become vital to our mission\, generously providing us with their performance space across the street from the Food Coop. Annie Keating does the magic with social media and Ave Carrillo is helping the group to the production side of things the concert series. \nInstagram \n  \n———————————————————————————————- \nThe Park Slope Food Coop Concert Series is one of the most exciting initiatives we undertake as a community. With so many gifted and talented members\, creating this series was a natural decision and a no-brainer. The baton of music and performance curation was passed on to Ludovica and Alexis by Beverly Grant—a great artist and long-time member since the inception of the Food Coop. Beverly is an artist\, photographer\, singer-songwriter\, composer\, and activist who has greatly contributed to our community. \nJason Weiner and the membership staff have played a key role in bringing this event to life. We thank them for sharing the same joy and respect for the arts\, which enriches all walks of life. Before the shutdown\, this concert series was a crucial and pinnacle way of bringing us closer together as a community that truly cares about the world around us. Art\, in every aspect of our human experience\, is a life-healing force. Alexis Cuadrado and Ludovica Burtone are both professional musicians\, composers\, producers\, and educators. They have expanded the vision of the curation to create a platform for freedom of expression for all. ShapeShifter Lab visionaries Fortuna Sung and Matthew Garrison have also become vital to our mission\, generously providing us with their performance space across the street from the Food Coop. Annie Keating does the magic with social media and Ave Carrillo is helping the group to the production side of things the concert series. \nInstagram
URL:https://shapeshifterplus.org/event/psfc-20260315/
LOCATION:ShapeShifter Lab\, 837 Union Street\, Ground Floor\, Brooklyn\, NY\, 11215\, United States
CATEGORIES:Collaboration Programs,Kids Concert,Live Music
ATTACH;FMTTYPE=image/png:https://shapeshifterplus.org/wp-content/uploads/2026/01/PSFC-Mar-15-kids-event-1.png
END:VEVENT
END:VCALENDAR