BEGIN:VCALENDAR
VERSION:2.0
PRODID:-//ShapeShifter Plus - ECPv6.15.20//NONSGML v1.0//EN
CALSCALE:GREGORIAN
METHOD:PUBLISH
X-ORIGINAL-URL:https://shapeshifterplus.org
X-WR-CALDESC:Events for ShapeShifter Plus
REFRESH-INTERVAL;VALUE=DURATION:PT1H
X-Robots-Tag:noindex
X-PUBLISHED-TTL:PT1H
BEGIN:VTIMEZONE
TZID:America/New_York
BEGIN:DAYLIGHT
TZOFFSETFROM:-0500
TZOFFSETTO:-0400
TZNAME:EDT
DTSTART:20250309T070000
END:DAYLIGHT
BEGIN:STANDARD
TZOFFSETFROM:-0400
TZOFFSETTO:-0500
TZNAME:EST
DTSTART:20251102T060000
END:STANDARD
BEGIN:DAYLIGHT
TZOFFSETFROM:-0500
TZOFFSETTO:-0400
TZNAME:EDT
DTSTART:20260308T070000
END:DAYLIGHT
BEGIN:STANDARD
TZOFFSETFROM:-0400
TZOFFSETTO:-0500
TZNAME:EST
DTSTART:20261101T060000
END:STANDARD
BEGIN:DAYLIGHT
TZOFFSETFROM:-0500
TZOFFSETTO:-0400
TZNAME:EDT
DTSTART:20270314T070000
END:DAYLIGHT
BEGIN:STANDARD
TZOFFSETFROM:-0400
TZOFFSETTO:-0500
TZNAME:EST
DTSTART:20271107T060000
END:STANDARD
END:VTIMEZONE
BEGIN:VEVENT
DTSTART;TZID=America/New_York:20260215T133000
DTEND;TZID=America/New_York:20260215T153000
DTSTAMP:20260421T080206
CREATED:20260202T212752Z
LAST-MODIFIED:20260202T212942Z
UID:46796-1771162200-1771169400@shapeshifterplus.org
SUMMARY:BC bOp! 2026 New York City Tour
DESCRIPTION:BC bOp! from Boston College delivers a broad\, punchy jazz sound—instrumental and vocal—spanning big band classics to modern fusion.\n\n\nBC bOp! 2026 New York City Tour\nPublic Event: February 15th\, 2025 at 1:30 pm \nDirectors \n\nSebastian Bonaiuto — Director\nLauren Busa — Assistant Director\nShannon Jacob — Vocal Director\n\nVocalists \n\nHenry Ackerman\nMadeline David\nEliana Goldberg\nJoshua Holstein\nRenee Martel\nLouise Miniter\nLesley Opindas\nTin Pham\nElizabeth Powell\nEmma Ramirez\nKatie Shepard\n\n  \nInstrumentalists \nSaxophones \n\nNathan DePaola\nDelaney Matthews\nHarry Smith\nMichael Tan\nElla Weinstein\n\nTrumpets \n\nConnor Aron\nAllison Eidt\nTrevor Hooker\nKiran Kothavale\nAvery Suza\nFelix Teng\n\nTrombones \n\nMax Jellinek-Knight\nJames Halkias\nDereck Islas\nDex Murphy\n\nRhythm Section \n\nAndrew Chesterton\nConnor Moquin\nJacob Nguyen\nCharlie Stautberg\nJett Takazawa\nGrace Vengco\n\n  \nAbout Ensemble:\nBC bOp! was organized in late October of 1987 by a number of Boston College musicians whorecognized the need for a musical ensemble dedicated to performing high-quality instrumentaland vocal jazz. Sophomore David Healey led the effort with help from other interested BCmusicians. BC bOp! began rehearsing on November 8th\, 1987. The band engaged the services ofSebastian Bonaiuto\, a former music educator and graduate of the Boston College Carroll Schoolof Management\, to direct the ensemble on a volunteer basis. After selecting an advisor\, BC bOp!was recognized as an official university club on January 10\, 1988\, Sebastian Bonaiuto continuedas BC bOp!’s musical Director. \n  \nIn July of 1989\, Sebastian Bonaiuto was appointed Boston College Director of Bands. Soonthereafter\, the members of BC bOp! voted to become an ensemble of the Boston College BandsProgram. The addition of BC bOp! to the Bands Program expanded the offerings to includeinstrumental and vocal jazz performance. \n  \nWe\, the members and directors of BC bOp!\, acknowledge that our repertoire is primarily basedon jazz–a genre created by Black musicians that has roots in spirituals and work songs. We areaware not only of the privilege we have\, but of the responsibility we carry in performing thisgenre on and off Boston College’s campus. We aspire to create a space in whichthought-provoking conversations are a part of our performances\, a space in which individuals ofthe Boston College community may reflect on our institution’s place in Black history and its rolein shaping Black futures. Through our music\, we seek to honor jazz’s origins\, foster meaningfuldialogue\, and uphold our commitment to celebrating and respecting Black artistry and history. \n  \nAbout
URL:https://shapeshifterplus.org/event/bc-bop-2026/
LOCATION:ShapeShifter Lab\, 837 Union Street\, Ground Floor\, Brooklyn\, NY\, 11215\, United States
CATEGORIES:Collaboration Programs,Live Music
ATTACH;FMTTYPE=image/jpeg:https://shapeshifterplus.org/wp-content/uploads/2026/02/52c6771cca8bdd74551af5d5b2fd8303-1RLvUH.tmp_.jpg
END:VEVENT
END:VCALENDAR