BEGIN:VCALENDAR
VERSION:2.0
PRODID:-//ShapeShifter Plus - ECPv6.15.20//NONSGML v1.0//EN
CALSCALE:GREGORIAN
METHOD:PUBLISH
X-ORIGINAL-URL:https://shapeshifterplus.org
X-WR-CALDESC:Events for ShapeShifter Plus
REFRESH-INTERVAL;VALUE=DURATION:PT1H
X-Robots-Tag:noindex
X-PUBLISHED-TTL:PT1H
BEGIN:VTIMEZONE
TZID:America/New_York
BEGIN:DAYLIGHT
TZOFFSETFROM:-0500
TZOFFSETTO:-0400
TZNAME:EDT
DTSTART:20250309T070000
END:DAYLIGHT
BEGIN:STANDARD
TZOFFSETFROM:-0400
TZOFFSETTO:-0500
TZNAME:EST
DTSTART:20251102T060000
END:STANDARD
BEGIN:DAYLIGHT
TZOFFSETFROM:-0500
TZOFFSETTO:-0400
TZNAME:EDT
DTSTART:20260308T070000
END:DAYLIGHT
BEGIN:STANDARD
TZOFFSETFROM:-0400
TZOFFSETTO:-0500
TZNAME:EST
DTSTART:20261101T060000
END:STANDARD
BEGIN:DAYLIGHT
TZOFFSETFROM:-0500
TZOFFSETTO:-0400
TZNAME:EDT
DTSTART:20270314T070000
END:DAYLIGHT
BEGIN:STANDARD
TZOFFSETFROM:-0400
TZOFFSETTO:-0500
TZNAME:EST
DTSTART:20271107T060000
END:STANDARD
END:VTIMEZONE
BEGIN:VEVENT
DTSTART;TZID=America/New_York:20260211T183000
DTEND;TZID=America/New_York:20260211T200000
DTSTAMP:20260421T080029
CREATED:20260207T235405Z
LAST-MODIFIED:20260207T235632Z
UID:46823-1770834600-1770840000@shapeshifterplus.org
SUMMARY:NY YOGA CLUB - Vinyasa Refresh + Jazz Social ​🎷
DESCRIPTION:About Event\n\n\n\n​🧘‍♀️ How to Sign Up\nRegister on Luma and present your ticket at the door. \nOr just walk in\, we always love our walk-ins (pay by credit card) \n🧘‍♀️ How to Sign Up\nRegister on Luma and present your ticket at the door.\nBYOM (Bring Your Own Mat) OR rent one from us for $5 \n​​📍 Where & When\nTime: Doors open at 6:30 PM. The meeting begins once the room fills\, usually about 15–20 minutes after.\nThe yoga practice runs for about one hour\, followed by an optional hangout. \n​​🌿 What to Expect\nWe’re a club\, not a class. Come as you are\, say hello to the people around you\, and settle in. Our all-levels practices run about an hour. \n​​We understand that life happens. Sometimes that means showing up late\, in your pajamas\, or both. We leave some time at the beginning of our meetings to ease in and socialize. \n​​🎷 After Yoga\nStick around if you’d like. There will be live jazz downstairs and a cash bar with snacks for us to enjoy after practice. \n​​💫 About Yoga Club\nWe bring people together through high quality\, affordable yoga and community. We meet in creative spaces around the city to move\, breath\, and make new friends. \nLINK HERE
URL:https://shapeshifterplus.org/event/ny-yoga-club-vinyasa-refresh-jazz-social-%f0%9f%8e%b7/
CATEGORIES:Collaboration Programs,Yoga
ATTACH;FMTTYPE=image/png:https://shapeshifterplus.org/wp-content/uploads/2025/11/Screenshot-2025-11-24-at-3.20.14-PM.png
END:VEVENT
END:VCALENDAR