BEGIN:VCALENDAR
VERSION:2.0
PRODID:-//ShapeShifter Plus - ECPv6.15.20//NONSGML v1.0//EN
CALSCALE:GREGORIAN
METHOD:PUBLISH
X-WR-CALNAME:ShapeShifter Plus
X-ORIGINAL-URL:https://shapeshifterplus.org
X-WR-CALDESC:Events for ShapeShifter Plus
REFRESH-INTERVAL;VALUE=DURATION:PT1H
X-Robots-Tag:noindex
X-PUBLISHED-TTL:PT1H
BEGIN:VTIMEZONE
TZID:America/New_York
BEGIN:DAYLIGHT
TZOFFSETFROM:-0500
TZOFFSETTO:-0400
TZNAME:EDT
DTSTART:20240310T070000
END:DAYLIGHT
BEGIN:STANDARD
TZOFFSETFROM:-0400
TZOFFSETTO:-0500
TZNAME:EST
DTSTART:20241103T060000
END:STANDARD
BEGIN:DAYLIGHT
TZOFFSETFROM:-0500
TZOFFSETTO:-0400
TZNAME:EDT
DTSTART:20250309T070000
END:DAYLIGHT
BEGIN:STANDARD
TZOFFSETFROM:-0400
TZOFFSETTO:-0500
TZNAME:EST
DTSTART:20251102T060000
END:STANDARD
BEGIN:DAYLIGHT
TZOFFSETFROM:-0500
TZOFFSETTO:-0400
TZNAME:EDT
DTSTART:20260308T070000
END:DAYLIGHT
BEGIN:STANDARD
TZOFFSETFROM:-0400
TZOFFSETTO:-0500
TZNAME:EST
DTSTART:20261101T060000
END:STANDARD
END:VTIMEZONE
BEGIN:VEVENT
DTSTART;TZID=America/New_York:20250928T190000
DTEND;TZID=America/New_York:20250928T230000
DTSTAMP:20260421T143308
CREATED:20250912T000722Z
LAST-MODIFIED:20250924T172906Z
UID:46063-1759086000-1759100400@shapeshifterplus.org
SUMMARY:Salsa Descarga  - Latin Soul Jazz Breakout Dance Party #2!
DESCRIPTION:(Harlem River Drive Sessions) RE IMAGINED\nPresented by:\nShapeShifter Plus\, Moment NYC and Scarlet Ibis\n\n\nBringing it with dance class by Maestra Lilka Mimbella ( 7:30 pm) \nJay Rodriguez-Sierra Salsa y Control Soul Crew! \n\nJohn Benitez\, \nJaniel Rosado\, \nChris Theberge\,\nAntonio Rodriguez\, \nSteve Sandberg\, \nAkili Bradley\,\nBilly Spaceman Patterson\, \nGenji Siraisi\n\n  \n\nGuest Jazz Soloist: Craig Harris\nPoet/ LB&H radio host – Martha Cinader\nPoet – Edwin Torres\nDJ Willy D. Beat – Keeping the Peace\n\n  \nCome JOIN the revolutionary movement of love\, body and soulemanating power of the people for the peopleby the people (Mi Gente) \n  \nThis program is supported\, in part\, by public funds from the New York City Department of Cultural Affairs in Partnership with the City Council. \n  \nAlso\, free Temaki Sushi Sampling from MamaHu!
URL:https://shapeshifterplus.org/event/salsa-descarga-2/
LOCATION:ShapeShifter Lab\, 837 Union Street\, Ground Floor\, Brooklyn\, NY\, 11215\, United States
CATEGORIES:Collaboration Programs,Live Music,Party
ATTACH;FMTTYPE=image/png:https://shapeshifterplus.org/wp-content/uploads/2025/09/Salsa-Sept-28-2025-1.png
END:VEVENT
END:VCALENDAR