BEGIN:VCALENDAR
VERSION:2.0
PRODID:-//ShapeShifter Plus - ECPv6.15.20//NONSGML v1.0//EN
CALSCALE:GREGORIAN
METHOD:PUBLISH
X-WR-CALNAME:ShapeShifter Plus
X-ORIGINAL-URL:https://shapeshifterplus.org
X-WR-CALDESC:Events for ShapeShifter Plus
REFRESH-INTERVAL;VALUE=DURATION:PT1H
X-Robots-Tag:noindex
X-PUBLISHED-TTL:PT1H
BEGIN:VTIMEZONE
TZID:America/New_York
BEGIN:DAYLIGHT
TZOFFSETFROM:-0500
TZOFFSETTO:-0400
TZNAME:EDT
DTSTART:20240310T070000
END:DAYLIGHT
BEGIN:STANDARD
TZOFFSETFROM:-0400
TZOFFSETTO:-0500
TZNAME:EST
DTSTART:20241103T060000
END:STANDARD
BEGIN:DAYLIGHT
TZOFFSETFROM:-0500
TZOFFSETTO:-0400
TZNAME:EDT
DTSTART:20250309T070000
END:DAYLIGHT
BEGIN:STANDARD
TZOFFSETFROM:-0400
TZOFFSETTO:-0500
TZNAME:EST
DTSTART:20251102T060000
END:STANDARD
BEGIN:DAYLIGHT
TZOFFSETFROM:-0500
TZOFFSETTO:-0400
TZNAME:EDT
DTSTART:20260308T070000
END:DAYLIGHT
BEGIN:STANDARD
TZOFFSETFROM:-0400
TZOFFSETTO:-0500
TZNAME:EST
DTSTART:20261101T060000
END:STANDARD
END:VTIMEZONE
BEGIN:VEVENT
DTSTART;TZID=America/New_York:20250921T143000
DTEND;TZID=America/New_York:20250921T160000
DTSTAMP:20260421T142340
CREATED:20250812T171457Z
LAST-MODIFIED:20250812T172012Z
UID:45963-1758465000-1758470400@shapeshifterplus.org
SUMMARY:Human Library NYC @ ShapeShifter Lab
DESCRIPTION:Be part of a unique experience where real people are the books you can “check out” and learn from! The Human Library is empathy in action!\n\n\nHuman Library NYC @ ShapeShifter Lab \nWelcome to the Human Library NYC reading event at ShapeShifter Lab in NYC! Join us for a unique experience where instead of books\, you can “check out” human beings to hear their stories. It’s like a traditional library\, but with real people sharing their experiences and knowledge. Come engage in conversations that challenge stereotypes and promote understanding and empathy. Don’t miss this opportunity to connect with others in a meaningful way. Human Library NYC is proud to partner with ShapeShifter Plus\, Inc. 501(c)(3)\, which is generously donating their beautiful space to bring you this live reading. See you there!
URL:https://shapeshifterplus.org/event/human-library-nyc-shapeshifter-lab-2/
LOCATION:ShapeShifter Lab\, 837 Union Street\, Ground Floor\, Brooklyn\, NY\, 11215\, United States
CATEGORIES:Collaboration Programs
END:VEVENT
END:VCALENDAR