BEGIN:VCALENDAR
VERSION:2.0
PRODID:-//ShapeShifter Plus - ECPv6.15.20//NONSGML v1.0//EN
CALSCALE:GREGORIAN
METHOD:PUBLISH
X-WR-CALNAME:ShapeShifter Plus
X-ORIGINAL-URL:https://shapeshifterplus.org
X-WR-CALDESC:Events for ShapeShifter Plus
REFRESH-INTERVAL;VALUE=DURATION:PT1H
X-Robots-Tag:noindex
X-PUBLISHED-TTL:PT1H
BEGIN:VTIMEZONE
TZID:America/New_York
BEGIN:DAYLIGHT
TZOFFSETFROM:-0500
TZOFFSETTO:-0400
TZNAME:EDT
DTSTART:20240310T070000
END:DAYLIGHT
BEGIN:STANDARD
TZOFFSETFROM:-0400
TZOFFSETTO:-0500
TZNAME:EST
DTSTART:20241103T060000
END:STANDARD
BEGIN:DAYLIGHT
TZOFFSETFROM:-0500
TZOFFSETTO:-0400
TZNAME:EDT
DTSTART:20250309T070000
END:DAYLIGHT
BEGIN:STANDARD
TZOFFSETFROM:-0400
TZOFFSETTO:-0500
TZNAME:EST
DTSTART:20251102T060000
END:STANDARD
BEGIN:DAYLIGHT
TZOFFSETFROM:-0500
TZOFFSETTO:-0400
TZNAME:EDT
DTSTART:20260308T070000
END:DAYLIGHT
BEGIN:STANDARD
TZOFFSETFROM:-0400
TZOFFSETTO:-0500
TZNAME:EST
DTSTART:20261101T060000
END:STANDARD
END:VTIMEZONE
BEGIN:VEVENT
DTSTART;TZID=America/New_York:20250215T183000
DTEND;TZID=America/New_York:20250215T203000
DTSTAMP:20260421T235740
CREATED:20250131T224053Z
LAST-MODIFIED:20250214T150937Z
UID:43758-1739644200-1739651400@shapeshifterplus.org
SUMMARY:PSFC Square Dance
DESCRIPTION:Come out and square dance at the ShapeShifter Lab on February 15th! Bring friends and family and learn how to “do-si-do”\, “rip and snort\,” and more. Alex “Sargent Seedoo” Udis and Emily Hosmer-Dillard will call and teach all dances.\nDance to the tunes of award-winning old-time and bluegrass string band musicians Jennifer Wilkin\, Andrea Asprelli\, Eli Hetko\, A’yen Tran\, Sarah Alden\, Dave Speranza\, joebass\, James Shipp\, Jean Rohe\, Krissie Nagy and friends.\nEvery dance will be taught and beginner-friendly. No experience or partner necessary.\n\nFREE!\nFebruary 15\, 2025\nDoors 6:30\nMusic 7pm – 8:30pm\nAll ages welcome\, children under 16 must bring a guardian\nRefreshments and light bites available for purchase\n\nThis event is brought to you by the PSFC Fun Committee with ShapeshifterPlus.\nRSVP on eventbrite: tinyurl.com/foodcoopsquaredance\nFacebook invitation\n\n\n\nWe’ll have Mama Hu’s for Food for this special event!
URL:https://shapeshifterplus.org/event/square-dance/
LOCATION:ShapeShifter Lab\, 837 Union Street\, Ground Floor\, Brooklyn\, NY\, 11215\, United States
CATEGORIES:Collaboration Programs,Live Music
ATTACH;FMTTYPE=application/pdf:https://shapeshifterplus.org/wp-content/uploads/2025/01/PSFC-SQUARE-DANCE.pdf
END:VEVENT
END:VCALENDAR