BEGIN:VCALENDAR
VERSION:2.0
PRODID:-//ShapeShifter Plus - ECPv6.15.20//NONSGML v1.0//EN
CALSCALE:GREGORIAN
METHOD:PUBLISH
X-WR-CALNAME:ShapeShifter Plus
X-ORIGINAL-URL:https://shapeshifterplus.org
X-WR-CALDESC:Events for ShapeShifter Plus
REFRESH-INTERVAL;VALUE=DURATION:PT1H
X-Robots-Tag:noindex
X-PUBLISHED-TTL:PT1H
BEGIN:VTIMEZONE
TZID:America/Halifax
BEGIN:DAYLIGHT
TZOFFSETFROM:-0400
TZOFFSETTO:-0300
TZNAME:ADT
DTSTART:20230312T060000
END:DAYLIGHT
BEGIN:STANDARD
TZOFFSETFROM:-0300
TZOFFSETTO:-0400
TZNAME:AST
DTSTART:20231105T050000
END:STANDARD
BEGIN:DAYLIGHT
TZOFFSETFROM:-0400
TZOFFSETTO:-0300
TZNAME:ADT
DTSTART:20240310T060000
END:DAYLIGHT
BEGIN:STANDARD
TZOFFSETFROM:-0300
TZOFFSETTO:-0400
TZNAME:AST
DTSTART:20241103T050000
END:STANDARD
BEGIN:DAYLIGHT
TZOFFSETFROM:-0400
TZOFFSETTO:-0300
TZNAME:ADT
DTSTART:20250309T060000
END:DAYLIGHT
BEGIN:STANDARD
TZOFFSETFROM:-0300
TZOFFSETTO:-0400
TZNAME:AST
DTSTART:20251102T050000
END:STANDARD
END:VTIMEZONE
BEGIN:VEVENT
DTSTART;TZID=America/Halifax:20241005T130000
DTEND;TZID=America/Halifax:20241005T144500
DTSTAMP:20260422T060854
CREATED:20240916T234829Z
LAST-MODIFIED:20240917T001947Z
UID:17149-1728133200-1728139500@shapeshifterplus.org
SUMMARY:Human Library NY @ ShapeShifter Reading
DESCRIPTION:“Human Library NYC is proud to partner with ShapeShifter Lab to bring you this live reading. Join us for an engaging and unique event at ShapeShifter Lab in NYC! The Human Library is a concept where people act as ‘books\,’ sharing their stories and experiences with readers.’ It’s a chance to learn from real-life narratives and connect with others in a meaningful way. Come be a part of this special event and broaden your perspectives!” \nFREE; Register HERE \n\nhttps://www.humanlibrarynyc.org/ \nhttps://humanlibrary.org/
URL:https://shapeshifterplus.org/event/human-library-ny/
LOCATION:ShapeShifter Lab\, 837 Union Street\, Ground Floor\, Brooklyn\, NY\, 11215\, United States
CATEGORIES:Collaboration Programs,Education
ATTACH;FMTTYPE=image/png:https://shapeshifterplus.org/wp-content/uploads/2024/09/Screenshot-2024-09-16-at-8.15.49 PM.png
END:VEVENT
END:VCALENDAR